BEGIN:VCALENDAR
VERSION:2.0
PRODID:-//Fordham Now - ECPv6.15.20//NONSGML v1.0//EN
CALSCALE:GREGORIAN
METHOD:PUBLISH
X-ORIGINAL-URL:https://newsuat.fordham.edu
X-WR-CALDESC:Events for Fordham Now
REFRESH-INTERVAL;VALUE=DURATION:PT1H
X-Robots-Tag:noindex
X-PUBLISHED-TTL:PT1H
BEGIN:VTIMEZONE
TZID:America/New_York
BEGIN:DAYLIGHT
TZOFFSETFROM:-0500
TZOFFSETTO:-0400
TZNAME:EDT
DTSTART:20210314T070000
END:DAYLIGHT
BEGIN:STANDARD
TZOFFSETFROM:-0400
TZOFFSETTO:-0500
TZNAME:EST
DTSTART:20211107T060000
END:STANDARD
BEGIN:DAYLIGHT
TZOFFSETFROM:-0500
TZOFFSETTO:-0400
TZNAME:EDT
DTSTART:20220313T070000
END:DAYLIGHT
BEGIN:STANDARD
TZOFFSETFROM:-0400
TZOFFSETTO:-0500
TZNAME:EST
DTSTART:20221106T060000
END:STANDARD
BEGIN:DAYLIGHT
TZOFFSETFROM:-0500
TZOFFSETTO:-0400
TZNAME:EDT
DTSTART:20230312T070000
END:DAYLIGHT
BEGIN:STANDARD
TZOFFSETFROM:-0400
TZOFFSETTO:-0500
TZNAME:EST
DTSTART:20231105T060000
END:STANDARD
END:VTIMEZONE
BEGIN:VEVENT
DTSTART;TZID=America/New_York:20220603T000000
DTEND;TZID=America/New_York:20220605T000000
DTSTAMP:20260421T214750
CREATED:20220420T183444Z
LAST-MODIFIED:20220420T183444Z
UID:10004723-1654214400-1654387200@newsuat.fordham.edu
SUMMARY:Jubilee
DESCRIPTION:Attend the reunion celebration for class years ending in twos and sevens. The Office of Alumni Relations extends the invitation this year to all celebrants from years ending in zero\, one\, five\, and six who did not have the opportunity to honor their Jubilee in person due to COVID-19. \nAll Marymount College Tarrytown are welcomed and invited to attend Jubilee weekend.
URL:https://newsuat.fordham.edu/event/jubilee/
LOCATION:Rose Hill Campus\, Fordham University\, The Bronx\, NY\, USA\, Bronx\, NY\, 10458\, United States
CATEGORIES:Reunions
ORGANIZER;CN="Taylor Palmer":MAILTO:tpalmer7@fordham.edu
GEO:40.861203;-73.8892181
X-APPLE-STRUCTURED-LOCATION;VALUE=URI;X-ADDRESS=Rose Hill Campus Fordham University The Bronx NY USA Bronx NY 10458 United States;X-APPLE-RADIUS=500;X-TITLE=Fordham University\, The Bronx\, NY\, USA:geo:-73.8892181,40.861203
END:VEVENT
BEGIN:VEVENT
DTSTART;TZID=America/New_York:20220609T150000
DTEND;TZID=America/New_York:20220609T220000
DTSTAMP:20260421T214750
CREATED:20220420T183636Z
LAST-MODIFIED:20220420T183636Z
UID:10004724-1654786800-1654812000@newsuat.fordham.edu
SUMMARY:Block Party
DESCRIPTION:Attend the reunion for the five Lincoln Center-based schools! \n 
URL:https://newsuat.fordham.edu/event/block-party/
LOCATION:Lincoln Center and Rose Hill\, 140 W. 62nd Street\, New York\, NY\, 10023\, United States
CATEGORIES:Reunions
ORGANIZER;CN="Taylor Palmer":MAILTO:tpalmer7@fordham.edu
GEO:40.7713958;-73.9844894
X-APPLE-STRUCTURED-LOCATION;VALUE=URI;X-ADDRESS=Lincoln Center and Rose Hill 140 W. 62nd Street New York NY 10023 United States;X-APPLE-RADIUS=500;X-TITLE=140 W. 62nd Street:geo:-73.9844894,40.7713958
END:VEVENT
END:VCALENDAR