BEGIN:VCALENDAR
VERSION:2.0
PRODID:-//Fordham Now - ECPv6.15.20//NONSGML v1.0//EN
CALSCALE:GREGORIAN
METHOD:PUBLISH
X-WR-CALNAME:Fordham Now
X-ORIGINAL-URL:https://newsuat.fordham.edu
X-WR-CALDESC:Events for Fordham Now
REFRESH-INTERVAL;VALUE=DURATION:PT1H
X-Robots-Tag:noindex
X-PUBLISHED-TTL:PT1H
BEGIN:VTIMEZONE
TZID:America/New_York
BEGIN:DAYLIGHT
TZOFFSETFROM:-0500
TZOFFSETTO:-0400
TZNAME:EDT
DTSTART:20190310T070000
END:DAYLIGHT
BEGIN:STANDARD
TZOFFSETFROM:-0400
TZOFFSETTO:-0500
TZNAME:EST
DTSTART:20191103T060000
END:STANDARD
BEGIN:DAYLIGHT
TZOFFSETFROM:-0500
TZOFFSETTO:-0400
TZNAME:EDT
DTSTART:20200308T070000
END:DAYLIGHT
BEGIN:STANDARD
TZOFFSETFROM:-0400
TZOFFSETTO:-0500
TZNAME:EST
DTSTART:20201101T060000
END:STANDARD
BEGIN:DAYLIGHT
TZOFFSETFROM:-0500
TZOFFSETTO:-0400
TZNAME:EDT
DTSTART:20210314T070000
END:DAYLIGHT
BEGIN:STANDARD
TZOFFSETFROM:-0400
TZOFFSETTO:-0500
TZNAME:EST
DTSTART:20211107T060000
END:STANDARD
END:VTIMEZONE
BEGIN:VEVENT
DTSTART;TZID=America/New_York:20200430T180000
DTEND;TZID=America/New_York:20200430T213000
DTSTAMP:20260424T044948
CREATED:20191001T154654Z
LAST-MODIFIED:20191001T154654Z
UID:10007262-1588269600-1588282200@newsuat.fordham.edu
SUMMARY:POSTPONED: 2020 Fordham Law School Reunion
DESCRIPTION:Join us for the 2020 Fordham Law School Reunion\, celebrating the Classes of 1970\, 1975\, 1980\, 1985\, 1990\, 1995\, 2000\, 2005\, 2010\, 2015\, and 2019.
URL:https://newsuat.fordham.edu/event/2020-fordham-law-school-reunion/
LOCATION:New York Hilton Midtown\, 1335 Avenue of the Americas\, New York\, NY\, United States
CATEGORIES:Receptions,Reunions
ATTACH;FMTTYPE=image/jpeg:https://newsuat.fordham.edu/wp-content/uploads/2019/09/Reunion-2020-logo-1.jpg
ORGANIZER;CN="Carrie Schulman":MAILTO:cschulman1@law.fordham.edu
END:VEVENT
END:VCALENDAR