BEGIN:VCALENDAR
VERSION:2.0
PRODID:-//Fordham Now - ECPv6.15.20//NONSGML v1.0//EN
CALSCALE:GREGORIAN
METHOD:PUBLISH
X-ORIGINAL-URL:https://newsuat.fordham.edu
X-WR-CALDESC:Events for Fordham Now
REFRESH-INTERVAL;VALUE=DURATION:PT1H
X-Robots-Tag:noindex
X-PUBLISHED-TTL:PT1H
BEGIN:VTIMEZONE
TZID:America/New_York
BEGIN:DAYLIGHT
TZOFFSETFROM:-0500
TZOFFSETTO:-0400
TZNAME:EDT
DTSTART:20180311T070000
END:DAYLIGHT
BEGIN:STANDARD
TZOFFSETFROM:-0400
TZOFFSETTO:-0500
TZNAME:EST
DTSTART:20181104T060000
END:STANDARD
BEGIN:DAYLIGHT
TZOFFSETFROM:-0500
TZOFFSETTO:-0400
TZNAME:EDT
DTSTART:20190310T070000
END:DAYLIGHT
BEGIN:STANDARD
TZOFFSETFROM:-0400
TZOFFSETTO:-0500
TZNAME:EST
DTSTART:20191103T060000
END:STANDARD
BEGIN:DAYLIGHT
TZOFFSETFROM:-0500
TZOFFSETTO:-0400
TZNAME:EDT
DTSTART:20200308T070000
END:DAYLIGHT
BEGIN:STANDARD
TZOFFSETFROM:-0400
TZOFFSETTO:-0500
TZNAME:EST
DTSTART:20201101T060000
END:STANDARD
END:VTIMEZONE
BEGIN:VEVENT
DTSTART;VALUE=DATE:20191116
DTEND;VALUE=DATE:20191117
DTSTAMP:20260424T131800
CREATED:20191112T211851Z
LAST-MODIFIED:20191112T211851Z
UID:10003784-1573862400-1573948799@newsuat.fordham.edu
SUMMARY:Fordham Circle K Alumni Gathering
DESCRIPTION:Fordham Circle K will be staffing a table under the Homecoming tent and inviting alumni and former Circle K members to stop by and learn more about events leading up to our 50th anniversary year on the Rose Hill campus. Tom DeJulio\, FCRH ’73\, LAW ’77\, and Rosemary DeJulio\, Ph.D.\, GSE ’00\, will be available to greet alumni from their five decades as club advisors. Current Fordham Circle K members will be on hand to inform alumni of their current service projects\, including their Thanksgiving baby food drive to benefit P.O.T.S (Part of the Solution). Come and help support a very special service year!
URL:https://newsuat.fordham.edu/event/fordham-circle-k-alumni-gathering/
LOCATION:Edwards Parade\, 441 East Fordham Road\, Bronx\, NY\, 10458\, United States
CATEGORIES:Reunions
ORGANIZER;CN="Office of Alumni Relations":MAILTO:alumnioffice@fordham.edu
GEO:40.8612275;-73.8892354
X-APPLE-STRUCTURED-LOCATION;VALUE=URI;X-ADDRESS=Edwards Parade 441 East Fordham Road Bronx NY 10458 United States;X-APPLE-RADIUS=500;X-TITLE=441 East Fordham Road:geo:-73.8892354,40.8612275
END:VEVENT
BEGIN:VEVENT
DTSTART;TZID=America/New_York:20191116T110000
DTEND;TZID=America/New_York:20191116T170000
DTSTAMP:20260424T131800
CREATED:20190827T211332Z
LAST-MODIFIED:20190827T211332Z
UID:10007165-1573902000-1573923600@newsuat.fordham.edu
SUMMARY:Fordham University Homecoming 2019
DESCRIPTION:Make plans to join us at Rose Hill for the Eighth Annual 5K Ram Run\, campus tours\, the Homecoming Tent on Edwards Parade\, and the match-up between the Fordham Rams and the Holy Cross Crusaders. The tent will open at 11 a.m.\, and kickoff will be at 1 p.m. \nExplore the fun of #FordhamHomecoming 2018! On Saturday\, September 22\, 2018\, Fordham University welcomed back over 5\,000 alumni\, students\, and friends for a fun-filled day at Rose Hill.
URL:https://newsuat.fordham.edu/event/fordham-university-homecoming-2019/
LOCATION:Edwards Parade\, 441 East Fordham Road\, Bronx\, NY\, 10458\, United States
CATEGORIES:Athletics,Receptions,Reunions,Social
ATTACH;FMTTYPE=image/png:https://newsuat.fordham.edu/wp-content/uploads/2019/08/HC-Event-Photo.png
ORGANIZER;CN="Taylor Palmer":MAILTO:tpalmer7@fordham.edu
GEO:40.8612275;-73.8892354
X-APPLE-STRUCTURED-LOCATION;VALUE=URI;X-ADDRESS=Edwards Parade 441 East Fordham Road Bronx NY 10458 United States;X-APPLE-RADIUS=500;X-TITLE=441 East Fordham Road:geo:-73.8892354,40.8612275
END:VEVENT
BEGIN:VEVENT
DTSTART;TZID=America/New_York:20191121T180000
DTEND;TZID=America/New_York:20191121T200000
DTSTAMP:20260424T131800
CREATED:20190927T141341Z
LAST-MODIFIED:20190927T141341Z
UID:10007243-1574359200-1574366400@newsuat.fordham.edu
SUMMARY:MOSAIC Fall Reception
DESCRIPTION:Join MOSAIC for its annual get-together! Get to know each other and discuss the pre-selected hot topic while enjoying drinks and light bites. More details to follow\, so keep an eye out for further event information.
URL:https://newsuat.fordham.edu/event/mosaic-fall-reception-2/
LOCATION:NY
CATEGORIES:Receptions,Reunions
ORGANIZER;CN="Taylor Palmer":MAILTO:tpalmer7@fordham.edu
END:VEVENT
END:VCALENDAR