BEGIN:VCALENDAR
VERSION:2.0
PRODID:-//Fordham Now - ECPv6.15.20//NONSGML v1.0//EN
CALSCALE:GREGORIAN
METHOD:PUBLISH
X-ORIGINAL-URL:https://newsuat.fordham.edu
X-WR-CALDESC:Events for Fordham Now
REFRESH-INTERVAL;VALUE=DURATION:PT1H
X-Robots-Tag:noindex
X-PUBLISHED-TTL:PT1H
BEGIN:VTIMEZONE
TZID:America/New_York
BEGIN:DAYLIGHT
TZOFFSETFROM:-0500
TZOFFSETTO:-0400
TZNAME:EDT
DTSTART:20180311T070000
END:DAYLIGHT
BEGIN:STANDARD
TZOFFSETFROM:-0400
TZOFFSETTO:-0500
TZNAME:EST
DTSTART:20181104T060000
END:STANDARD
BEGIN:DAYLIGHT
TZOFFSETFROM:-0500
TZOFFSETTO:-0400
TZNAME:EDT
DTSTART:20190310T070000
END:DAYLIGHT
BEGIN:STANDARD
TZOFFSETFROM:-0400
TZOFFSETTO:-0500
TZNAME:EST
DTSTART:20191103T060000
END:STANDARD
BEGIN:DAYLIGHT
TZOFFSETFROM:-0500
TZOFFSETTO:-0400
TZNAME:EDT
DTSTART:20200308T070000
END:DAYLIGHT
BEGIN:STANDARD
TZOFFSETFROM:-0400
TZOFFSETTO:-0500
TZNAME:EST
DTSTART:20201101T060000
END:STANDARD
END:VTIMEZONE
BEGIN:VEVENT
DTSTART;TZID=America/New_York:20191015T090000
DTEND;TZID=America/New_York:20191015T200000
DTSTAMP:20260424T150825
CREATED:20190620T180745Z
LAST-MODIFIED:20190620T180745Z
UID:10007103-1571130000-1571169600@newsuat.fordham.edu
SUMMARY:2019 Golf Classic
DESCRIPTION:Please join fellow Fordham alumni\, parents\, and friends at the 35th annual Fordham University Golf Classic! This exciting event benefits the Department of Athletics\, and a special gift will be made to the Campus Ministry program. See you on the links!
URL:https://newsuat.fordham.edu/event/2019-golf-classic/
LOCATION:Winged Foot Golf Club\, 851 Fenimore Rd\, Mamaroneck\, NY\, 10543\, United States
CATEGORIES:Athletics,Cultural,Receptions,Reunions,Social
ATTACH;FMTTYPE=image/jpeg:https://newsuat.fordham.edu/wp-content/uploads/2019/06/Winged-Foot-Golf-Club-West-Hole-9-702x336.jpg
ORGANIZER;CN="Kara Field":MAILTO:kfield1@fordham.edu
END:VEVENT
BEGIN:VEVENT
DTSTART;TZID=America/New_York:20191019T100000
DTEND;TZID=America/New_York:20191019T200000
DTSTAMP:20260424T150825
CREATED:20190930T140831Z
LAST-MODIFIED:20190930T140831Z
UID:10007246-1571479200-1571515200@newsuat.fordham.edu
SUMMARY:Glee Club and Rambler's Biannual Reunion
DESCRIPTION:Alumni from the Glee Club and the Ramblers invite you to a reunion celebration! \n10 a.m.: Rehearsal | Fordham Prep Auditorium\n3:30 p.m.: Reunion Concert | Fordham Prep Auditorium\n5 p.m.: Mass | University Church\n6:15 p.m.: Cocktails\, Dinner\, and Celebration | Bepler Commons
URL:https://newsuat.fordham.edu/event/glee-club-and-ramblers-biannual-reunion/
LOCATION:Rose Hill Campus\, Fordham University\, The Bronx\, NY\, USA\, Bronx\, NY\, 10458\, United States
CATEGORIES:Receptions,Reunions
ATTACH;FMTTYPE=image/png:https://newsuat.fordham.edu/wp-content/uploads/2019/09/Ramblers-email-photo.png
ORGANIZER;CN="Taylor Palmer":MAILTO:tpalmer7@fordham.edu
GEO:40.861203;-73.8892181
X-APPLE-STRUCTURED-LOCATION;VALUE=URI;X-ADDRESS=Rose Hill Campus Fordham University The Bronx NY USA Bronx NY 10458 United States;X-APPLE-RADIUS=500;X-TITLE=Fordham University\, The Bronx\, NY\, USA:geo:-73.8892181,40.861203
END:VEVENT
BEGIN:VEVENT
DTSTART;TZID=America/New_York:20191026T180000
DTEND;TZID=America/New_York:20191026T200000
DTSTAMP:20260424T150825
CREATED:20190930T141415Z
LAST-MODIFIED:20190930T141415Z
UID:10007245-1572112800-1572120000@newsuat.fordham.edu
SUMMARY:Satin Dolls Reunion
DESCRIPTION:Let’s get together for our third official Satin Dolls Alumni Chapter Reunion! Join us to remember old times and celebrate the current group! \nThe event include two hours of wine and beer as well as heavy hors d’ouevres. Early bird tickets cost $35 until October 7\, with prices at $40 until October 21 and rising to $45 for the last week. Get your tickets early!
URL:https://newsuat.fordham.edu/event/satin-dolls-reunion/
LOCATION:Michael Angelo’s\, 2477 Arthur Avenue\, Bronx\, NY\, 10458\, United States
CATEGORIES:Receptions,Reunions
ATTACH;FMTTYPE=image/png:https://newsuat.fordham.edu/wp-content/uploads/2019/09/Satin-Dolls-Email-Photo-2.png
ORGANIZER;CN="Taylor Palmer":MAILTO:tpalmer7@fordham.edu
GEO:40.8573584;-73.8863021
X-APPLE-STRUCTURED-LOCATION;VALUE=URI;X-ADDRESS=Michael Angelo’s 2477 Arthur Avenue Bronx NY 10458 United States;X-APPLE-RADIUS=500;X-TITLE=2477 Arthur Avenue:geo:-73.8863021,40.8573584
END:VEVENT
END:VCALENDAR