BEGIN:VCALENDAR
VERSION:2.0
PRODID:-//Fordham Now - ECPv6.15.20//NONSGML v1.0//EN
CALSCALE:GREGORIAN
METHOD:PUBLISH
X-ORIGINAL-URL:https://newsuat.fordham.edu
X-WR-CALDESC:Events for Fordham Now
REFRESH-INTERVAL;VALUE=DURATION:PT1H
X-Robots-Tag:noindex
X-PUBLISHED-TTL:PT1H
BEGIN:VTIMEZONE
TZID:America/New_York
BEGIN:DAYLIGHT
TZOFFSETFROM:-0500
TZOFFSETTO:-0400
TZNAME:EDT
DTSTART:20180311T070000
END:DAYLIGHT
BEGIN:STANDARD
TZOFFSETFROM:-0400
TZOFFSETTO:-0500
TZNAME:EST
DTSTART:20181104T060000
END:STANDARD
BEGIN:DAYLIGHT
TZOFFSETFROM:-0500
TZOFFSETTO:-0400
TZNAME:EDT
DTSTART:20190310T070000
END:DAYLIGHT
BEGIN:STANDARD
TZOFFSETFROM:-0400
TZOFFSETTO:-0500
TZNAME:EST
DTSTART:20191103T060000
END:STANDARD
BEGIN:DAYLIGHT
TZOFFSETFROM:-0500
TZOFFSETTO:-0400
TZNAME:EDT
DTSTART:20200308T070000
END:DAYLIGHT
BEGIN:STANDARD
TZOFFSETFROM:-0400
TZOFFSETTO:-0500
TZNAME:EST
DTSTART:20201101T060000
END:STANDARD
END:VTIMEZONE
BEGIN:VEVENT
DTSTART;VALUE=DATE:20190531
DTEND;VALUE=DATE:20190603
DTSTAMP:20260424T220149
CREATED:20190220T195213Z
LAST-MODIFIED:20190220T195213Z
UID:10006932-1559260800-1559519999@newsuat.fordham.edu
SUMMARY:Jubilee 2019
DESCRIPTION:Come back to the Rose Hill campus for reunion weekend! We’ll be celebrating undergraduate schools with class years ending in 4 or 9\, as well as our Golden Rams and all Marymount\, Graduate School of Religion and Religious Education (GRE)\, and Graduate School of Arts and Sciences (GSAS) alumni.
URL:https://newsuat.fordham.edu/event/jubilee-2019/
LOCATION:Rose Hill Campus\, Fordham University\, The Bronx\, NY\, USA\, Bronx\, NY\, 10458\, United States
CATEGORIES:Receptions,Reunions,Social
ATTACH;FMTTYPE=image/png:https://newsuat.fordham.edu/wp-content/uploads/2019/02/Alumni-Calendar-Image-Template.png
GEO:40.861203;-73.8892181
X-APPLE-STRUCTURED-LOCATION;VALUE=URI;X-ADDRESS=Rose Hill Campus Fordham University The Bronx NY USA Bronx NY 10458 United States;X-APPLE-RADIUS=500;X-TITLE=Fordham University\, The Bronx\, NY\, USA:geo:-73.8892181,40.861203
END:VEVENT
BEGIN:VEVENT
DTSTART;TZID=America/New_York:20190612T170000
DTEND;TZID=America/New_York:20190612T220000
DTSTAMP:20260424T220149
CREATED:20190220T201650Z
LAST-MODIFIED:20190220T201650Z
UID:10006933-1560358800-1560376800@newsuat.fordham.edu
SUMMARY:Block Party at Lincoln Center 2019
DESCRIPTION:The Block Party reunion celebrates all alumni from Fordham College at Lincoln Center\, the Gabelli School of Business (undergraduate and graduate)\, the Graduate School of Education\, the Graduate School of Social Service\, and the Fordham College of Professional and Continuing Studies. Start the evening off at your school-specific reception\, mingling with classmates and faculty\, then join the fun on the Plaza where alumni from all five Lincoln Center schools will dance the night away.
URL:https://newsuat.fordham.edu/event/block-party-at-lincoln-center-2019/
LOCATION:Lincoln Center Campus\, 113 West 60th Street\, New York\, NY\, 10023\, United States
CATEGORIES:Receptions,Reunions,Social
ATTACH;FMTTYPE=image/png:https://newsuat.fordham.edu/wp-content/uploads/2019/02/Alumni-Calendar-Image-Template-1.png
GEO:40.7708109;-73.9851512
X-APPLE-STRUCTURED-LOCATION;VALUE=URI;X-ADDRESS=Lincoln Center Campus 113 West 60th Street New York NY 10023 United States;X-APPLE-RADIUS=500;X-TITLE=113 West 60th Street:geo:-73.9851512,40.7708109
END:VEVENT
BEGIN:VEVENT
DTSTART;TZID=America/New_York:20190612T170000
DTEND;TZID=America/New_York:20190612T220000
DTSTAMP:20260424T220149
CREATED:20190416T194815Z
LAST-MODIFIED:20190416T194815Z
UID:10007061-1560358800-1560376800@newsuat.fordham.edu
SUMMARY:2019 GSS Reunion Block Party at Lincoln Center
DESCRIPTION:Join your fellow alumni and faculty at the annual Graduate School of Social Service (GSS) Alumni Reunion. Start the night with live jazz in the Lowenstein Center’s Pope Auditorium\, then move to the Bateman Room in the Law School to enjoy an evening of networking\, tasty food and drinks\, and comments from Father Joseph M. McShane\, S.J.\, president of Fordham University. \nFollowing the GSS reunion\, all alumni are invited to the Plaza for the Block Party at Lincoln Center celebration. Join alumni from five Fordham schools and dance the night away under the stars! \nA special early bird discount is available\, so register now and be part of the biggest party of the summer. Get your tickets by April 30 and pay only $25 for the entire evening! \n5 – 6 p.m. Jazz Performance\n6 – 8 p.m. GSS Reunion\n8 – 10 p.m. Block Party \n 
URL:https://newsuat.fordham.edu/event/2019-gss-reunion-block-party-at-lincoln-center/
LOCATION:Lincoln Center Campus\, 113 West 60th Street\, New York\, NY\, 10023\, United States
CATEGORIES:Reunions
ATTACH;FMTTYPE=image/png:https://newsuat.fordham.edu/wp-content/uploads/2019/04/Block-Party.png
ORGANIZER;CN="Fordham University":MAILTO:blockparty@fordham.edu
GEO:40.7708109;-73.9851512
X-APPLE-STRUCTURED-LOCATION;VALUE=URI;X-ADDRESS=Lincoln Center Campus 113 West 60th Street New York NY 10023 United States;X-APPLE-RADIUS=500;X-TITLE=113 West 60th Street:geo:-73.9851512,40.7708109
END:VEVENT
BEGIN:VEVENT
DTSTART;TZID=America/New_York:20190620T183000
DTEND;TZID=America/New_York:20190620T203000
DTSTAMP:20260424T220149
CREATED:20190605T135118Z
LAST-MODIFIED:20190605T135118Z
UID:10007094-1561055400-1561062600@newsuat.fordham.edu
SUMMARY:SGP Summer Reception
DESCRIPTION:Missed our kickoff event? No worries! Come join us for a summer reunion of Student Government and Programming alumni and help welcome the new 2019 graduates to our chapter! \nReconnect with classmates and meet fellow #FordhamSGP alumni! \nEarly bird pricing of $25 is offered through June 12 and then goes to $30 from June 13 through the June 19. Same-day registration is $35. Registration includes an open bar of happy hour cocktails and a selection of wine and beer\, as well as some light bites. Save money and register early! \nWe look forward to seeing you all there!
URL:https://newsuat.fordham.edu/event/sgp-summer-reception/
LOCATION:Reunion Surf Bar\, 357 W 44th Street\, New York\, NY\, 10036\, United States
CATEGORIES:Receptions,Reunions
ATTACH;FMTTYPE=image/png:https://newsuat.fordham.edu/wp-content/uploads/2019/06/Event-Page-Image.png
ORGANIZER;CN="Taylor Palmer":MAILTO:tpalmer7@fordham.edu
END:VEVENT
END:VCALENDAR