BEGIN:VCALENDAR
VERSION:2.0
PRODID:-//Fordham Now - ECPv6.15.20//NONSGML v1.0//EN
CALSCALE:GREGORIAN
METHOD:PUBLISH
X-ORIGINAL-URL:https://newsuat.fordham.edu
X-WR-CALDESC:Events for Fordham Now
REFRESH-INTERVAL;VALUE=DURATION:PT1H
X-Robots-Tag:noindex
X-PUBLISHED-TTL:PT1H
BEGIN:VTIMEZONE
TZID:America/New_York
BEGIN:DAYLIGHT
TZOFFSETFROM:-0500
TZOFFSETTO:-0400
TZNAME:EDT
DTSTART:20170312T070000
END:DAYLIGHT
BEGIN:STANDARD
TZOFFSETFROM:-0400
TZOFFSETTO:-0500
TZNAME:EST
DTSTART:20171105T060000
END:STANDARD
BEGIN:DAYLIGHT
TZOFFSETFROM:-0500
TZOFFSETTO:-0400
TZNAME:EDT
DTSTART:20180311T070000
END:DAYLIGHT
BEGIN:STANDARD
TZOFFSETFROM:-0400
TZOFFSETTO:-0500
TZNAME:EST
DTSTART:20181104T060000
END:STANDARD
BEGIN:DAYLIGHT
TZOFFSETFROM:-0500
TZOFFSETTO:-0400
TZNAME:EDT
DTSTART:20190310T070000
END:DAYLIGHT
BEGIN:STANDARD
TZOFFSETFROM:-0400
TZOFFSETTO:-0500
TZNAME:EST
DTSTART:20191103T060000
END:STANDARD
END:VTIMEZONE
BEGIN:VEVENT
DTSTART;TZID=America/New_York:20181102T180000
DTEND;TZID=America/New_York:20181102T220000
DTSTAMP:20260425T092857
CREATED:20181002T152519Z
LAST-MODIFIED:20181002T152519Z
UID:10006589-1541181600-1541196000@newsuat.fordham.edu
SUMMARY:Fordham Veterans Association Fall Social
DESCRIPTION:You are cordially invited to the Fordham Veterans Association’s largest gathering of student veterans. Come wine and dine with student veterans\, alumni\, employers\, and academics. This years social will include special guest speakers from the executive team of Student Veterans of America. \nRegistration includes an open bar serving top-shelf liquor\, a DJ\, and hearty hors d’oeuvres. Also\, we will be raffling Fordham swag!
URL:https://newsuat.fordham.edu/event/fordham-veterans-association-fall-social/
LOCATION:12th-Floor Lounge\, Corrigan Conference Center\, Lowenstein Center\, Lincoln Center Campus\, 113 W. 60th St.\, New York\, NY\, 10023\, United States
CATEGORIES:Networking and Career,Reunions
ORGANIZER;CN="Michaela Shank":MAILTO:mshank@fordham.edu
GEO:40.7710994;-73.9852715
X-APPLE-STRUCTURED-LOCATION;VALUE=URI;X-ADDRESS=12th-Floor Lounge Corrigan Conference Center Lowenstein Center Lincoln Center Campus 113 W. 60th St. New York NY 10023 United States;X-APPLE-RADIUS=500;X-TITLE=Lincoln Center Campus\, 113 W. 60th St.:geo:-73.9852715,40.7710994
END:VEVENT
BEGIN:VEVENT
DTSTART;TZID=America/New_York:20181117T190000
DTEND;TZID=America/New_York:20181117T220000
DTSTAMP:20260425T092857
CREATED:20180926T180723Z
LAST-MODIFIED:20180926T180723Z
UID:10006587-1542481200-1542492000@newsuat.fordham.edu
SUMMARY:The Ram Centennial Dinner
DESCRIPTION:Alumni and current students are invited to celebrate the 100th volume of The Ram.
URL:https://newsuat.fordham.edu/event/the-ram-centennial-dinner/
LOCATION:Bepler Commons\, Faber Hall\, Rose Hill Campus 441 E Fordham Rd\, Bronx\, NY\, 10458\, United States
CATEGORIES:Receptions,Reunions,Social
ORGANIZER;CN="Michaela Shank":MAILTO:mshank@fordham.edu
GEO:40.8619545;-73.8855064
X-APPLE-STRUCTURED-LOCATION;VALUE=URI;X-ADDRESS=Bepler Commons Faber Hall Rose Hill Campus 441 E Fordham Rd Bronx NY 10458 United States;X-APPLE-RADIUS=500;X-TITLE=Faber Hall\, Rose Hill Campus 441 E Fordham Rd:geo:-73.8855064,40.8619545
END:VEVENT
BEGIN:VEVENT
DTSTART;TZID=America/New_York:20181128T180000
DTEND;TZID=America/New_York:20181128T200000
DTSTAMP:20260425T092857
CREATED:20181105T170554Z
LAST-MODIFIED:20181105T170554Z
UID:10006680-1543428000-1543435200@newsuat.fordham.edu
SUMMARY:MOSAIC Fall Reception
DESCRIPTION:Join us at Angel of Harlem to learn about MOSAIC—the alumni affinity chapter dedicated to Multiple Opportunities to Support Activities\, Ideas\, and Cultures for all Fordham alumni. Launched in 2016\, MOSAIC members strive to build bridges among Fordham alumni\, students\, and staff\, and implement innovative ideas inspired by our blended mosaic of cultures. Appetizers and two complimentary drinks will be provided. Space is limited\, so please register to ensure your spot.
URL:https://newsuat.fordham.edu/event/mosaic-fall-reception/
LOCATION:Angel of Harlem\, 2272 Frederick Douglass Boulevard\, Harlem\, NY\, 20027\, United States
CATEGORIES:Receptions,Reunions
ATTACH;FMTTYPE=image/png:https://newsuat.fordham.edu/wp-content/uploads/2018/11/Fordham-News-Event-Image-1078x516-2.png
ORGANIZER;CN="Michaela Shank":MAILTO:mshank@fordham.edu
END:VEVENT
END:VCALENDAR