BEGIN:VCALENDAR
VERSION:2.0
PRODID:-//Fordham Now - ECPv6.15.20//NONSGML v1.0//EN
CALSCALE:GREGORIAN
METHOD:PUBLISH
X-ORIGINAL-URL:https://newsuat.fordham.edu
X-WR-CALDESC:Events for Fordham Now
REFRESH-INTERVAL;VALUE=DURATION:PT1H
X-Robots-Tag:noindex
X-PUBLISHED-TTL:PT1H
BEGIN:VTIMEZONE
TZID:America/New_York
BEGIN:DAYLIGHT
TZOFFSETFROM:-0500
TZOFFSETTO:-0400
TZNAME:EDT
DTSTART:20250309T070000
END:DAYLIGHT
BEGIN:STANDARD
TZOFFSETFROM:-0400
TZOFFSETTO:-0500
TZNAME:EST
DTSTART:20251102T060000
END:STANDARD
BEGIN:DAYLIGHT
TZOFFSETFROM:-0500
TZOFFSETTO:-0400
TZNAME:EDT
DTSTART:20260308T070000
END:DAYLIGHT
BEGIN:STANDARD
TZOFFSETFROM:-0400
TZOFFSETTO:-0500
TZNAME:EST
DTSTART:20261101T060000
END:STANDARD
BEGIN:DAYLIGHT
TZOFFSETFROM:-0500
TZOFFSETTO:-0400
TZNAME:EDT
DTSTART:20270314T070000
END:DAYLIGHT
BEGIN:STANDARD
TZOFFSETFROM:-0400
TZOFFSETTO:-0500
TZNAME:EST
DTSTART:20271107T060000
END:STANDARD
END:VTIMEZONE
BEGIN:VEVENT
DTSTART;TZID=America/New_York:20260117T190000
DTEND;TZID=America/New_York:20260117T210000
DTSTAMP:20260419T111157
CREATED:20251217T180305Z
LAST-MODIFIED:20251217T180305Z
UID:10013918-1768676400-1768683600@newsuat.fordham.edu
SUMMARY:2026 Fordham Baseball First Pitch Dinner
DESCRIPTION:With the start of the 2026 season right around the corner\, join Head Coach Kevin Leighton\, alumni\, supporters\, and friends of the program for an exciting evening celebrating Fordham Baseball as the team gears up for another competitive spring! \nEvent Details: \nSaturday\, January 17\, 2026 | 7 – 9 p.m.\nRoom 303\, Great Hall\, McShane Campus Center\n441 East Fordham Road | Bronx\, NY 10458
URL:https://newsuat.fordham.edu/event/2026-fordham-baseball-first-pitch-dinner/
LOCATION:McShane 303\, 441 E Fordham Road\, Bronx\, NY\, 10458-5149\, United States
CATEGORIES:Alumni Events,Athletics,Receptions
END:VEVENT
BEGIN:VEVENT
DTSTART;TZID=America/New_York:20260121T183000
DTEND;TZID=America/New_York:20260121T203000
DTSTAMP:20260419T111157
CREATED:20251210T184813Z
LAST-MODIFIED:20251210T184813Z
UID:10013914-1769020200-1769027400@newsuat.fordham.edu
SUMMARY:2026 Long Island Presidential Reception
DESCRIPTION:Eileen Lamberti and Tom Lamberti\, FCRH ’52; the Alumni Chapter of Long Island; and Tania Tetlow\, president of Fordham University\, cordially invite you to our annual reception for alumni\, parents\, and friends. \nThis event costs $30 per person and includes heavy hors d’oeuvres\, food stations\, and an open bar. Space is limited\, and advance registration is required. We encourage you to register early as we anticipate this event will sell out. RSVP by January 16. \nPlease consider making a gift of $25 or more to support the Long Island Scholarship in Memory of John Cifichiello\, GABELLI ’68.
URL:https://newsuat.fordham.edu/event/2026-long-island-presidential-reception/
LOCATION:Garden City Hotel\, 45 Seventh Street\, Garden City\, NY\, 11530\, United States
CATEGORIES:Alumni Events,Networking and Career,Receptions,Social
GEO:40.7245497;-73.6406515
X-APPLE-STRUCTURED-LOCATION;VALUE=URI;X-ADDRESS=Garden City Hotel 45 Seventh Street Garden City NY 11530 United States;X-APPLE-RADIUS=500;X-TITLE=45 Seventh Street:geo:-73.6406515,40.7245497
END:VEVENT
END:VCALENDAR