BEGIN:VCALENDAR
VERSION:2.0
PRODID:-//Fordham Now - ECPv6.15.20//NONSGML v1.0//EN
CALSCALE:GREGORIAN
METHOD:PUBLISH
X-WR-CALNAME:Fordham Now
X-ORIGINAL-URL:https://newsuat.fordham.edu
X-WR-CALDESC:Events for Fordham Now
REFRESH-INTERVAL;VALUE=DURATION:PT1H
X-Robots-Tag:noindex
X-PUBLISHED-TTL:PT1H
BEGIN:VTIMEZONE
TZID:America/New_York
BEGIN:DAYLIGHT
TZOFFSETFROM:-0500
TZOFFSETTO:-0400
TZNAME:EDT
DTSTART:20220313T070000
END:DAYLIGHT
BEGIN:STANDARD
TZOFFSETFROM:-0400
TZOFFSETTO:-0500
TZNAME:EST
DTSTART:20221106T060000
END:STANDARD
BEGIN:DAYLIGHT
TZOFFSETFROM:-0500
TZOFFSETTO:-0400
TZNAME:EDT
DTSTART:20230312T070000
END:DAYLIGHT
BEGIN:STANDARD
TZOFFSETFROM:-0400
TZOFFSETTO:-0500
TZNAME:EST
DTSTART:20231105T060000
END:STANDARD
BEGIN:DAYLIGHT
TZOFFSETFROM:-0500
TZOFFSETTO:-0400
TZNAME:EDT
DTSTART:20240310T070000
END:DAYLIGHT
BEGIN:STANDARD
TZOFFSETFROM:-0400
TZOFFSETTO:-0500
TZNAME:EST
DTSTART:20241103T060000
END:STANDARD
END:VTIMEZONE
BEGIN:VEVENT
DTSTART;TZID=America/New_York:20230503T180000
DTEND;TZID=America/New_York:20230503T203000
DTSTAMP:20260421T220106
CREATED:20230329T183304Z
LAST-MODIFIED:20230329T183304Z
UID:10005061-1683136800-1683145800@newsuat.fordham.edu
SUMMARY:Alice in Chinatown: Chol Soo Lee’s Fight for Freedom — APALSA Reenactment
DESCRIPTION:On the evening of June 3\, 1973\, a man was shot and killed on a crowded street in San Francisco’s Chinatown in a suspected gang murder. Within days\, the police arrested Chol Soo Lee\, a 20-year-old Korean immigrant. He was convicted of murder and sentenced to life imprisonment. In prison\, he killed a white gang member in a fight and was given the death penalty. A Korean American newspaper reporter challenged the fairness of his conviction and sentence in an article titled “The Alice in Chinatown Murder Case\,” helping to set off a pan-Asian American grassroots movement to free Chol Soo Lee. \nPlease join us for the APALSA’s reenactment of the Chol Soo Lee story\, followed by an expert panel discussion and reception. \nAgenda\n6 – 7:15 p.m.: Reenactment of Chol Soo Lee Case\n7:15 – 7:45 p.m.: Panel discussion\n7:45 p.m.: Cocktail reception
URL:https://newsuat.fordham.edu/event/alice-in-chinatown-chol-soo-lees-fight-for-freedom-apalsa-reenactment/
LOCATION:1-03 Moore Trial Court Room\, 150 West 62nd Street\, New York\, NY\, 10023\, United States
CATEGORIES:Lectures,Receptions
ORGANIZER;CN="Center on Asian Americans and the Law":MAILTO:asianamericanlaw@fordham.edu
END:VEVENT
BEGIN:VEVENT
DTSTART;TZID=America/New_York:20230518T180000
DTEND;TZID=America/New_York:20230518T200000
DTSTAMP:20260421T220106
CREATED:20230505T155252Z
LAST-MODIFIED:20230505T155252Z
UID:10005117-1684432800-1684440000@newsuat.fordham.edu
SUMMARY:2023 D.C. Law Alumni Reception
DESCRIPTION:Join the Law Alumni Chapter of Washington\, D.C.\, and enjoy the best of what the city has to offer at Bobby Van’s steakhouse for an evening reception. \nThe evening is generously hosted by David Javdan\, LAW ’93\, president of the chapter.
URL:https://newsuat.fordham.edu/event/2023-d-c-law-alumni-reception/
LOCATION:Bobby Van’s Grill\, 1201 New York Ave NW\, Washington\, DC\, 20005\, United States
CATEGORIES:Receptions
ORGANIZER;CN="Anne Marie Bernhart":MAILTO:abernhart@fordham.edu
END:VEVENT
BEGIN:VEVENT
DTSTART;TZID=America/New_York:20230519T130000
DTEND;TZID=America/New_York:20230519T143000
DTSTAMP:20260421T220106
CREATED:20230515T210516Z
LAST-MODIFIED:20230515T210516Z
UID:10005125-1684501200-1684506600@newsuat.fordham.edu
SUMMARY:2023 Encaenia Ceremony
DESCRIPTION:Encaenia is one of FCRH’s most important and colorful traditions. It gives students an opportunity to bid farewell to Fordham and offers faculty an opportunity to recognize our students’ many academic and personal achievements. This event\, the culmination of four years of undergraduate\, academic pursuit\, celebrates Fordham’s sense of community.
URL:https://newsuat.fordham.edu/event/2023-encaenia-ceremony/
LOCATION:Rose Hill Gymnasium\, 441 East Fordham Road\, Bronx\, NY\, 10458\, United States
CATEGORIES:Receptions
ORGANIZER;CN="FCRH Dean's Office":MAILTO:rhdean@fordham.edu
GEO:40.8612275;-73.8892354
X-APPLE-STRUCTURED-LOCATION;VALUE=URI;X-ADDRESS=Rose Hill Gymnasium 441 East Fordham Road Bronx NY 10458 United States;X-APPLE-RADIUS=500;X-TITLE=441 East Fordham Road:geo:-73.8892354,40.8612275
END:VEVENT
BEGIN:VEVENT
DTSTART;TZID=America/New_York:20230523T180000
DTEND;TZID=America/New_York:20230523T210000
DTSTAMP:20260421T220106
CREATED:20230517T183219Z
LAST-MODIFIED:20230517T183219Z
UID:10005129-1684864800-1684875600@newsuat.fordham.edu
SUMMARY:2023 Pride Kick-Off Happy Hour
DESCRIPTION:The Rainbow Rams are kicking off Pride Month in style with a pre-Pride Month happy hour at Stonewall! Come mix and mingle and enjoy three hours of open bar and a DJ. All Jesuit-educated LGBTQ+ alumni and allies are welcome! \nFrom now through May 21\, registration costs $20. It will then increase to $25. \nWe hope to see you all there!
URL:https://newsuat.fordham.edu/event/2023-pride-kick-off-happy-hour/
LOCATION:The Stonewall Inn\, 53 Christopher Street\, New York\, NY\, United States
CATEGORIES:Receptions
ORGANIZER;CN="Taylor Palmer":MAILTO:tpalmer7@fordham.edu
END:VEVENT
BEGIN:VEVENT
DTSTART;TZID=America/New_York:20230531T183000
DTEND;TZID=America/New_York:20230531T203000
DTSTAMP:20260421T220106
CREATED:20230517T183604Z
LAST-MODIFIED:20230517T183604Z
UID:10005128-1685557800-1685565000@newsuat.fordham.edu
SUMMARY:2023 State of Asian American Studies at Fordham University
DESCRIPTION:May is Asian American and Pacific Islander Heritage Month. In celebration\, join the Asian American and Pacific Islander Alumni at Fordham (AAF) Affinity Chapter as we gather to learn about the newly established Asian American Studies program at Fordham University. \nThe event will include remarks from James Kim\, Ph.D.\, founding co-director and associate professor of English and comparative literature\, as well as members of the faculty working group on Asian American studies. Together\, they will share ways that alumni can show support\, and discuss next steps. Kim also will provide an update on the latest strides made.
URL:https://newsuat.fordham.edu/event/2023-state-of-asian-american-studies-at-fordham-university/
LOCATION:Bateman Room\, 150 West 62nd Street\, New York\, NY\, 10023\, United States
CATEGORIES:Receptions
ORGANIZER;CN="Taylor Palmer":MAILTO:tpalmer7@fordham.edu
GEO:40.7716809;-73.984777
X-APPLE-STRUCTURED-LOCATION;VALUE=URI;X-ADDRESS=Bateman Room 150 West 62nd Street New York NY 10023 United States;X-APPLE-RADIUS=500;X-TITLE=150 West 62nd Street:geo:-73.984777,40.7716809
END:VEVENT
BEGIN:VEVENT
DTSTART;TZID=America/New_York:20230531T190000
DTEND;TZID=America/New_York:20230531T220000
DTSTAMP:20260421T220106
CREATED:20230501T144622Z
LAST-MODIFIED:20230501T144622Z
UID:10005112-1685559600-1685570400@newsuat.fordham.edu
SUMMARY:2023 Thalassa Cocktail Reception and Benefit
DESCRIPTION:Join us for a night of celebration and the presentation of two distinguished awards. \nThe Fr. John Long\, S.J.\, Award for undergraduate achievement in the Orthodox Christian studies minor and/or potential for postgraduate studies in the field and the Stella Moundas Award for Orthodox Christian Service\, presented to a senior who has shown deep commitment to serving others during their undergraduate career. \nThe awards will be presented by Orthodox Christian Studies Center co-chairs George E. Demacopoulos\, professor of historical theology; Father John Meyendorff\, Patterson Family Chair of Orthodox Christian Studies; Aristotle Papanikolaou\, professor of theology; and Archbishop Demetrios\, chair in Orthodox Theology and Culture. \nEnjoy wine\, cocktails\, and a tasting menu from Thalassa’s offerings of Greek and Mediterranean dishes.
URL:https://newsuat.fordham.edu/event/2023-thalassa-cocktail-reception-and-benefit/
LOCATION:Thalassa Restaurant\, 179 Franklin St\, New York\, NY\, 10013\, United States
CATEGORIES:Receptions
ATTACH;FMTTYPE=image/jpeg:https://newsuat.fordham.edu/wp-content/uploads/2023/04/1095-x-608__72-dpi__DSC_2509-retouched-e1682952238831.jpg
END:VEVENT
END:VCALENDAR