BEGIN:VCALENDAR
VERSION:2.0
PRODID:-//Fordham Now - ECPv6.15.20//NONSGML v1.0//EN
CALSCALE:GREGORIAN
METHOD:PUBLISH
X-ORIGINAL-URL:https://newsuat.fordham.edu
X-WR-CALDESC:Events for Fordham Now
REFRESH-INTERVAL;VALUE=DURATION:PT1H
X-Robots-Tag:noindex
X-PUBLISHED-TTL:PT1H
BEGIN:VTIMEZONE
TZID:America/New_York
BEGIN:DAYLIGHT
TZOFFSETFROM:-0500
TZOFFSETTO:-0400
TZNAME:EDT
DTSTART:20220313T070000
END:DAYLIGHT
BEGIN:STANDARD
TZOFFSETFROM:-0400
TZOFFSETTO:-0500
TZNAME:EST
DTSTART:20221106T060000
END:STANDARD
BEGIN:DAYLIGHT
TZOFFSETFROM:-0500
TZOFFSETTO:-0400
TZNAME:EDT
DTSTART:20230312T070000
END:DAYLIGHT
BEGIN:STANDARD
TZOFFSETFROM:-0400
TZOFFSETTO:-0500
TZNAME:EST
DTSTART:20231105T060000
END:STANDARD
BEGIN:DAYLIGHT
TZOFFSETFROM:-0500
TZOFFSETTO:-0400
TZNAME:EDT
DTSTART:20240310T070000
END:DAYLIGHT
BEGIN:STANDARD
TZOFFSETFROM:-0400
TZOFFSETTO:-0500
TZNAME:EST
DTSTART:20241103T060000
END:STANDARD
END:VTIMEZONE
BEGIN:VTIMEZONE
TZID:Europe/London
BEGIN:DAYLIGHT
TZOFFSETFROM:+0000
TZOFFSETTO:+0100
TZNAME:BST
DTSTART:20220327T010000
END:DAYLIGHT
BEGIN:STANDARD
TZOFFSETFROM:+0100
TZOFFSETTO:+0000
TZNAME:GMT
DTSTART:20221030T010000
END:STANDARD
BEGIN:DAYLIGHT
TZOFFSETFROM:+0000
TZOFFSETTO:+0100
TZNAME:BST
DTSTART:20230326T010000
END:DAYLIGHT
BEGIN:STANDARD
TZOFFSETFROM:+0100
TZOFFSETTO:+0000
TZNAME:GMT
DTSTART:20231029T010000
END:STANDARD
BEGIN:DAYLIGHT
TZOFFSETFROM:+0000
TZOFFSETTO:+0100
TZNAME:BST
DTSTART:20240331T010000
END:DAYLIGHT
BEGIN:STANDARD
TZOFFSETFROM:+0100
TZOFFSETTO:+0000
TZNAME:GMT
DTSTART:20241027T010000
END:STANDARD
END:VTIMEZONE
BEGIN:VEVENT
DTSTART;TZID=America/New_York:20230301T180000
DTEND;TZID=America/New_York:20230301T200000
DTSTAMP:20260422T014809
CREATED:20230106T204956Z
LAST-MODIFIED:20230106T204956Z
UID:10004918-1677693600-1677700800@newsuat.fordham.edu
SUMMARY:2023 Puerto Rico Regional Reception
DESCRIPTION:Marie Napoli\, PAR\, and Paul Napoli\, GABELLI ’89\, PAR; the Fordham Alumni Chapter of Puerto Rico; and the Office of Alumni Relations cordially invite you to a complimentary reception for alumni\, parents\, and friends. \nAs the cost of the reception is being generously covered by our hosts Marie and Paul Napoli\, please consider making a gift of $25 or more to support the University’s campaign\, Cura Personalis | For Every Fordham Student.
URL:https://newsuat.fordham.edu/event/2023-puerto-rico-regional-reception/
LOCATION:Dorado Beach\, a Ritz-Carlton Reserve\, 100 Dorado Beach Drive\, Dorado\, 00646\, Puerto Rico
CATEGORIES:Networking and Career,Receptions,Social
END:VEVENT
BEGIN:VEVENT
DTSTART;TZID=America/New_York:20230302T150000
DTEND;TZID=America/New_York:20230302T170000
DTSTAMP:20260422T014809
CREATED:20230224T151405Z
LAST-MODIFIED:20230224T151405Z
UID:10005000-1677769200-1677776400@newsuat.fordham.edu
SUMMARY:Chaplain in Combat: Andriy Zelinskyy\, S.J.\, First Chaplain of the Ukrainian Marine Corps
DESCRIPTION:Please join the Fordham community for a discussion of chaplaincy in combat\, with a reception to follow. The guest speaker is Andriy Zelinskyy\, S.J.\, First Chaplain of the Ukrainian Marine Corps and the Chief Chaplain of the Ukrainian Greek-Catholic Church. \nThis event is part of the celebration of 175 years of Fordham’s military legacy.
URL:https://newsuat.fordham.edu/event/chaplain-in-combat-andriy-zelinskyy-s-j-first-chaplain-of-the-ukrainian-marine-corps/
LOCATION:Keating First Auditorium\, 441 E. Fordham Road\, Bronx\, NY\, 10458\, United States
CATEGORIES:Lectures,Receptions,Spiritual and Religious Events
ORGANIZER;CN="Department of Military Science":MAILTO:rotcpms@fordham.edu
END:VEVENT
BEGIN:VEVENT
DTSTART;TZID=America/New_York:20230303T113000
DTEND;TZID=America/New_York:20230303T150000
DTSTAMP:20260422T014809
CREATED:20230130T150652Z
LAST-MODIFIED:20230130T150652Z
UID:10004956-1677843000-1677855600@newsuat.fordham.edu
SUMMARY:74th FLAA Annual Luncheon
DESCRIPTION:Join us for the Fordham Law Alumni Association’s 74th annual luncheon. The following alumni will be recognized: \nMedal of Achievement: Megan Hogan\, LAW ’06\, global head of talent and chief diversity officer\, Goldman Sachs \nRising Stars—Government\, Public Interest\, and Nonprofit: Akilah Browne\, LAW ‘19\, co-founder\, FurtherJustice Foundation \nPrivate Practice: Michelle Chan\, LAW ’15\, associate\, Hunton Andrews Kurth LLP \nIn-house and Business: Stephen Cugliari\, LAW ’19\, senior director of corporate development\, BLADE Urban Air Mobility Inc. \nMilton Fisher ’42 Second Harvest Award: Constantine N. Katsoris\, GABELLI ’53\, LAW ’57\, Wilkinson Professor of Law\, Fordham Law School
URL:https://newsuat.fordham.edu/event/74th-flaa-annual-luncheon/
LOCATION:Cipriani 42nd Street\, 110 East 42nd Street\, New York\, 10017
CATEGORIES:Receptions
ORGANIZER;CN="Law School Alumni Office":MAILTO:lawalumni@fordham.edu
END:VEVENT
BEGIN:VEVENT
DTSTART;TZID=America/New_York:20230307T180000
DTEND;TZID=America/New_York:20230307T200000
DTSTAMP:20260422T014809
CREATED:20230302T193501Z
LAST-MODIFIED:20230302T193501Z
UID:10005012-1678212000-1678219200@newsuat.fordham.edu
SUMMARY:Common Grounds Conversations: A Celebration of Irish Culture and Faith
DESCRIPTION:Celebrate Irish culture with live music\, poetry\, free food\, and a conversation about Irish culture and faith with keynote speaker Joan Cavanagh\, Ph.D. \nThe event is co-sponsored with the Pedro Arrupe Volunteers and Slainte.
URL:https://newsuat.fordham.edu/event/common-grounds-conversations-a-celebration-of-irish-culture-and-faith/
LOCATION:Great Hall\, Joseph M. McShane\, S.J. Campus Center\, 441 East Fordham Road\, Bronx\, NY\, 10458\, United States
CATEGORIES:Lectures,Receptions,Spiritual and Religious Events
ORGANIZER;CN="Campus Ministry":MAILTO:cm@fordham.edu
END:VEVENT
BEGIN:VEVENT
DTSTART;TZID=America/New_York:20230308T180000
DTEND;TZID=America/New_York:20230308T213000
DTSTAMP:20260422T014809
CREATED:20230215T181103Z
LAST-MODIFIED:20230215T181103Z
UID:10004995-1678298400-1678311000@newsuat.fordham.edu
SUMMARY:Screening and Discussion: How to Defuse a Bomb: The Project Children Story
DESCRIPTION:The Fordham Gaelic Society invites you to a screening of the award-winning documentary How to Defuse a Bomb: The Project Children Story. \nThis powerful feature film celebrates the unsullied hard work and dedication of the Project Children charity and one of its founding members\, Denis Mulcahy\, a two-time Nobel Peace Prize winner\, and retired and highly decorated member of the NYPD’s bomb squad. \nNarrated by Liam Neeson and directed by Des Henderson\, the film documents the pursuit of reconciliation in Northern Ireland through the medium of its children. Offering more than 24\,000 children a six-week summer reprieve from the intrinsic\, sectarian violence of “The Troubles” in Northern Ireland\, this extraordinary tale resonates with all that is good in this world. \nA meet and greet with Mulcahy will be held at 6 p.m. before the ceremony\, and a short Q+A will follow the screening. Highly-ranked Irish diplomats will also be in attendance.
URL:https://newsuat.fordham.edu/event/screening-and-discussion-how-to-defuse-a-bomb-the-project-children-story/
LOCATION:Freeman 103\, 441 E. Fordham Road\, Bronx\, NY\, 10458\, United States
CATEGORIES:Arts at Fordham,Receptions
ORGANIZER;CN="Gaelic Society":MAILTO:gaelicsociety@fordham.edu
GEO:40.8612275;-73.8892354
X-APPLE-STRUCTURED-LOCATION;VALUE=URI;X-ADDRESS=Freeman 103 441 E. Fordham Road Bronx NY 10458 United States;X-APPLE-RADIUS=500;X-TITLE=441 E. Fordham Road:geo:-73.8892354,40.8612275
END:VEVENT
BEGIN:VEVENT
DTSTART;TZID=America/New_York:20230312T150000
DTEND;TZID=America/New_York:20230312T180000
DTSTAMP:20260422T014809
CREATED:20230227T214121Z
LAST-MODIFIED:20230227T214121Z
UID:10005005-1678633200-1678644000@newsuat.fordham.edu
SUMMARY:Alumni Chapter of Charlotte: 2023 Alumni and GO! Student Reception
DESCRIPTION:Join the Fordham Alumni Chapter of Charlotte for an opportunity to reconnect and meet a group of current students from the Gabelli School of Business Ignite Scholars Program. The Ignite Scholars Program selects talented students with demonstrated leadership experience and challenges and supports them as they become agents for positive change in their communities\, organizations\, and the world at large. \nThe students will be spending the week in North Carolina participating in a Global Outreach (GO!) trip focused on the circular economy in the textile industry and the importance of addressing broader community needs. They’ll be visiting a number of regional companies and organizations that are involved in the sustainable manufacturing and distribution of textiles\, as well as addressing social and environmental justice issues. The Ignite students are interested in learning from our successful alumni as they seek opportunities to impact the world. \nPlease join us as we provide a warm Southern welcome for the students! The event cost includes a selection of appetizers. Drinks and additional food can be purchased directly from the restaurant. \nSpace is limited\, and registrations will be honored on a first-come\, first-served basis. We encourage you to register early. RSVP by March 11. \nPlease consider making a gift of $25 or more to support Cura Personalis | For Every Fordham Student.
URL:https://newsuat.fordham.edu/event/alumni-chapter-of-charlotte-2023-alumni-and-go-student-reception/
LOCATION:Tyber Creek Pub\, 1933 South Boulevard\, Charlotte\, NC\, 28203\, United States
CATEGORIES:Receptions
ORGANIZER;CN="Bill Sickles":MAILTO:wsickles@fordham.edu
END:VEVENT
BEGIN:VEVENT
DTSTART;TZID=America/New_York:20230316T180000
DTEND;TZID=America/New_York:20230316T200000
DTSTAMP:20260422T014809
CREATED:20230321T210322Z
LAST-MODIFIED:20230321T210322Z
UID:10005037-1678989600-1678996800@newsuat.fordham.edu
SUMMARY:New Student Welcome Reception and Open House: Lincoln Center
DESCRIPTION:Calling all new students! Join us for a welcoming session to introduce you to the Lincoln Center campus! \nUse this opportunity to: \n\nMeet current students\, alumni\, faculty\, and administrators.\nLearn about the on-campus MSW program.\nHear how financial aid in grad. school works.\n\nSee you there!
URL:https://newsuat.fordham.edu/event/new-student-welcome-reception-and-open-house-lincoln-center/2023-03-16/
LOCATION:Lincoln Center Campus\, 113 West 60th Street\, New York\, NY\, 10023\, United States
CATEGORIES:Receptions
GEO:40.7708109;-73.9851512
X-APPLE-STRUCTURED-LOCATION;VALUE=URI;X-ADDRESS=Lincoln Center Campus 113 West 60th Street New York NY 10023 United States;X-APPLE-RADIUS=500;X-TITLE=113 West 60th Street:geo:-73.9851512,40.7708109
END:VEVENT
BEGIN:VEVENT
DTSTART;TZID=America/New_York:20230321T173000
DTEND;TZID=America/New_York:20230321T200000
DTSTAMP:20260422T014809
CREATED:20230214T195848Z
LAST-MODIFIED:20230214T195848Z
UID:10004986-1679419800-1679428800@newsuat.fordham.edu
SUMMARY:Theology and the Earth Endowed Fund Launch Lecture
DESCRIPTION:Join us for this timely event celebrating the launch of the Elizabeth A. Johnson\, C.S.J.\, Endowed Fund for Theology and the Earth\, a new Fordham fund that will advance the study of theology and our relationship and responsibility to the Earth. \nThe fund will make possible programs that engage the religious\, ethical\, and spiritual dimensions of ecological issues in dialogue with other fields\, such as the natural\, social\, and behavioral sciences; business; law; and the arts and humanities. \nA reception will follow in Platt Atrium.
URL:https://newsuat.fordham.edu/event/theology-and-the-earth-endowed-fund-launch-lecture/
LOCATION:McNally Amphitheatre\, 140 West 62nd Street\, New York\, NY\, 10023\, United States
CATEGORIES:Lectures,Receptions
ORGANIZER;CN="Theology":MAILTO:theology@fordham.edu
GEO:40.7713958;-73.9844894
X-APPLE-STRUCTURED-LOCATION;VALUE=URI;X-ADDRESS=McNally Amphitheatre 140 West 62nd Street New York NY 10023 United States;X-APPLE-RADIUS=500;X-TITLE=140 West 62nd Street:geo:-73.9844894,40.7713958
END:VEVENT
BEGIN:VEVENT
DTSTART;TZID=America/New_York:20230322T103000
DTEND;TZID=America/New_York:20230322T140000
DTSTAMP:20260422T014809
CREATED:20230303T214702Z
LAST-MODIFIED:20230303T214702Z
UID:10005016-1679481000-1679493600@newsuat.fordham.edu
SUMMARY:Fordham Research Day Celebration 2023
DESCRIPTION:Every year\, the University recognizes faculty research at Fordham Research Day\, an in-person event at the Fordham School of Law. This year\, the keynote speaker will be Jeannette Wing\, Ph.D.\, executive vice president of research and professor of computer science at Columbia University. Wing will speak about “Trustworthy AI.” \nAlso\, we will honor five faculty members with this year’s Distinguished Research Awards and hear presentations from six new book authors during concurrent sessions. \nLunch will be served at 1 p.m.
URL:https://newsuat.fordham.edu/event/fordham-research-day-celebration-2023/
LOCATION:Costantino Room\, Fordham Law School\, 150 West 62nd Street\, New York\, NY\, 10023\, United States
CATEGORIES:Receptions,Social
ORGANIZER;CN="Office of the Provost":MAILTO:provost@fordham.edu
GEO:40.7715478;-73.9849293
X-APPLE-STRUCTURED-LOCATION;VALUE=URI;X-ADDRESS=Costantino Room Fordham Law School 150 West 62nd Street New York NY 10023 United States;X-APPLE-RADIUS=500;X-TITLE=Fordham Law School\, 150 West 62nd Street:geo:-73.9849293,40.7715478
END:VEVENT
BEGIN:VEVENT
DTSTART;TZID=Europe/London:20230330T170000
DTEND;TZID=Europe/London:20230330T200000
DTSTAMP:20260422T014809
CREATED:20230306T152108Z
LAST-MODIFIED:20230306T152108Z
UID:10005017-1680195600-1680206400@newsuat.fordham.edu
SUMMARY:Alumni Chapter of the U.K.: 2023 Easter Reception
DESCRIPTION:The Fordham Alumni Chapter of the U.K. and Fordham London are delighted to invite you to a special Easter reception for students and alumni hosted by Andrea Mennillo\, chair of the Fordham London Advisory Board\, and Vanessa Beever\, senior director of Fordham London. \nWe will celebrate the meaning and significance of Easter and share delicious food from around the world\, including the classic Colomba di Pasqua\, a traditional Italian Easter bread. \nThere will also be an opportunity to hear about how to get involved with the work of Fordham London\, as well as the relaunched alumni chapter\, led by Brianna Miller\, FCRH ’19. \nTo see this and other events\, please follow us on LinkedIn and visit the Fordham London webpage.
URL:https://newsuat.fordham.edu/event/alumni-chapter-of-the-u-k-2023-easter-reception/
LOCATION:Fordham London\, 2 Eyre Street Hill\, London\, England\, EC1R 5ET\, United Kingdom
CATEGORIES:Receptions
ORGANIZER;CN="Alumni Chaper of the U.K.":MAILTO:katharina.kochduell@gmail.com
END:VEVENT
END:VCALENDAR