BEGIN:VCALENDAR
VERSION:2.0
PRODID:-//Fordham Now - ECPv6.15.20//NONSGML v1.0//EN
CALSCALE:GREGORIAN
METHOD:PUBLISH
X-WR-CALNAME:Fordham Now
X-ORIGINAL-URL:https://newsuat.fordham.edu
X-WR-CALDESC:Events for Fordham Now
REFRESH-INTERVAL;VALUE=DURATION:PT1H
X-Robots-Tag:noindex
X-PUBLISHED-TTL:PT1H
BEGIN:VTIMEZONE
TZID:America/New_York
BEGIN:DAYLIGHT
TZOFFSETFROM:-0500
TZOFFSETTO:-0400
TZNAME:EDT
DTSTART:20210314T070000
END:DAYLIGHT
BEGIN:STANDARD
TZOFFSETFROM:-0400
TZOFFSETTO:-0500
TZNAME:EST
DTSTART:20211107T060000
END:STANDARD
BEGIN:DAYLIGHT
TZOFFSETFROM:-0500
TZOFFSETTO:-0400
TZNAME:EDT
DTSTART:20220313T070000
END:DAYLIGHT
BEGIN:STANDARD
TZOFFSETFROM:-0400
TZOFFSETTO:-0500
TZNAME:EST
DTSTART:20221106T060000
END:STANDARD
BEGIN:DAYLIGHT
TZOFFSETFROM:-0500
TZOFFSETTO:-0400
TZNAME:EDT
DTSTART:20230312T070000
END:DAYLIGHT
BEGIN:STANDARD
TZOFFSETFROM:-0400
TZOFFSETTO:-0500
TZNAME:EST
DTSTART:20231105T060000
END:STANDARD
END:VTIMEZONE
BEGIN:VTIMEZONE
TZID:America/Puerto_Rico
BEGIN:STANDARD
TZOFFSETFROM:-0400
TZOFFSETTO:-0400
TZNAME:AST
DTSTART:20210101T000000
END:STANDARD
END:VTIMEZONE
BEGIN:VTIMEZONE
TZID:America/Los_Angeles
BEGIN:DAYLIGHT
TZOFFSETFROM:-0800
TZOFFSETTO:-0700
TZNAME:PDT
DTSTART:20210314T100000
END:DAYLIGHT
BEGIN:STANDARD
TZOFFSETFROM:-0700
TZOFFSETTO:-0800
TZNAME:PST
DTSTART:20211107T090000
END:STANDARD
BEGIN:DAYLIGHT
TZOFFSETFROM:-0800
TZOFFSETTO:-0700
TZNAME:PDT
DTSTART:20220313T100000
END:DAYLIGHT
BEGIN:STANDARD
TZOFFSETFROM:-0700
TZOFFSETTO:-0800
TZNAME:PST
DTSTART:20221106T090000
END:STANDARD
BEGIN:DAYLIGHT
TZOFFSETFROM:-0800
TZOFFSETTO:-0700
TZNAME:PDT
DTSTART:20230312T100000
END:DAYLIGHT
BEGIN:STANDARD
TZOFFSETFROM:-0700
TZOFFSETTO:-0800
TZNAME:PST
DTSTART:20231105T090000
END:STANDARD
END:VTIMEZONE
BEGIN:VEVENT
DTSTART;TZID=America/New_York:20221101T180000
DTEND;TZID=America/New_York:20221101T210000
DTSTAMP:20260422T110034
CREATED:20220824T195334Z
LAST-MODIFIED:20220824T195334Z
UID:10004797-1667325600-1667336400@newsuat.fordham.edu
SUMMARY:On the Record
DESCRIPTION:This WFUV event is held once a year to honor news and sports media professionals. Norah O’Donnell and Mike Breen will be honored with the Charles Osgood and Vin Scully Awards\, respectively. We are also honoring our dear friends the late Vin Scully and George Bodarky for their time at WFUV. The proceeds from the event support WFUV’s one-of-a-kind training programs for Fordham University students.
URL:https://newsuat.fordham.edu/event/on-the-record/
LOCATION:Costantino Room\, Fordham Law School\, 150 West 62nd Street\, New York\, NY\, 10023\, United States
CATEGORIES:Receptions
ATTACH;FMTTYPE=image/png:https://newsuat.fordham.edu/wp-content/uploads/2022/08/On-the-Record-Email-Header-e1661369032768.png
ORGANIZER;CN="WFUV":MAILTO:tlynch@wfuv.org
GEO:40.7715478;-73.9849293
X-APPLE-STRUCTURED-LOCATION;VALUE=URI;X-ADDRESS=Costantino Room Fordham Law School 150 West 62nd Street New York NY 10023 United States;X-APPLE-RADIUS=500;X-TITLE=Fordham Law School\, 150 West 62nd Street:geo:-73.9849293,40.7715478
END:VEVENT
BEGIN:VEVENT
DTSTART;TZID=America/New_York:20221102T180000
DTEND;TZID=America/New_York:20221102T200000
DTSTAMP:20260422T110034
CREATED:20220921T163121Z
LAST-MODIFIED:20220921T163121Z
UID:10004815-1667412000-1667419200@newsuat.fordham.edu
SUMMARY:Economos Orthodoxy in America Lecture
DESCRIPTION:Join us for “Deconstructing Russia’s Ukraine Wars and Understanding the Diplomacy of Religion: Lessons in Orthodox Christianity\, Geopolitics\, and Power” with Elizabeth H. Prodmorou\, Ph.D.\, senior fellow at the Fletcher School of Law and Diplomacy\, Tufts University \nA reception will immediately follow the lecture. \nMajor support for the 2022 Orthodoxy in America Lecture is provided by Christ and Anastasia Economos with additional support from the Nicholas J. and Anna K. Bouras Foundation Inc.
URL:https://newsuat.fordham.edu/event/economos-orthodoxy-in-america-lecture/
LOCATION:Costantino Room\, Fordham Law School\, 150 West 62nd Street\, New York\, NY\, 10023\, United States
CATEGORIES:Lectures,Receptions
GEO:40.7715478;-73.9849293
X-APPLE-STRUCTURED-LOCATION;VALUE=URI;X-ADDRESS=Costantino Room Fordham Law School 150 West 62nd Street New York NY 10023 United States;X-APPLE-RADIUS=500;X-TITLE=Fordham Law School\, 150 West 62nd Street:geo:-73.9849293,40.7715478
END:VEVENT
BEGIN:VEVENT
DTSTART;TZID=America/New_York:20221106T110000
DTEND;TZID=America/New_York:20221106T140000
DTSTAMP:20260422T110034
CREATED:20221020T175522Z
LAST-MODIFIED:20221020T175522Z
UID:10004864-1667732400-1667743200@newsuat.fordham.edu
SUMMARY:Veterans Alumni Chapter Memorial Mass and Hall of Fame
DESCRIPTION:All Fordham veterans and ROTC alumni are invited back to campus for a special Mass to honor their service and remember fallen comrades. Veteran alumni and student veterans are invited to participate in the Mass as lectors\, extraordinary ministers\, cantors\, and greeters. \nIf you would like to participate in the Mass\, please email Kate Collins at catholiclife@fordham.edu. \nJoin us in Bepler Commons following the Mass as we congratulate the 2022 Fordham Military and NYC Army Reserve Officer Corps Hall of Fame inductees. Refreshments will be served\, so please register to assist with our planning.
URL:https://newsuat.fordham.edu/event/veterans-alumni-chapter-memorial-mass-and-hall-of-fame-3/
LOCATION:Rose Hill Campus\, Fordham University\, The Bronx\, NY\, USA\, Bronx\, NY\, 10458\, United States
CATEGORIES:Receptions
ORGANIZER;CN="Taylor Palmer":MAILTO:tpalmer7@fordham.edu
GEO:40.861203;-73.8892181
X-APPLE-STRUCTURED-LOCATION;VALUE=URI;X-ADDRESS=Rose Hill Campus Fordham University The Bronx NY USA Bronx NY 10458 United States;X-APPLE-RADIUS=500;X-TITLE=Fordham University\, The Bronx\, NY\, USA:geo:-73.8892181,40.861203
END:VEVENT
BEGIN:VEVENT
DTSTART;TZID=America/New_York:20221107T173000
DTEND;TZID=America/New_York:20221107T193000
DTSTAMP:20260422T110034
CREATED:20221027T135950Z
LAST-MODIFIED:20221027T135950Z
UID:10004873-1667842200-1667849400@newsuat.fordham.edu
SUMMARY:Sperber Book Prize Award Ceremony and Book Talk
DESCRIPTION:Join us for the Sperber Book Prize Awards Ceremony\, which honors biographies about journalists and memoirs/autobiographies by journalists. The 2022 Sperber Book Prize will be awarded to Elizabeth Becker for her book You Don’t Belong Here: How Three Women Rewrote the Story of War. The Sperber jury will also award a certificate of career achievement to journalist\, author\, and journalism educator Marvin Kalb. Both Becker and Kalb will speak.
URL:https://newsuat.fordham.edu/event/sperber-book-prize-award-ceremony-and-book-talk-2/
LOCATION:McNally Amphitheatre\, 140 West 62nd Street\, New York\, NY\, 10023\, United States
CATEGORIES:Lectures,Receptions
ORGANIZER;CN="Beth Knobel":MAILTO:knobel@fordham.edu
GEO:40.7713958;-73.9844894
X-APPLE-STRUCTURED-LOCATION;VALUE=URI;X-ADDRESS=McNally Amphitheatre 140 West 62nd Street New York NY 10023 United States;X-APPLE-RADIUS=500;X-TITLE=140 West 62nd Street:geo:-73.9844894,40.7713958
END:VEVENT
BEGIN:VEVENT
DTSTART;TZID=America/Puerto_Rico:20221109T180000
DTEND;TZID=America/Puerto_Rico:20221109T210000
DTSTAMP:20260422T110034
CREATED:20221007T175150Z
LAST-MODIFIED:20221007T175150Z
UID:10004838-1668016800-1668027600@newsuat.fordham.edu
SUMMARY:Alumni Chapter of Puerto Rico: 2022 Fall Reception and Happy Hour
DESCRIPTION:Please join the Alumni Chapter of Puerto Rico and event hosts Gualberto Rodriguez-Feliciano\, FCRH ’95\, and Paul Napoli\, GABELLI ’89\, PAR\, for an evening reception on the island. Connect with fellow Fordham grads from all classes and years and enjoy a night of mingling and networking. Alumni\, family\, and friends are welcome to attend. We look forward to seeing both new and familiar faces!
URL:https://newsuat.fordham.edu/event/alumni-chapter-of-puerto-rico-2022-fall-reception-and-happy-hour/
LOCATION:Tinto Y Blanco\, Hato Rey\, 204 Av. Luis Muñoz Rivera\, San Juan\, 00918\, Puerto Rico
CATEGORIES:Networking and Career,Receptions,Social
ORGANIZER;CN="Office of Alumni Relations":MAILTO:alumnioffice@fordham.edu
END:VEVENT
BEGIN:VEVENT
DTSTART;TZID=America/Los_Angeles:20221111T180000
DTEND;TZID=America/Los_Angeles:20221111T210000
DTSTAMP:20260422T110034
CREATED:20221005T163610Z
LAST-MODIFIED:20221005T163610Z
UID:10004828-1668189600-1668200400@newsuat.fordham.edu
SUMMARY:Alumni Chapter of Northern California: 2022 Arcade Bar Meetup
DESCRIPTION:Calling all young alumni! Join us for an evening of food and fun at Thriller\, San Francisco’s hot arcade bar. Mingle with fellow Rams while playing new and classic arcade games. We will have Fordham goodies for all attendees\, and the first rounds of games and appetizers will be on the chapter! \nSpace is limited\, so don’t miss out! Friends and family are welcome.
URL:https://newsuat.fordham.edu/event/alumni-chapter-of-northern-california-2022-arcade-bar-meetup/
LOCATION:Thriller Social Club\, 508 4th Street\, San Francisco\, CA\, 94107\, United States
CATEGORIES:Receptions,Social
ORGANIZER;CN="Alumni Chapter of Northern California":MAILTO:markadigiorgio@att.net
END:VEVENT
BEGIN:VEVENT
DTSTART;TZID=America/New_York:20221114T180000
DTEND;TZID=America/New_York:20221114T200000
DTSTAMP:20260422T110034
CREATED:20221013T195612Z
LAST-MODIFIED:20221013T195612Z
UID:10004846-1668448800-1668456000@newsuat.fordham.edu
SUMMARY:2022 Basketball Tipoff Reception
DESCRIPTION:Join us for the 2022 Fordham Basketball Tipoff Reception! Mingle with Head Men’s Basketball Coach Keith Urgo and Interim Head Women’s Basketball Coach Candice Green.
URL:https://newsuat.fordham.edu/event/2022-basketball-tipoff-reception/
LOCATION:Empire Steak House and Lounge\, 145 E. 50th\, New York\, NY\, United States
CATEGORIES:Athletics,Receptions,Social
ORGANIZER;CN="Kara Field":MAILTO:kfield1@fordham.edu
END:VEVENT
BEGIN:VEVENT
DTSTART;TZID=America/New_York:20221117T180000
DTEND;TZID=America/New_York:20221117T200000
DTSTAMP:20260422T110034
CREATED:20221014T170404Z
LAST-MODIFIED:20221014T170404Z
UID:10004847-1668708000-1668715200@newsuat.fordham.edu
SUMMARY:Alumni Chapter of Miami: Fall 2022 Happy Hour
DESCRIPTION:Calling all Miami-area alumni: It’s finally time to shake off the COVID-19 cobwebs and gather in person! Come out and join fellow Miami area alumni\, family\, and friends for a fall happy hour. Appetizers will be provided\, and drinks can be purchased directly from the restaurant. \nWe’re looking forward to seeing you. We are also busy planning more chapter activities for the upcoming year!
URL:https://newsuat.fordham.edu/event/alumni-chapter-of-miami-fall-2022-happy-hour/
LOCATION:Ecléctico Restaurant & Bar\, 320 San Lorenzo Avenue\, Suite 1315\, Miami\, FL\, 33146\, United States
CATEGORIES:Networking and Career,Receptions,Social
ORGANIZER;CN="Alumni Chapter of Miami":MAILTO:emartinez@etlaw.com
END:VEVENT
BEGIN:VEVENT
DTSTART;TZID=America/Los_Angeles:20221118T190000
DTEND;TZID=America/Los_Angeles:20221118T220000
DTSTAMP:20260422T110034
CREATED:20221021T144336Z
LAST-MODIFIED:20221021T144336Z
UID:10004860-1668798000-1668808800@newsuat.fordham.edu
SUMMARY:Alumni Chapter of Northern California: 2022 Knicks at Warriors
DESCRIPTION:Join the Alumni Chapter of Northern California as the 2022 World Champion Golden State Warriors host the New York Knicks! Tickets are available at three price points: \n\nSection 127/128 (lower row): $180 per ticket\nSection 127/128 (upper row): $155 per ticket\nSection 217 (upper row): $70 per ticket\n\nSeats in sections 127/128 come with access to the Pepsi Club. All tickets include an invitation to attend the Courtside Shoot Around to watch the players warm up from the floor level at 6 p.m. \nA very limited number of tickets are available\, and the last day to purchase tickets is Friday\, November 4\, so get your tickets today!
URL:https://newsuat.fordham.edu/event/alumni-chapter-of-northern-california-2022-knicks-at-warriors/
LOCATION:Chase Center\, 1 Warriors Way\, San Francisco\, CA\, 94158\, United States
CATEGORIES:Athletics,Receptions,Social
ORGANIZER;CN="Alumni Chapter of Northern California":MAILTO:markadigiorgio@att.net
END:VEVENT
END:VCALENDAR