BEGIN:VCALENDAR
VERSION:2.0
PRODID:-//Fordham Now - ECPv6.15.20//NONSGML v1.0//EN
CALSCALE:GREGORIAN
METHOD:PUBLISH
X-WR-CALNAME:Fordham Now
X-ORIGINAL-URL:https://newsuat.fordham.edu
X-WR-CALDESC:Events for Fordham Now
REFRESH-INTERVAL;VALUE=DURATION:PT1H
X-Robots-Tag:noindex
X-PUBLISHED-TTL:PT1H
BEGIN:VTIMEZONE
TZID:America/New_York
BEGIN:DAYLIGHT
TZOFFSETFROM:-0500
TZOFFSETTO:-0400
TZNAME:EDT
DTSTART:20210314T070000
END:DAYLIGHT
BEGIN:STANDARD
TZOFFSETFROM:-0400
TZOFFSETTO:-0500
TZNAME:EST
DTSTART:20211107T060000
END:STANDARD
BEGIN:DAYLIGHT
TZOFFSETFROM:-0500
TZOFFSETTO:-0400
TZNAME:EDT
DTSTART:20220313T070000
END:DAYLIGHT
BEGIN:STANDARD
TZOFFSETFROM:-0400
TZOFFSETTO:-0500
TZNAME:EST
DTSTART:20221106T060000
END:STANDARD
BEGIN:DAYLIGHT
TZOFFSETFROM:-0500
TZOFFSETTO:-0400
TZNAME:EDT
DTSTART:20230312T070000
END:DAYLIGHT
BEGIN:STANDARD
TZOFFSETFROM:-0400
TZOFFSETTO:-0500
TZNAME:EST
DTSTART:20231105T060000
END:STANDARD
END:VTIMEZONE
BEGIN:VTIMEZONE
TZID:America/Los_Angeles
BEGIN:DAYLIGHT
TZOFFSETFROM:-0800
TZOFFSETTO:-0700
TZNAME:PDT
DTSTART:20210314T100000
END:DAYLIGHT
BEGIN:STANDARD
TZOFFSETFROM:-0700
TZOFFSETTO:-0800
TZNAME:PST
DTSTART:20211107T090000
END:STANDARD
BEGIN:DAYLIGHT
TZOFFSETFROM:-0800
TZOFFSETTO:-0700
TZNAME:PDT
DTSTART:20220313T100000
END:DAYLIGHT
BEGIN:STANDARD
TZOFFSETFROM:-0700
TZOFFSETTO:-0800
TZNAME:PST
DTSTART:20221106T090000
END:STANDARD
BEGIN:DAYLIGHT
TZOFFSETFROM:-0800
TZOFFSETTO:-0700
TZNAME:PDT
DTSTART:20230312T100000
END:DAYLIGHT
BEGIN:STANDARD
TZOFFSETFROM:-0700
TZOFFSETTO:-0800
TZNAME:PST
DTSTART:20231105T090000
END:STANDARD
END:VTIMEZONE
BEGIN:VTIMEZONE
TZID:Europe/London
BEGIN:DAYLIGHT
TZOFFSETFROM:+0000
TZOFFSETTO:+0100
TZNAME:BST
DTSTART:20210328T010000
END:DAYLIGHT
BEGIN:STANDARD
TZOFFSETFROM:+0100
TZOFFSETTO:+0000
TZNAME:GMT
DTSTART:20211031T010000
END:STANDARD
BEGIN:DAYLIGHT
TZOFFSETFROM:+0000
TZOFFSETTO:+0100
TZNAME:BST
DTSTART:20220327T010000
END:DAYLIGHT
BEGIN:STANDARD
TZOFFSETFROM:+0100
TZOFFSETTO:+0000
TZNAME:GMT
DTSTART:20221030T010000
END:STANDARD
BEGIN:DAYLIGHT
TZOFFSETFROM:+0000
TZOFFSETTO:+0100
TZNAME:BST
DTSTART:20230326T010000
END:DAYLIGHT
BEGIN:STANDARD
TZOFFSETFROM:+0100
TZOFFSETTO:+0000
TZNAME:GMT
DTSTART:20231029T010000
END:STANDARD
END:VTIMEZONE
BEGIN:VEVENT
DTSTART;TZID=America/New_York:20221002T110000
DTEND;TZID=America/New_York:20221002T110000
DTSTAMP:20260422T124742
CREATED:20220926T170309Z
LAST-MODIFIED:20220926T170309Z
UID:10004822-1664708400-1664708400@newsuat.fordham.edu
SUMMARY:Alumni Chapter of the Hudson Valley: 2022 Fall BBQ and Get-Together
DESCRIPTION:Join the Alumni Chapter of the Hudson Valley for a fun-filled afternoon outdoors with alumni\, families\, and friends. Our group has reserved a stone pavilion overlooking the lake\, near the hiking trails. \nThis event is a potluck-style picnic/BBQ\, so please bring your favorites to cook and share—salads\, desserts\, and drinks. Please contact Linda Purcell\, MC ’73\, at 845-598-1995 to share what items you will bring.
URL:https://newsuat.fordham.edu/event/alumni-chapter-of-the-hudson-valley-2022-fall-bbq-and-get-together/
LOCATION:Fahnestock State Park\, 1498 NY-301\, Carmel Hamlet\, NY\, 10512
CATEGORIES:Receptions,Social
ORGANIZER;CN="Alumni Chapter of the Hudson Valley":MAILTO:hudsonvalleyfordhamchapter@gmail.com
END:VEVENT
BEGIN:VEVENT
DTSTART;TZID=America/New_York:20221019T093000
DTEND;TZID=America/New_York:20221019T160000
DTSTAMP:20260422T124742
CREATED:20220726T154805Z
LAST-MODIFIED:20220726T154805Z
UID:10004778-1666171800-1666195200@newsuat.fordham.edu
SUMMARY:Fordham Women's Summit
DESCRIPTION:Join us for Fordham’s annual Women’s Summit to hear from trailblazing women\, including Tania Tetlow\, the first layperson and first woman to lead the University in its 181-year history\, in conversation with Adriana Trigiani\, bestselling author\, playwright\, filmmaker\, television writer and producer\, and parent of a Fordham student. \nSpend the day learning from Fordham women who are using their unique brand of leadership to transform their fields\, and take away a few innovative skills of your own that you can put into practice.
URL:https://newsuat.fordham.edu/event/fordham-womens-summit/
LOCATION:Skadden Conference Center\, 150 West 62nd Street\, New York\, NY\, 10023\, United States
CATEGORIES:Conferences and Symposia,Networking and Career,Receptions
ATTACH;FMTTYPE=image/jpeg:https://newsuat.fordham.edu/wp-content/uploads/2022/07/640d46ab-c365-48d4-9ce8-61ea966f7413.jpg
GEO:40.7716809;-73.984777
X-APPLE-STRUCTURED-LOCATION;VALUE=URI;X-ADDRESS=Skadden Conference Center 150 West 62nd Street New York NY 10023 United States;X-APPLE-RADIUS=500;X-TITLE=150 West 62nd Street:geo:-73.984777,40.7716809
END:VEVENT
BEGIN:VEVENT
DTSTART;TZID=America/Los_Angeles:20221019T180000
DTEND;TZID=America/Los_Angeles:20221019T200000
DTSTAMP:20260422T124742
CREATED:20220929T180224Z
LAST-MODIFIED:20220929T180224Z
UID:10004825-1666202400-1666209600@newsuat.fordham.edu
SUMMARY:Alumni Chapter of Los Angeles: 2022 Fall Happy Hour
DESCRIPTION:Calling LA-area alumni: It’s finally time to shake off the COVID-19 cobwebs and gather in person! Come out and join fellow Los Angeles area alumni\, family\, and friends for a fall happy hour. Reconnect with fellow Rams and enjoy appetizers\, drinks\, and memories. It’s been a minute since we’ve seen you\, and we’re busy planning more chapter activities for the year ahead. \nWe’ll have a poll asking for your feedback and ideas for future meetups and events. We look forward to making our events fun for all\, and planning things that YOU want to do! \nThis event costs $5 per person\, which includes a selection of appetizer platters. A cash bar will be available\, and there is plenty of free parking. Hope to see you there!
URL:https://newsuat.fordham.edu/event/alumni-chapter-of-los-angeles-2022-fall-happy-hour/
LOCATION:The Cloverfield\, 3300 Airport Avenue\, Santa Monica\, CA\, 90405\, United States
CATEGORIES:Receptions,Social
ORGANIZER;CN="Alumni Chapter of Los Angeles":MAILTO:evafordham@gmail.com
END:VEVENT
BEGIN:VEVENT
DTSTART;TZID=America/New_York:20221025T180000
DTEND;TZID=America/New_York:20221025T200000
DTSTAMP:20260422T124742
CREATED:20220921T154741Z
LAST-MODIFIED:20220921T154741Z
UID:10004819-1666720800-1666728000@newsuat.fordham.edu
SUMMARY:O’Shea Center for Credit Analysis and Investment Credit Event
DESCRIPTION:The Gabelli School of Business has established a one-of-a-kind center dedicated to educating students\, supporting alumni\, and collaborating with industry leaders across the global credit markets. \nPlease join us for the O’Shea Credit Networking Event\, featuring cocktails\, hors d’oeuvres\, and a riveting fireside chat with Harvey Schwartz\, followed by a Q&A. Schwartz is the epitome of the American dream. A 1987 graduate of Rutgers University\, Schwartz fought his way into a back-office role at Citibank. Through hard work and determination\, he succeeded in becoming president and co-chief operating officer of Goldman.
URL:https://newsuat.fordham.edu/event/oshea-center-for-credit-analysis-and-investment-credit-event/
LOCATION:The University Club\, 800 Powell Street\, San Francisco\, CA\, 94108\, United States
CATEGORIES:Networking and Career,Receptions
GEO:40.7613685;-73.9756379
X-APPLE-STRUCTURED-LOCATION;VALUE=URI;X-ADDRESS=The University Club 800 Powell Street San Francisco CA 94108 United States;X-APPLE-RADIUS=500;X-TITLE=800 Powell Street:geo:-73.9756379,40.7613685
END:VEVENT
BEGIN:VEVENT
DTSTART;TZID=Europe/London:20221026T183000
DTEND;TZID=Europe/London:20221026T203000
DTSTAMP:20260422T124742
CREATED:20220826T154628Z
LAST-MODIFIED:20220826T154628Z
UID:10004798-1666809000-1666816200@newsuat.fordham.edu
SUMMARY:2022 London Presidential Welcome Reception
DESCRIPTION:William Loschert\, K.S.G.\, GABELLI ’61\, and the Alumni Chapter of the United Kingdom cordially invite you to a complimentary reception for alumni\, parents\, and friends. Please join us as we welcome Tania Tetlow as Fordham’s 33rd president—the first woman and layperson to serve as president in the University’s history. \nSpace is limited and advance registration is required. \nAs the cost of this event is being generously covered by our host\, Bill Loschert\, K.S.G.\, please consider making a gift of $25 or more to support Cura Personalis | For Every Fordham Student.
URL:https://newsuat.fordham.edu/event/2022-london-presidential-welcome-reception/
LOCATION:Shangri-La The Shard\, 31 St Thomas Street\, London\, SE1 9QU\, United Kingdom
CATEGORIES:Receptions
ORGANIZER;CN="Office of Alumni Relations":MAILTO:alumnioffice@fordham.edu
END:VEVENT
END:VCALENDAR