BEGIN:VCALENDAR
VERSION:2.0
PRODID:-//Fordham Now - ECPv6.15.20//NONSGML v1.0//EN
CALSCALE:GREGORIAN
METHOD:PUBLISH
X-WR-CALNAME:Fordham Now
X-ORIGINAL-URL:https://newsuat.fordham.edu
X-WR-CALDESC:Events for Fordham Now
REFRESH-INTERVAL;VALUE=DURATION:PT1H
X-Robots-Tag:noindex
X-PUBLISHED-TTL:PT1H
BEGIN:VTIMEZONE
TZID:America/New_York
BEGIN:DAYLIGHT
TZOFFSETFROM:-0500
TZOFFSETTO:-0400
TZNAME:EDT
DTSTART:20210314T070000
END:DAYLIGHT
BEGIN:STANDARD
TZOFFSETFROM:-0400
TZOFFSETTO:-0500
TZNAME:EST
DTSTART:20211107T060000
END:STANDARD
BEGIN:DAYLIGHT
TZOFFSETFROM:-0500
TZOFFSETTO:-0400
TZNAME:EDT
DTSTART:20220313T070000
END:DAYLIGHT
BEGIN:STANDARD
TZOFFSETFROM:-0400
TZOFFSETTO:-0500
TZNAME:EST
DTSTART:20221106T060000
END:STANDARD
BEGIN:DAYLIGHT
TZOFFSETFROM:-0500
TZOFFSETTO:-0400
TZNAME:EDT
DTSTART:20230312T070000
END:DAYLIGHT
BEGIN:STANDARD
TZOFFSETFROM:-0400
TZOFFSETTO:-0500
TZNAME:EST
DTSTART:20231105T060000
END:STANDARD
END:VTIMEZONE
BEGIN:VEVENT
DTSTART;TZID=America/New_York:20220501T120000
DTEND;TZID=America/New_York:20220501T150000
DTSTAMP:20260422T213617
CREATED:20220303T171735Z
LAST-MODIFIED:20220303T171735Z
UID:10004669-1651406400-1651417200@newsuat.fordham.edu
SUMMARY:Alumni Chapter of Staten Island: 2022 Brunch and Award Reception
DESCRIPTION:Please join the Alumni Chapter of Staten Island for our annual gathering in celebration of men and women for others. Bishop Peter Byrne\, FCRH ’73\, will be honored for his service to New York. \nThis event costs $45 per person and includes a deluxe brunch buffet\, beer and wine\, soft drinks\, coffee\, and tea. Cocktails are not included in this price\, but can be purchased directly from Li Greci’s Staaten at the event. \nRSVP by Wednesday\, April 27\, 2022.
URL:https://newsuat.fordham.edu/event/alumni-chapter-of-staten-island-2022-brunch-and-award-reception/
LOCATION:Li Greci’s Staaten\, 697 Forest Avenue\, Staten Island\, NY\, 10310\, United States
CATEGORIES:Receptions
ORGANIZER;CN="Alumni Chapter of Staten Island":MAILTO:marjorie.pugliese@yahoo.com
GEO:40.6294737;-74.1122607
X-APPLE-STRUCTURED-LOCATION;VALUE=URI;X-ADDRESS=Li Greci’s Staaten 697 Forest Avenue Staten Island NY 10310 United States;X-APPLE-RADIUS=500;X-TITLE=697 Forest Avenue:geo:-74.1122607,40.6294737
END:VEVENT
BEGIN:VEVENT
DTSTART;TZID=America/New_York:20220514T110000
DTEND;TZID=America/New_York:20220514T110000
DTSTAMP:20260422T213617
CREATED:20220310T215025Z
LAST-MODIFIED:20220310T215025Z
UID:10004680-1652526000-1652526000@newsuat.fordham.edu
SUMMARY:Alumni Chapter of Long Island Beer Tasting
DESCRIPTION:Join the Alumni Chapter of Long Island as we sample beers at the Sand City Brewery in Lindenhurst\, a local brewery owned by Fordham College Rose Hill alumnus Bill Kiernan. \nBill will be providing a private tour of the brewery before we sample Sand City’s ales and lagers. Food trucks and live music will be on site! \nRegistration is $15 per person. RSVP by May 12.
URL:https://newsuat.fordham.edu/event/alumni-chapter-of-long-island-beer-tasting/
LOCATION:Sand City Brewery\, 150 S. Wellwood Avenue\, Lindenhurst\, NY\, 11757\, United States
CATEGORIES:Receptions
END:VEVENT
BEGIN:VEVENT
DTSTART;TZID=America/New_York:20220519T170000
DTEND;TZID=America/New_York:20220519T190000
DTSTAMP:20260422T213617
CREATED:20220331T210421Z
LAST-MODIFIED:20220331T210421Z
UID:10004707-1652979600-1652986800@newsuat.fordham.edu
SUMMARY:Alumni Chapter of Phoenix Spring Social
DESCRIPTION:The Alumni Chapter of Phoenix welcomes alumni\, family\, and friends of Fordham from across the valley for a social happy hour gathering at Garden Bar PHX. The venue is situated in a 1914 California bungalow in the South Roosevelt District and is owned and operated by Kim Haasard\, FCRH ’94. \nGarden Bar PHX will be providing an assortment of charcuterie boards and discounted drinks. RSVP by May 13. \nJoin us as we kick off the spring season!
URL:https://newsuat.fordham.edu/event/alumni-chapter-of-phoenix-spring-social/
LOCATION:Garden Bar PHX 822 North 6th Avenue Phoenix\, AZ 85003\, 822 North 6th Avenue\, Phoenix\, AZ\, 85003\, United States
CATEGORIES:Receptions,Social
ORGANIZER;CN="Alumni Chapter of Phoenix":MAILTO:natalie@arizonamediation.com
END:VEVENT
BEGIN:VEVENT
DTSTART;TZID=America/New_York:20220523T184500
DTEND;TZID=America/New_York:20220523T184500
DTSTAMP:20260422T213617
CREATED:20220504T175148Z
LAST-MODIFIED:20220504T175148Z
UID:10004739-1653331500-1653331500@newsuat.fordham.edu
SUMMARY:Alumni Chapter of Northern California: 2022 Mets at Giants
DESCRIPTION:Join San Francisco-area alumni as the best team in Major League Baseball\, the San Francisco Giants\, host the first-place New York Mets at Oracle Park. There are 60 tickets available for our group\, so don’t miss out! \nSeats are located in the Bleachers section for $20 each\, and in the Club level for $26 each. Friends and family are welcome! \nGet your tickets before they sell out!
URL:https://newsuat.fordham.edu/event/alumni-chapter-of-northern-california-2022-mets-at-giants/
LOCATION:Oracle Park\, 24 Willie Mays Plaza\, San Francisco\, CA\, 94107\, United States
CATEGORIES:Athletics,Receptions,Social
ORGANIZER;CN="Alumni Chapter of Northern California":MAILTO:markadigiorgio@att.net
END:VEVENT
BEGIN:VEVENT
DTSTART;TZID=America/New_York:20220531T080000
DTEND;TZID=America/New_York:20220531T170000
DTSTAMP:20260422T213617
CREATED:20220518T173351Z
LAST-MODIFIED:20220518T173351Z
UID:10004747-1653984000-1654016400@newsuat.fordham.edu
SUMMARY:All-Jesuit Pride Kick-Off Happy Hour
DESCRIPTION:The Rainbow Rams\, Gabelli Pride\, and Fordham OutLaws invite you to kick off Pride at Stonewall! We’ve also invited alumni from other Jesuit universities in the NYC area to join us for a night of drinks and dancing. \nRegistration from now through May 23 is $15 for three hours of open bar. From May 23–31\, registration will increase to $20. \nWe hope to see you all there!
URL:https://newsuat.fordham.edu/event/all-jesuit-pride-kick-off-happy-hour/
LOCATION:The Stonewall Inn\, 53 Christopher Street\, New York\, NY\, United States
CATEGORIES:Receptions
ORGANIZER;CN="Taylor Palmer":MAILTO:tpalmer7@fordham.edu
END:VEVENT
BEGIN:VEVENT
DTSTART;TZID=America/New_York:20220531T180000
DTEND;TZID=America/New_York:20220531T203000
DTSTAMP:20260422T213617
CREATED:20220412T192252Z
LAST-MODIFIED:20220412T192252Z
UID:10004714-1654020000-1654029000@newsuat.fordham.edu
SUMMARY:Orthodox Christian Studies Center 10th Anniversary Reception
DESCRIPTION:Join us to honor Fordham Orthodox Christian Studies Center patrons Solon and Marianna Patterson\, celebrate our 2022 scholarship and fellowship recipients\, and support the center’s work!
URL:https://newsuat.fordham.edu/event/orthodox-christian-studies-center-10th-anniversary-reception/
LOCATION:Skadden Conference Center\, 150 West 62nd Street\, New York\, NY\, 10023\, United States
CATEGORIES:Receptions
ORGANIZER;CN="Orthodox Christian Studies Center":MAILTO:orthodoxy@fordham.edu
GEO:40.7716809;-73.984777
X-APPLE-STRUCTURED-LOCATION;VALUE=URI;X-ADDRESS=Skadden Conference Center 150 West 62nd Street New York NY 10023 United States;X-APPLE-RADIUS=500;X-TITLE=150 West 62nd Street:geo:-73.984777,40.7716809
END:VEVENT
END:VCALENDAR