BEGIN:VCALENDAR
VERSION:2.0
PRODID:-//Fordham Now - ECPv6.15.20//NONSGML v1.0//EN
CALSCALE:GREGORIAN
METHOD:PUBLISH
X-ORIGINAL-URL:https://newsuat.fordham.edu
X-WR-CALDESC:Events for Fordham Now
REFRESH-INTERVAL;VALUE=DURATION:PT1H
X-Robots-Tag:noindex
X-PUBLISHED-TTL:PT1H
BEGIN:VTIMEZONE
TZID:America/New_York
BEGIN:DAYLIGHT
TZOFFSETFROM:-0500
TZOFFSETTO:-0400
TZNAME:EDT
DTSTART:20210314T070000
END:DAYLIGHT
BEGIN:STANDARD
TZOFFSETFROM:-0400
TZOFFSETTO:-0500
TZNAME:EST
DTSTART:20211107T060000
END:STANDARD
BEGIN:DAYLIGHT
TZOFFSETFROM:-0500
TZOFFSETTO:-0400
TZNAME:EDT
DTSTART:20220313T070000
END:DAYLIGHT
BEGIN:STANDARD
TZOFFSETFROM:-0400
TZOFFSETTO:-0500
TZNAME:EST
DTSTART:20221106T060000
END:STANDARD
BEGIN:DAYLIGHT
TZOFFSETFROM:-0500
TZOFFSETTO:-0400
TZNAME:EDT
DTSTART:20230312T070000
END:DAYLIGHT
BEGIN:STANDARD
TZOFFSETFROM:-0400
TZOFFSETTO:-0500
TZNAME:EST
DTSTART:20231105T060000
END:STANDARD
END:VTIMEZONE
BEGIN:VEVENT
DTSTART;TZID=America/New_York:20220106T183000
DTEND;TZID=America/New_York:20220106T203000
DTSTAMP:20260423T070654
CREATED:20211109T162305Z
LAST-MODIFIED:20211109T162305Z
UID:10004544-1641493800-1641501000@newsuat.fordham.edu
SUMMARY:2022 San Francisco Presidential Reception
DESCRIPTION:Madeline Nuñez and Armando Nuñez\, GABELLI ’82; the Fordham Alumni Chapter of Northern California; and Joseph M. McShane\, S.J.\, president of Fordham University\, cordially invite you to a complimentary reception for alumni\, family\, and friends. We hope you’ll join us in wishing Father McShane a fond farewell as he prepares to step down as president at the end of this academic year. \nSpace is limited and advance registration is required. RSVP by December 31. \nAs the cost of this reception is being generously covered by our hosts\, Madeline and Armando Nuñez\, please consider making a gift of $25 or more to support Fordham. \nPlease note: Per the City of San Francisco\, all guests must be vaccinated in order to attend\, and masks must be worn indoors unless eating or drinking.
URL:https://newsuat.fordham.edu/event/2022-san-francisco-presidential-reception/
LOCATION:The Westin 335 Powell Street San Francisco\, CA 94102\, 335 Powell Street\, San Francisco\, CA\, 94102\, United States
CATEGORIES:Receptions,Social
ORGANIZER;CN="Office of Alumni Relations":MAILTO:alumnioffice@fordham.edu
END:VEVENT
BEGIN:VEVENT
DTSTART;TZID=America/New_York:20220108T130000
DTEND;TZID=America/New_York:20220108T150000
DTSTAMP:20260423T070654
CREATED:20211109T162158Z
LAST-MODIFIED:20211109T162158Z
UID:10004543-1641646800-1641654000@newsuat.fordham.edu
SUMMARY:2022 Petaluma Presidential Reception
DESCRIPTION:Pari and Kamal Azari\, GSAS ’88; the Fordham Alumni Chapter of Northern California; and Joseph M. McShane\, S.J.\, president of Fordham University\, cordially invite alumni\, parents\, and friends to enjoy an afternoon in Petaluma\, California. This complimentary reception includes a tour of Azari Vineyards and a wine tasting. \nSpace is limited and advance registration is required. Walk-ins cannot be accommodated. RSVP by January 1\, 2022. \nPlease note: Parking is not available at Azari Vineyards. Shuttle transportation will be provided to and from downtown Petaluma before and after the reception. Additional details about the shuttle transportation will be provided to registered guests. \nAs the cost of this reception is being generously covered by our hosts\, Pari and Kamal Azari\, please consider making a gift of $25 or more to support Fordham.
URL:https://newsuat.fordham.edu/event/2022-petaluma-presidential-reception/
LOCATION:Azari Vineyards\, 1399 Spring Hill Road\, Petaluma\, CA\, 94952\, United States
CATEGORIES:Receptions,Social
ORGANIZER;CN="Office of Alumni Relations":MAILTO:alumnioffice@fordham.edu
END:VEVENT
BEGIN:VEVENT
DTSTART;TZID=America/New_York:20220110T183000
DTEND;TZID=America/New_York:20220110T193000
DTSTAMP:20260423T070654
CREATED:20211112T204026Z
LAST-MODIFIED:20211112T204026Z
UID:10004558-1641839400-1641843000@newsuat.fordham.edu
SUMMARY:2022 San Diego Presidential Reception
DESCRIPTION:The Fordham Alumni Chapter of San Diego and Joseph M. McShane\, S.J.\, president of Fordham University\, cordially invite you to a reception for alumni\, parents\, and friends. We hope you’ll join us in wishing Father McShane a fond farewell as he prepares to step down as president at the end of this academic year. \nThis year’s event costs $30 per person and includes heavy hors d’oeuvres\, beer\, and wine. \nSpace is limited and advance registration is required. RSVP by January 3\, 2022. \nPlease consider making a gift of $25 or more to support Fordham.
URL:https://newsuat.fordham.edu/event/2022-san-diego-presidential-reception/
LOCATION:The University Club Atop Symphony Towers\, 750 B St Suite 3400\, San Diego\, CA\, 92101\, United States
CATEGORIES:Receptions
ORGANIZER;CN="Office of Alumni Relations":MAILTO:alumnioffice@fordham.edu
END:VEVENT
BEGIN:VEVENT
DTSTART;TZID=America/New_York:20220112T183000
DTEND;TZID=America/New_York:20220112T203000
DTSTAMP:20260423T070654
CREATED:20211112T204143Z
LAST-MODIFIED:20211112T204143Z
UID:10004559-1642012200-1642019400@newsuat.fordham.edu
SUMMARY:2022 Los Angeles Presidential Reception
DESCRIPTION:David Javdan\, LAW ’93; the Fordham Alumni Chapter of Los Angeles; and Joseph M. McShane\, S.J.\, president of Fordham University\, cordially invite you to a reception for alumni\, parents\, and friends. We hope you’ll join us in wishing Father McShane a fond farewell before he steps down at the end of the academic year. \nSpace is limited and advance registration is required. RSVP by January 5\, 2022. \nAs the cost of this reception is being generously covered by our host\, David Javdan\, please consider making a gift of $25 or more to support Fordham. \nPlease note: Proof of COVID-19 vaccination is required to attend this event. Upon registration\, please send vaccination documentation to jleblanc11@fordham.edu. Alternatively\, you may present proof of a negative COVID-19 test within 72 hours of the event upon arrival at the reception.
URL:https://newsuat.fordham.edu/event/2022-los-angeles-presidential-reception/
LOCATION:The Javdan Home\, Address details will be emailed upon registration
CATEGORIES:Receptions
ORGANIZER;CN="Office of Alumni Relations":MAILTO:alumnioffice@fordham.edu
END:VEVENT
BEGIN:VEVENT
DTSTART;TZID=America/New_York:20220120T180000
DTEND;TZID=America/New_York:20220120T200000
DTSTAMP:20260423T070654
CREATED:20211122T182618Z
LAST-MODIFIED:20211122T182618Z
UID:10004567-1642701600-1642708800@newsuat.fordham.edu
SUMMARY:Fordham University Alumni Association Annual Reception
DESCRIPTION:Join the Fordham University Alumni Association (FUAA) at another historic NYC venue. Built as a church in 1923 by the renowned architectural firm Delano & Aldrich\, 583 Park Avenue’s ballroom is home to a 2\,500-pound chandelier\, one of the largest in New York. The red-brick\, Georgian-style building is one of the highlights of Park Avenue. \nMeet the new board members\, hear updates from Joseph M. McShane\, S.J.\, president of Fordham University\, and catch up with friends and fellow Rams as we celebrate all things Fordham. \nThe cost is $30 per person and includes heavy hors d’oeuvres and beer\, wine\, and soft drinks.
URL:https://newsuat.fordham.edu/event/fordham-university-alumni-association-annual-reception/
LOCATION:583 Park Avenune\, 583 Park Ave\, New York\, NY\, 10065\, United States
CATEGORIES:Receptions
ORGANIZER;CN="Fordham University Alumni Association":MAILTO:fuaa@fordham.edu
END:VEVENT
BEGIN:VEVENT
DTSTART;TZID=America/New_York:20220124T183000
DTEND;TZID=America/New_York:20220124T203000
DTSTAMP:20260423T070654
CREATED:20211130T224645Z
LAST-MODIFIED:20211130T224645Z
UID:10004573-1643049000-1643056200@newsuat.fordham.edu
SUMMARY:2022 Austin Presidential Reception
DESCRIPTION:The Fordham Alumni Chapter of Austin and Joseph M. McShane\, S.J.\, president of Fordham University\, cordially invite you to a reception for alumni\, parents\, and friends. We hope you’ll join us in wishing Father McShane a fond farewell as he prepares to step down as president at the end of this academic year. \nThis event costs $30 per person and includes heavy hors d’oeuvres\, beer\, and wine. \nPlease consider making a gift of $25 or more to support the University’s new campaign\, Cura Personalis | For Every Fordham Student.
URL:https://newsuat.fordham.edu/event/2022-austin-presidential-reception/
LOCATION:The Driskill Hotel\, 604 Brazos Street\, Austin\, TX\, 78701\, United States
CATEGORIES:Receptions,Social
ORGANIZER;CN="Office of Alumni Relations":MAILTO:alumnioffice@fordham.edu
GEO:30.2682606;-97.7417091
X-APPLE-STRUCTURED-LOCATION;VALUE=URI;X-ADDRESS=The Driskill Hotel 604 Brazos Street Austin TX 78701 United States;X-APPLE-RADIUS=500;X-TITLE=604 Brazos Street:geo:-97.7417091,30.2682606
END:VEVENT
BEGIN:VEVENT
DTSTART;TZID=America/New_York:20220125T183000
DTEND;TZID=America/New_York:20220125T203000
DTSTAMP:20260423T070654
CREATED:20211130T225023Z
LAST-MODIFIED:20211130T225023Z
UID:10004575-1643135400-1643142600@newsuat.fordham.edu
SUMMARY:2022 Dallas Presidential Reception
DESCRIPTION:Doreen Quinn and Bill Quinn\, GABELLI ’69; the Fordham Alumni Chapter of Dallas; and Joseph M. McShane\, S.J.\, president of Fordham University\, cordially invite you to a complimentary reception for alumni\, parents\, and friends. We hope you’ll join us in wishing Father McShane a fond farewell before he steps down at the end of the academic year. \nAs the cost of this event is being generously covered by our hosts\, Doreen and Bill Quinn\, please consider making a gift of $25 or more to support the University’s new campaign\, Cura Personalis | For Every Fordham Student.
URL:https://newsuat.fordham.edu/event/2022-dallas-presidential-reception/
LOCATION:The Tower Club\, 1601 Elm Street\, 48th Floor\, Dallas\, TX\, 75201\, United States
CATEGORIES:Receptions,Social
ORGANIZER;CN="Office of Alumni Relations":MAILTO:alumnioffice@fordham.edu
END:VEVENT
BEGIN:VEVENT
DTSTART;TZID=America/New_York:20220126T183000
DTEND;TZID=America/New_York:20220126T203000
DTSTAMP:20260423T070654
CREATED:20211130T224925Z
LAST-MODIFIED:20211130T224925Z
UID:10004574-1643221800-1643229000@newsuat.fordham.edu
SUMMARY:2022 Houston Presidential Reception
DESCRIPTION:Ronald DePinho\, M.D.\, FCRH ’77\, and Lynda Chin\, M.D.; the Fordham Alumni Chapter of Houston; and Joseph M. McShane\, S.J.\, president of Fordham University\, cordially invite you to a complimentary reception for alumni\, parents\, and friends. We hope you’ll join us in wishing Father McShane a fond farewell before he steps down at the end of the academic year. \nPlease note: Proof of COVID-19 vaccination is required to attend this event. Upon registration\, please send vaccination documentation to jleblanc11@fordham.edu. \nAs the cost of this event is being generously covered by our hosts\, Ronald DePinho and Lynda Chin\, please consider making a gift of $25 or more to support the University’s new campaign\, Cura Personalis | For Every Fordham Student.
URL:https://newsuat.fordham.edu/event/2022-houston-presidential-reception/
LOCATION:The DePinho-Chin Home\, United States
CATEGORIES:Receptions,Social
ORGANIZER;CN="Office of Alumni Relations":MAILTO:alumnioffice@fordham.edu
GEO:37.09024;-95.712891
END:VEVENT
END:VCALENDAR