BEGIN:VCALENDAR
VERSION:2.0
PRODID:-//Fordham Now - ECPv6.15.20//NONSGML v1.0//EN
CALSCALE:GREGORIAN
METHOD:PUBLISH
X-WR-CALNAME:Fordham Now
X-ORIGINAL-URL:https://newsuat.fordham.edu
X-WR-CALDESC:Events for Fordham Now
REFRESH-INTERVAL;VALUE=DURATION:PT1H
X-Robots-Tag:noindex
X-PUBLISHED-TTL:PT1H
BEGIN:VTIMEZONE
TZID:America/New_York
BEGIN:DAYLIGHT
TZOFFSETFROM:-0500
TZOFFSETTO:-0400
TZNAME:EDT
DTSTART:20200308T070000
END:DAYLIGHT
BEGIN:STANDARD
TZOFFSETFROM:-0400
TZOFFSETTO:-0500
TZNAME:EST
DTSTART:20201101T060000
END:STANDARD
BEGIN:DAYLIGHT
TZOFFSETFROM:-0500
TZOFFSETTO:-0400
TZNAME:EDT
DTSTART:20210314T070000
END:DAYLIGHT
BEGIN:STANDARD
TZOFFSETFROM:-0400
TZOFFSETTO:-0500
TZNAME:EST
DTSTART:20211107T060000
END:STANDARD
BEGIN:DAYLIGHT
TZOFFSETFROM:-0500
TZOFFSETTO:-0400
TZNAME:EDT
DTSTART:20220313T070000
END:DAYLIGHT
BEGIN:STANDARD
TZOFFSETFROM:-0400
TZOFFSETTO:-0500
TZNAME:EST
DTSTART:20221106T060000
END:STANDARD
END:VTIMEZONE
BEGIN:VEVENT
DTSTART;TZID=America/New_York:20210415T180000
DTEND;TZID=America/New_York:20210415T190000
DTSTAMP:20260423T221157
CREATED:20210325T135621Z
LAST-MODIFIED:20210325T135621Z
UID:10004279-1618509600-1618513200@newsuat.fordham.edu
SUMMARY:From Fordham to Your Field: Forge Your Own Path\, Creative Career Journeys
DESCRIPTION:The Office of Alumni Relations and Joseph M. McShane\, S.J.\, president of Fordham University\, cordially invite you to attend “Forge Your Own Path\, Creative Career Journeys\,” a special panel discussion highlighting alumni who followed a non-traditional professional journey after graduating from Fordham. \nThe discussion is part of a special\, three-part series—called “From Fordham to Your Field: Notes on Educating the Whole Person”—of profession-based conversations by alumni in related industries to provide a better understanding of how these individuals apply their Fordham education and experience to the world of work while remaining focused on the well-being of the larger community.
URL:https://newsuat.fordham.edu/event/from-fordham-to-your-field-forge-your-own-path-creative-career-journeys/
LOCATION:Zoom
CATEGORIES:Networking and Career,Receptions
ORGANIZER;CN="Office of Alumni Relations":MAILTO:alumnioffice@fordham.edu
END:VEVENT
BEGIN:VEVENT
DTSTART;TZID=America/New_York:20210419T180000
DTEND;TZID=America/New_York:20210419T190000
DTSTAMP:20260423T221157
CREATED:20210325T140250Z
LAST-MODIFIED:20210325T140250Z
UID:10004280-1618855200-1618858800@newsuat.fordham.edu
SUMMARY:From Fordham to Your Field: Caring for Others During a Pandemic
DESCRIPTION:The Office of Alumni Relations and Joseph M. McShane\, S.J.\, president of Fordham University\, cordially invite you to attend “Caring for Others During a Pandemic\,” a special panel discussion featuring alumni holding various health care positions sharing how they’ve navigated their roles and responsibilities during the current global health crisis. \nThe discussion is part of a special\, three-part series—called “From Fordham to Your Field: Notes on Educating the Whole Person”—of profession-based conversations by alumni in related industries to provide a better understanding of how these individuals apply their Fordham education and experience to the world of work while remaining focused on the well-being of the larger community.
URL:https://newsuat.fordham.edu/event/from-fordham-to-your-field-caring-for-others-during-a-pandemic/
LOCATION:Zoom
CATEGORIES:Networking and Career,Receptions
ORGANIZER;CN="Office of Alumni Relations":MAILTO:alumnioffice@fordham.edu
END:VEVENT
BEGIN:VEVENT
DTSTART;TZID=America/New_York:20210426T180000
DTEND;TZID=America/New_York:20210426T190000
DTSTAMP:20260423T221157
CREATED:20210325T140511Z
LAST-MODIFIED:20210325T140511Z
UID:10004281-1619460000-1619463600@newsuat.fordham.edu
SUMMARY:From Fordham to Your Field: Community Building in the Time of Binge-Watching
DESCRIPTION:The Office of Alumni Relations and Joseph M. McShane\, S.J.\, president of Fordham University\, cordially invite you to attend “Community Building in the Time of Binge-Watching\,” a special panel discussion featuring alumni working in the entertainment industry sharing how they’ve created meaningful and engaging content for their audiences through their work. \nThe discussion is part of a special\, three-part series—called “From Fordham to Your Field: Notes on Educating the Whole Person”—of profession-based conversations by alumni in related industries to provide a better understanding of how these individuals apply their Fordham education and experience to the world of work while remaining focused on the well-being of the larger community.
URL:https://newsuat.fordham.edu/event/from-fordham-to-your-field-community-building-in-the-time-of-binge-watching/
LOCATION:Zoom
CATEGORIES:Networking and Career,Receptions
ORGANIZER;CN="Office of Alumni Relations":MAILTO:alumnioffice@fordham.edu
END:VEVENT
END:VCALENDAR