BEGIN:VCALENDAR
VERSION:2.0
PRODID:-//Fordham Now - ECPv6.15.20//NONSGML v1.0//EN
CALSCALE:GREGORIAN
METHOD:PUBLISH
X-ORIGINAL-URL:https://newsuat.fordham.edu
X-WR-CALDESC:Events for Fordham Now
REFRESH-INTERVAL;VALUE=DURATION:PT1H
X-Robots-Tag:noindex
X-PUBLISHED-TTL:PT1H
BEGIN:VTIMEZONE
TZID:America/New_York
BEGIN:DAYLIGHT
TZOFFSETFROM:-0500
TZOFFSETTO:-0400
TZNAME:EDT
DTSTART:20190310T070000
END:DAYLIGHT
BEGIN:STANDARD
TZOFFSETFROM:-0400
TZOFFSETTO:-0500
TZNAME:EST
DTSTART:20191103T060000
END:STANDARD
BEGIN:DAYLIGHT
TZOFFSETFROM:-0500
TZOFFSETTO:-0400
TZNAME:EDT
DTSTART:20200308T070000
END:DAYLIGHT
BEGIN:STANDARD
TZOFFSETFROM:-0400
TZOFFSETTO:-0500
TZNAME:EST
DTSTART:20201101T060000
END:STANDARD
BEGIN:DAYLIGHT
TZOFFSETFROM:-0500
TZOFFSETTO:-0400
TZNAME:EDT
DTSTART:20210314T070000
END:DAYLIGHT
BEGIN:STANDARD
TZOFFSETFROM:-0400
TZOFFSETTO:-0500
TZNAME:EST
DTSTART:20211107T060000
END:STANDARD
END:VTIMEZONE
BEGIN:VTIMEZONE
TZID:Asia/Shanghai
BEGIN:STANDARD
TZOFFSETFROM:+0800
TZOFFSETTO:+0800
TZNAME:CST
DTSTART:20190101T000000
END:STANDARD
END:VTIMEZONE
BEGIN:VTIMEZONE
TZID:America/Los_Angeles
BEGIN:DAYLIGHT
TZOFFSETFROM:-0800
TZOFFSETTO:-0700
TZNAME:PDT
DTSTART:20190310T100000
END:DAYLIGHT
BEGIN:STANDARD
TZOFFSETFROM:-0700
TZOFFSETTO:-0800
TZNAME:PST
DTSTART:20191103T090000
END:STANDARD
BEGIN:DAYLIGHT
TZOFFSETFROM:-0800
TZOFFSETTO:-0700
TZNAME:PDT
DTSTART:20200308T100000
END:DAYLIGHT
BEGIN:STANDARD
TZOFFSETFROM:-0700
TZOFFSETTO:-0800
TZNAME:PST
DTSTART:20201101T090000
END:STANDARD
BEGIN:DAYLIGHT
TZOFFSETFROM:-0800
TZOFFSETTO:-0700
TZNAME:PDT
DTSTART:20210314T100000
END:DAYLIGHT
BEGIN:STANDARD
TZOFFSETFROM:-0700
TZOFFSETTO:-0800
TZNAME:PST
DTSTART:20211107T090000
END:STANDARD
END:VTIMEZONE
BEGIN:VEVENT
DTSTART;TZID=America/New_York:20201206T133000
DTEND;TZID=America/New_York:20201206T150000
DTSTAMP:20260424T042736
CREATED:20201130T163409Z
LAST-MODIFIED:20201130T163409Z
UID:10004150-1607261400-1607266800@newsuat.fordham.edu
SUMMARY:Marymount College Founder's Day
DESCRIPTION:Join Marymount College graduates\, administrators\, members of the Religious of the Sacred Heart of Mary (R.S.H.M.)\, and their families to celebrate the college’s founding by Mother Marie Joseph Butler. \nThis year’s event celebrates R.S.H.M. around the globe. Join us virtually as we learn more about the impact that the R.S.H.M. has throughout the world\, listen to the Marymount Alumnae Choir sing the alma mater\, and connect with fellow classmates as we commemorate our rich legacy.
URL:https://newsuat.fordham.edu/event/marymount-college-founders-day/
LOCATION:Zoom
CATEGORIES:Receptions
ORGANIZER;CN="Colleen Merolle":MAILTO:cmerolle@fordham.edu
END:VEVENT
BEGIN:VEVENT
DTSTART;TZID=America/New_York:20201208T180000
DTEND;TZID=America/New_York:20201208T190000
DTSTAMP:20260424T042736
CREATED:20201118T170834Z
LAST-MODIFIED:20201118T170834Z
UID:10004145-1607450400-1607454000@newsuat.fordham.edu
SUMMARY:Alumni Chapter of Washington\, D.C.\, Virtual Christmas Cooking Demo
DESCRIPTION:Get ready for Christmas! Mike Mele\, FCRH ’74\, a local alumnus and board member of the Fordham University Alumni Chapter of Washington\, D.C.\, will teach you how to make traditional beef wellington and prepare for this year’s Christmas dinner. This event is open to alumni of all ages and chapters. Join us from the comfort of your home to celebrate the season!
URL:https://newsuat.fordham.edu/event/alumni-chapter-of-washington-d-c-virtual-christmas-cooking-demo/
LOCATION:Zoom
CATEGORIES:Receptions,Social
ORGANIZER;CN="Alumni Chapter of Washington%2C D.C.":MAILTO:fordham.club.dc@gmail.com
END:VEVENT
BEGIN:VEVENT
DTSTART;TZID=Asia/Shanghai:20201209T193000
DTEND;TZID=Asia/Shanghai:20201209T203000
DTSTAMP:20260424T042736
CREATED:20201019T180946Z
LAST-MODIFIED:20201019T180946Z
UID:10004114-1607542200-1607545800@newsuat.fordham.edu
SUMMARY:2020 Presidential Regional Tour: Asia and South Pacific
DESCRIPTION:While we are disappointed that the annual Presidential regional tour cannot take place in person this year\, the Office of Alumni Relations cordially invites you to attend a special virtual program for alumni\, parents\, and friends. \nAttendees will hear from Joseph M. McShane\, S.J.\, president of Fordham University; Donna Rapaccioli\, Ph.D.\, dean\, Gabelli School of Business; and Michael Griffin\, associate vice president for alumni relations. Information about a featured speaker is forthcoming. \nAttendees are invited to submit questions ahead of time to be answered during the event Q&A.
URL:https://newsuat.fordham.edu/event/2020-presidential-regional-tour-asia-and-south-pacific/
LOCATION:Zoom
CATEGORIES:Lectures,Receptions
ATTACH;FMTTYPE=image/jpeg:https://newsuat.fordham.edu/wp-content/uploads/2020/10/Gabelli-LC-e1603130948130.jpg
ORGANIZER;CN="Office of Alumni Relations":MAILTO:alumnioffice@fordham.edu
END:VEVENT
BEGIN:VEVENT
DTSTART;TZID=America/Los_Angeles:20201216T183000
DTEND;TZID=America/Los_Angeles:20201216T193000
DTSTAMP:20260424T042736
CREATED:20201019T180730Z
LAST-MODIFIED:20201019T180730Z
UID:10004115-1608143400-1608147000@newsuat.fordham.edu
SUMMARY:2020 Presidential Regional Tour: West Coast and Rocky Mountain U.S.
DESCRIPTION:While we are disappointed that the annual Presidential regional tour cannot take place in person this year\, the Office of Alumni Relations cordially invites you to attend a special virtual program for alumni\, parents\, and friends. \nGuests will hear from Joseph M. McShane\, S.J.\, president of Fordham University\, and Michael Griffin\, associate vice president for alumni relations. Information about a featured speaker is forthcoming. \nAttendees are invited to submit questions ahead of time to be answered during the event Q&A.
URL:https://newsuat.fordham.edu/event/2020-presidential-regional-tour-west-coast-and-rocky-mountain-u-s/
LOCATION:Zoom
CATEGORIES:Lectures,Receptions
ATTACH;FMTTYPE=image/jpeg:https://newsuat.fordham.edu/wp-content/uploads/2020/10/ignatius.jpg
ORGANIZER;CN="Office of Alumni Relations":MAILTO:alumnioffice@fordham.edu
END:VEVENT
END:VCALENDAR