BEGIN:VCALENDAR
VERSION:2.0
PRODID:-//Fordham Now - ECPv6.15.20//NONSGML v1.0//EN
CALSCALE:GREGORIAN
METHOD:PUBLISH
X-ORIGINAL-URL:https://newsuat.fordham.edu
X-WR-CALDESC:Events for Fordham Now
REFRESH-INTERVAL;VALUE=DURATION:PT1H
X-Robots-Tag:noindex
X-PUBLISHED-TTL:PT1H
BEGIN:VTIMEZONE
TZID:America/New_York
BEGIN:DAYLIGHT
TZOFFSETFROM:-0500
TZOFFSETTO:-0400
TZNAME:EDT
DTSTART:20190310T070000
END:DAYLIGHT
BEGIN:STANDARD
TZOFFSETFROM:-0400
TZOFFSETTO:-0500
TZNAME:EST
DTSTART:20191103T060000
END:STANDARD
BEGIN:DAYLIGHT
TZOFFSETFROM:-0500
TZOFFSETTO:-0400
TZNAME:EDT
DTSTART:20200308T070000
END:DAYLIGHT
BEGIN:STANDARD
TZOFFSETFROM:-0400
TZOFFSETTO:-0500
TZNAME:EST
DTSTART:20201101T060000
END:STANDARD
BEGIN:DAYLIGHT
TZOFFSETFROM:-0500
TZOFFSETTO:-0400
TZNAME:EDT
DTSTART:20210314T070000
END:DAYLIGHT
BEGIN:STANDARD
TZOFFSETFROM:-0400
TZOFFSETTO:-0500
TZNAME:EST
DTSTART:20211107T060000
END:STANDARD
END:VTIMEZONE
BEGIN:VTIMEZONE
TZID:America/Los_Angeles
BEGIN:DAYLIGHT
TZOFFSETFROM:-0800
TZOFFSETTO:-0700
TZNAME:PDT
DTSTART:20190310T100000
END:DAYLIGHT
BEGIN:STANDARD
TZOFFSETFROM:-0700
TZOFFSETTO:-0800
TZNAME:PST
DTSTART:20191103T090000
END:STANDARD
BEGIN:DAYLIGHT
TZOFFSETFROM:-0800
TZOFFSETTO:-0700
TZNAME:PDT
DTSTART:20200308T100000
END:DAYLIGHT
BEGIN:STANDARD
TZOFFSETFROM:-0700
TZOFFSETTO:-0800
TZNAME:PST
DTSTART:20201101T090000
END:STANDARD
BEGIN:DAYLIGHT
TZOFFSETFROM:-0800
TZOFFSETTO:-0700
TZNAME:PDT
DTSTART:20210314T100000
END:DAYLIGHT
BEGIN:STANDARD
TZOFFSETFROM:-0700
TZOFFSETTO:-0800
TZNAME:PST
DTSTART:20211107T090000
END:STANDARD
END:VTIMEZONE
BEGIN:VEVENT
DTSTART;TZID=America/New_York:20201104T183000
DTEND;TZID=America/New_York:20201104T193000
DTSTAMP:20260424T060350
CREATED:20201019T181303Z
LAST-MODIFIED:20201019T181303Z
UID:10004113-1604514600-1604518200@newsuat.fordham.edu
SUMMARY:2020 Presidential Regional Tour: East Coast and Central U.S.
DESCRIPTION:While we are disappointed that the annual Presidential regional tour cannot take place in person this year\, the Office of Alumni Relations cordially invites you to attend a special virtual program for alumni\, parents\, and friends. \nAttendees will hear from Joseph M. McShane\, S.J.\, president of Fordham University; Michael Griffin\, associate vice president for alumni relations; and John D. Feerick\, FCRH ’58\, LAW ’61\, professor and former dean of Fordham Law. \nAttendees are invited to submit questions ahead of time to be answered during the event Q&A.
URL:https://newsuat.fordham.edu/event/2020-presidential-regional-tour-east-coast-and-central-u-s/
LOCATION:Zoom
CATEGORIES:Lectures,Receptions
ATTACH;FMTTYPE=image/jpeg:https://newsuat.fordham.edu/wp-content/uploads/2020/10/keating.jpg
ORGANIZER;CN="Office of Alumni Relations":MAILTO:alumnioffice@fordham.edu
END:VEVENT
BEGIN:VEVENT
DTSTART;TZID=America/Los_Angeles:20201119T180000
DTEND;TZID=America/Los_Angeles:20201119T191500
DTSTAMP:20260424T060350
CREATED:20201112T151429Z
LAST-MODIFIED:20201112T151429Z
UID:10004141-1605808800-1605813300@newsuat.fordham.edu
SUMMARY:Alumni Chapter of LA: November Virtual Happy Hour
DESCRIPTION:We’ve missed being able to gather in person\, and we hope everyone is staying safe. Since we can’t get together face to face\, the Alumni Chapter of Los Angeles invites you to join other Southern California Rams for a virtual happy hour before the holidays. Grab your beverage of choice and catch up with LA-area alumni and parents!
URL:https://newsuat.fordham.edu/event/alumni-chapter-of-la-november-virtual-happy-hour/
LOCATION:Zoom
CATEGORIES:Receptions,Social
ORGANIZER;CN="Alumni Chapter of Los Angeles":MAILTO:evafordham@gmail.com
END:VEVENT
END:VCALENDAR