BEGIN:VCALENDAR
VERSION:2.0
PRODID:-//Fordham Now - ECPv6.15.20//NONSGML v1.0//EN
CALSCALE:GREGORIAN
METHOD:PUBLISH
X-ORIGINAL-URL:https://newsuat.fordham.edu
X-WR-CALDESC:Events for Fordham Now
REFRESH-INTERVAL;VALUE=DURATION:PT1H
X-Robots-Tag:noindex
X-PUBLISHED-TTL:PT1H
BEGIN:VTIMEZONE
TZID:America/New_York
BEGIN:DAYLIGHT
TZOFFSETFROM:-0500
TZOFFSETTO:-0400
TZNAME:EDT
DTSTART:20190310T070000
END:DAYLIGHT
BEGIN:STANDARD
TZOFFSETFROM:-0400
TZOFFSETTO:-0500
TZNAME:EST
DTSTART:20191103T060000
END:STANDARD
BEGIN:DAYLIGHT
TZOFFSETFROM:-0500
TZOFFSETTO:-0400
TZNAME:EDT
DTSTART:20200308T070000
END:DAYLIGHT
BEGIN:STANDARD
TZOFFSETFROM:-0400
TZOFFSETTO:-0500
TZNAME:EST
DTSTART:20201101T060000
END:STANDARD
BEGIN:DAYLIGHT
TZOFFSETFROM:-0500
TZOFFSETTO:-0400
TZNAME:EDT
DTSTART:20210314T070000
END:DAYLIGHT
BEGIN:STANDARD
TZOFFSETFROM:-0400
TZOFFSETTO:-0500
TZNAME:EST
DTSTART:20211107T060000
END:STANDARD
END:VTIMEZONE
BEGIN:VTIMEZONE
TZID:America/Kentucky/Louisville
BEGIN:DAYLIGHT
TZOFFSETFROM:-0500
TZOFFSETTO:-0400
TZNAME:EDT
DTSTART:20190310T070000
END:DAYLIGHT
BEGIN:STANDARD
TZOFFSETFROM:-0400
TZOFFSETTO:-0500
TZNAME:EST
DTSTART:20191103T060000
END:STANDARD
BEGIN:DAYLIGHT
TZOFFSETFROM:-0500
TZOFFSETTO:-0400
TZNAME:EDT
DTSTART:20200308T070000
END:DAYLIGHT
BEGIN:STANDARD
TZOFFSETFROM:-0400
TZOFFSETTO:-0500
TZNAME:EST
DTSTART:20201101T060000
END:STANDARD
BEGIN:DAYLIGHT
TZOFFSETFROM:-0500
TZOFFSETTO:-0400
TZNAME:EDT
DTSTART:20210314T070000
END:DAYLIGHT
BEGIN:STANDARD
TZOFFSETFROM:-0400
TZOFFSETTO:-0500
TZNAME:EST
DTSTART:20211107T060000
END:STANDARD
END:VTIMEZONE
BEGIN:VEVENT
DTSTART;TZID=America/New_York:20200206T180000
DTEND;TZID=America/New_York:20200206T203000
DTSTAMP:20260424T204857
CREATED:20191216T192502Z
LAST-MODIFIED:20191216T192502Z
UID:10003825-1581012000-1581021000@newsuat.fordham.edu
SUMMARY:Baseball Hot Stove
DESCRIPTION:Join Fordham baseball head coach Kevin Leighton and the Fordham baseball team captains as Coach Leighton discusses the upcoming season! \nGather with former players\, friends\, and fans to relive the glory days of Fordham baseball and to celebrate the 2019 A–10 Champions’ future.
URL:https://newsuat.fordham.edu/event/baseball-hot-stove/
LOCATION:Heartland Brewery and Chophouse\, 127 W. 43rd St.\, New York\, United States
CATEGORIES:Athletics,Receptions,Reunions
ATTACH;FMTTYPE=image/jpeg:https://newsuat.fordham.edu/wp-content/uploads/2019/12/Baseball_A10_Champs.jpg
ORGANIZER;CN="Kara Field":MAILTO:kfield1@fordham.edu
END:VEVENT
BEGIN:VEVENT
DTSTART;TZID=America/New_York:20200207T100000
DTEND;TZID=America/New_York:20200207T110000
DTSTAMP:20260424T204857
CREATED:20191125T150706Z
LAST-MODIFIED:20191125T150706Z
UID:10003800-1581069600-1581073200@newsuat.fordham.edu
SUMMARY:PGIM Fixed Income Presents 'Macroeconomic Trends and Fixed Income Opportunities At The Dawn of a New Decade'
DESCRIPTION:PGIM Fixed Income is a global asset manager offering active solutions across all fixed income markets. With more than $838 billion in assets under management as of Sept. 30\, 2019\, PGIM Fixed Income is entrusted with the institutional assets of sovereign wealth funds\, central banks\, and large pension funds globally. \nIn collaboration with the Gabelli School of Business Career Development Center\, PGIM Fixed Income will be hosting an informal forum with two of our senior investment professionals. \n“Macroeconomic Trends and Fixed Income Opportunities at the Dawn of a New Decade” will be an insightful discussion with Nathan Sheets\, former undersecretary of the U.S. Treasury and PGIM Fixed Income’s chief economist\, and Gregory Peters\, GABELLI ’00\, PGIM Fixed Income’s head of multi-sector and strategy.
URL:https://newsuat.fordham.edu/event/pgim-fixed-income-presents-macroeconomic-trends-and-fixed-income-opportunities-at-the-dawn-of-a-new-decade/
LOCATION:McNally Amphitheatre\, 140 West 62nd Street\, New York\, NY\, 10023\, United States
CATEGORIES:Lectures,Networking and Career,Receptions
ORGANIZER;CN="Career Center for Cura Personalis - Lincoln Center":MAILTO:CareerPlan@fordham.edu
GEO:40.7713958;-73.9844894
X-APPLE-STRUCTURED-LOCATION;VALUE=URI;X-ADDRESS=McNally Amphitheatre 140 West 62nd Street New York NY 10023 United States;X-APPLE-RADIUS=500;X-TITLE=140 West 62nd Street:geo:-73.9844894,40.7713958
END:VEVENT
BEGIN:VEVENT
DTSTART;TZID=America/New_York:20200210T180000
DTEND;TZID=America/New_York:20200210T200000
DTSTAMP:20260424T204857
CREATED:20200122T170445Z
LAST-MODIFIED:20200122T170445Z
UID:10003853-1581357600-1581364800@newsuat.fordham.edu
SUMMARY:Investing In Financial Research: A Decision-Making System For Better Results with Cheryl Einhorn
DESCRIPTION:Got financial decisions to make? Learn how to invest in financial research with author Cheryl Einhorn at this book lecture sponsored by the Gabelli Center for Global Security Analysis. \nEvery day\, people around the world make financial decisions. They choose to invest in a stock\, sell their holdings in a mutual fund\, or buy a condominium. These decisions are complex and financially tricky—even for financial professionals. But the literature available on financial research is dated and narrowly focused without any real practical application. Until now there’s been a gap in the literature—a book that shows you how to conduct a step-by-step comprehensive financial investigation that ends in a decision. \nThis book gives you that how. \nInvesting in Financial Research is a guidebook for conducting financial investigations and lays out Cheryl Strauss Einhorn’s AREA Method—a research and decision-making system that uniquely controls for bias\, focuses on the incentives of others and expands knowledge while improving judgement—and applies it to investigating financial situations. AREA is applicable to all sorts of financial sleuthing\, whether for investment analysis or investigative journalism. It allows you to be the expert in your own life. \nFirst 100 attendees will receive a free copy of the book. \nAbout the Author: \nCheryl Strauss Einhorn is the creator of the AREA Method\, a decision making system for individuals and companies to solve complex problems. She is the founder of CSE Consulting and the author of the award-winning book Problem Solved: A Powerful System for Making Complex Decisions with Confidence & Conviction. Einhorn teaches as an adjunct professor at Columbia Business School and has won several journalism awards for her investigative stories about international political\, business and economic topics. Learn more at areamethod.com.
URL:https://newsuat.fordham.edu/event/investing-in-financial-research-a-decision-making-system-for-better-results-with-cheryl-einhorn/
LOCATION:140 W 62nd St Room G76\, 140 West 62nd St\, New York\, NY\, 10023\, United States
CATEGORIES:Lectures,Networking and Career,Receptions
ATTACH;FMTTYPE=image/jpeg:https://newsuat.fordham.edu/wp-content/uploads/2020/01/Einhorn-header.jpg
ORGANIZER;CN="Gabelli Center for Global Security Analysis":MAILTO:gabellicenter@fordham.edu
GEO:40.7708724;-73.9842943
X-APPLE-STRUCTURED-LOCATION;VALUE=URI;X-ADDRESS=140 W 62nd St Room G76 140 West 62nd St New York NY 10023 United States;X-APPLE-RADIUS=500;X-TITLE=140 West 62nd St:geo:-73.9842943,40.7708724
END:VEVENT
BEGIN:VEVENT
DTSTART;TZID=America/New_York:20200217T180000
DTEND;TZID=America/New_York:20200217T203000
DTSTAMP:20260424T204857
CREATED:20191229T220203Z
LAST-MODIFIED:20191229T220203Z
UID:10003831-1581962400-1581971400@newsuat.fordham.edu
SUMMARY:2020 Naples Presidential Reception
DESCRIPTION:Robert O’Connell\, FCRH ’65\, the Fordham Alumni Chapter of Southwest Florida and Naples\, and Joseph M. McShane\, S.J.\, president of Fordham University\, cordially invite you to a complimentary reception for alumni\, parents\, and friends. \nIn an effort to maximize the amount of time to socialize and catch up with fellow Rams\, the format of this year’s event has changed from a dinner to a reception. \nSpace is limited\, so advance registration is required and will be honored on a first-come\, first-served basis. This event will sell out\, and unfortunately\, walk-in guests cannot be accommodated. \nAs the cost of this event is being generously covered by Bob O’Connell\, please consider making a gift of $25 or more to support Fordham.
URL:https://newsuat.fordham.edu/event/2020-naples-presidential-reception/
LOCATION:The Rookery Clubhouse\, 3433 Club Center Boulevard\, Naples\, FL\, 34114\, United States
CATEGORIES:Receptions
ATTACH;FMTTYPE=image/jpeg:https://newsuat.fordham.edu/wp-content/uploads/2019/12/20-0122_AR_REGIONAL_EMAIL_BANNERS_Naples5.jpg
ORGANIZER;CN="Office of Alumni Relations":MAILTO:alumnioffice@fordham.edu
END:VEVENT
BEGIN:VEVENT
DTSTART;TZID=America/New_York:20200218T170000
DTEND;TZID=America/New_York:20200218T190000
DTSTAMP:20260424T204857
CREATED:20200203T144945Z
LAST-MODIFIED:20200203T144945Z
UID:10003886-1582045200-1582052400@newsuat.fordham.edu
SUMMARY:Revolutionizing Learning: An Evening with Cathy N. Davidson
DESCRIPTION:The ReImagining Higher Education Initiative kicks off its speaker series with Cathy N. Davidson. \nJoin us for an interactive evening on innovation in teaching\, learning\, and the future of higher education. The talk will be followed by a Q&A session and a reception. \nThis event is open to the Fordham community and it will also be live-streamed to the Lincoln Center campus in the South Lounge. \nCathy N. Davidson is author\, among others\, of The New Education (2011) and Now You See It (2011). She is the founding director of the “Futures Initiatives” and distinguished professor of English at the CUNY Graduate Center. A leading innovator in the areas of institutional change\, professional development\, and personal health\, success\, and performance in the digital age\, she is also a distinguished scholar of the history of technology and author of 20 books on technology\, education\, and cognitive neuroscience.
URL:https://newsuat.fordham.edu/event/revolutionizing-learning-an-evening-with-cathy-n-davidson/
LOCATION:Bepler Commons\, Faber Hall\, Rose Hill Campus 441 E Fordham Rd\, Bronx\, NY\, 10458\, United States
CATEGORIES:Lectures,Receptions
ATTACH;FMTTYPE=image/jpeg:https://newsuat.fordham.edu/wp-content/uploads/2020/02/Cathy-Davidson.jpg
ORGANIZER;CN="Arts &amp%3B Science Faculty":MAILTO:perciasepe@fordham.edu
GEO:40.8619545;-73.8855064
X-APPLE-STRUCTURED-LOCATION;VALUE=URI;X-ADDRESS=Bepler Commons Faber Hall Rose Hill Campus 441 E Fordham Rd Bronx NY 10458 United States;X-APPLE-RADIUS=500;X-TITLE=Faber Hall\, Rose Hill Campus 441 E Fordham Rd:geo:-73.8855064,40.8619545
END:VEVENT
BEGIN:VEVENT
DTSTART;TZID=America/New_York:20200218T180000
DTEND;TZID=America/New_York:20200218T200000
DTSTAMP:20260424T204857
CREATED:20200122T170742Z
LAST-MODIFIED:20200122T170742Z
UID:10003855-1582048800-1582056000@newsuat.fordham.edu
SUMMARY:The Need for Non-Consensus Investing with Rupal Bhansali
DESCRIPTION:Through a series of counterintuitive concepts and contemporary case studies based on her firsthand experience of investing in 50 markets around the globe\, Rupal Bhansali describes in her new book\, The Need for Non-Consensus Investing\, how to perform differentiated fundamental research to uncover mispriced stocks. Bhansali  candidly shares her failures and mistakes as well as her successes and triumphs. \nBhansali weaves in her personal journey\, recounting how she overcame the odds to succeed in a male-dominated profession and offering advice on breaking the glass ceiling. Non-Consensus Investing is a must-read for anyone who seeks to understand why active investing has disappointed and how it can succeed. \nAnalysts and amateurs\, fiduciaries and financial advisors\, aspiring and practicing money managers\, as well as students or investment enthusiasts are all invited to attend. \nThis talk is followed by a reception. Registration opens at 5:30 p.m. The first 100 attendees will receive a copy of the book. \nAbout the Author \nRupal Bhansali is chief investment officer and portfolio manager of Ariel’s international and global equity strategies. In this capacity\, she oversees their global research effort and manages multi-billion dollar portfolios\, while co-managing the global concentrated strategy. Bhansali joined Ariel in 2011 after 10 years with MacKay Shields where she was senior managing director\, portfolio manager\, and head of international equities. Previously\, she spent five years at Oppenheimer Capital\, where she was responsible for international and global equity portfolios and was promoted to co-head of international equities. Additionally\, Rupal has held various roles at other financial services firms since she began her career in 1989\, including Soros Fund Management. \nIn 2009\, Forbes International Investment Report named her a “Global Guru;” in 2015\, Barron’s recognized her as a “Global Contrarian;” and in 2017 PBS’s Consuelo Mack referred to her as an “unconventional thinker.” In January 2019\, Bhansali became the newest member of the prestigious Barron’s Investment Roundtable\, which showcases “10 of Wall Street’s Smartest Investors.” \nShe is a frequent guest on Bloomberg\, CNBC\, and Fox Business News\, and authored the book\, Non-Consensus Investing: Being Right When Everyone Else Is Wrong. Fluent in several Indian languages including Hindi\, Bhansali earned a Bachelor of Commerce in accounting and finance\, as well as a Master of Commerce in international finance and banking from the University of Mumbai. She later earned a M.B.A. in finance from the University of Rochester\, where she was a Rotary Foundation Scholar.
URL:https://newsuat.fordham.edu/event/the-need-for-non-consensus-investing-with-rupal-bhansali/
LOCATION:McNally Amphitheatre\, 140 West 62nd Street\, New York\, NY\, 10023\, United States
CATEGORIES:Lectures,Networking and Career,Receptions
ATTACH;FMTTYPE=image/jpeg:https://newsuat.fordham.edu/wp-content/uploads/2020/01/Rupal-Header.jpg
ORGANIZER;CN="Gabelli Center for Global Security Analysis":MAILTO:gabellicenter@fordham.edu
GEO:40.7713958;-73.9844894
X-APPLE-STRUCTURED-LOCATION;VALUE=URI;X-ADDRESS=McNally Amphitheatre 140 West 62nd Street New York NY 10023 United States;X-APPLE-RADIUS=500;X-TITLE=140 West 62nd Street:geo:-73.9844894,40.7713958
END:VEVENT
BEGIN:VEVENT
DTSTART;TZID=America/New_York:20200219T180000
DTEND;TZID=America/New_York:20200219T200000
DTSTAMP:20260424T204857
CREATED:20191204T144321Z
LAST-MODIFIED:20191204T144321Z
UID:10003814-1582135200-1582142400@newsuat.fordham.edu
SUMMARY:2020 Palm Beach Presidential Reception
DESCRIPTION:Raysa Fanjul and Alfonso Fanjul\, GABELLI ’59; the Fordham Alumni Chapter of Palm Beach; and Joseph M. McShane\, S.J.\, president of Fordham University\, cordially invite you to a complimentary reception for alumni\, parents\, and friends. \nAs the cost of the reception is being generously covered by our hosts\, Raysa and Alfonso Fanjul\, please consider making a gift of $25 or more to support Fordham.
URL:https://newsuat.fordham.edu/event/2020-palm-beach-presidential-reception/
LOCATION:The Fanjul Home
CATEGORIES:Receptions
ATTACH;FMTTYPE=image/jpeg:https://newsuat.fordham.edu/wp-content/uploads/2019/12/20-0122_AR_REGIONAL_EMAIL_BANNERS_PalmBeach.jpg
ORGANIZER;CN="Office of Alumni Relations":MAILTO:alumnioffice@fordham.edu
END:VEVENT
BEGIN:VEVENT
DTSTART;TZID=America/New_York:20200220T183000
DTEND;TZID=America/New_York:20200220T203000
DTSTAMP:20260424T204857
CREATED:20191205T215658Z
LAST-MODIFIED:20191205T215658Z
UID:10003815-1582223400-1582230600@newsuat.fordham.edu
SUMMARY:2020 Miami Presidential Reception
DESCRIPTION:Mercy San Miguel\, Luis San Miguel\, GABELLI ’81\, and Jorge San Miguel\, GABELLI ’82; the Fordham Alumni Chapter of Miami; and Joseph M. McShane\, president of Fordham University\, cordially invite you to a complimentary reception for alumni\, parents\, and friends. \nAs the cost of the reception is being generously covered by our hosts—Mercy\, Luis\, and Jorge San Miguel—please consider making a gift of $25 or more to support Fordham.
URL:https://newsuat.fordham.edu/event/2020-miami-presidential-reception/
LOCATION:Coral Gables Country Club\, 997 North Greenway Drive\, Coral Gables\, FL\, 33134\, United States
CATEGORIES:Receptions
ATTACH;FMTTYPE=image/jpeg:https://newsuat.fordham.edu/wp-content/uploads/2019/12/20-0122_AR_REGIONAL_EMAIL_BANNERS_Miami.jpg
ORGANIZER;CN="Office of Alumni Relations":MAILTO:alumnioffice@fordham.edu
GEO:25.7531677;-80.2745119
X-APPLE-STRUCTURED-LOCATION;VALUE=URI;X-ADDRESS=Coral Gables Country Club 997 North Greenway Drive Coral Gables FL 33134 United States;X-APPLE-RADIUS=500;X-TITLE=997 North Greenway Drive:geo:-80.2745119,25.7531677
END:VEVENT
BEGIN:VEVENT
DTSTART;TZID=America/New_York:20200222T110000
DTEND;TZID=America/New_York:20200222T160000
DTSTAMP:20260424T204857
CREATED:20191205T215206Z
LAST-MODIFIED:20191205T215206Z
UID:10003816-1582369200-1582387200@newsuat.fordham.edu
SUMMARY:2020 Tampa Brunch and Baseball
DESCRIPTION:The Fordham Alumni Chapters of Tampa and Sarasota as well as Joseph M. McShane\, S.J.\, president of Fordham University\, cordially invite you to an afternoon of brunch and baseball on opening day of Yankees spring training! Join Fordham alumni and friends to cheer on the Bronx Bombers as they take on the Toronto Blue Jays. \nThis event costs $95 per person and includes a deluxe brunch buffet\, beer\, wine\, mimosas\, bloody marys\, and a Bullpen Club Rooftop Deck game ticket ($70 value). Brunch will be held in the Pavilion. The Bullpen Club Rooftop Deck is located on the first base side of the field and is an all-inclusive food and beverage area. \nSpace is limited and this event will sell out. Registrations will be honored on a first-come\, first-served basis.
URL:https://newsuat.fordham.edu/event/2020-tampa-brunch-and-baseball/
LOCATION:George M. Steinbrenner Field\, 1 Steinbrenner Drive\, Tampa\, FL\, 33614\, United States
CATEGORIES:Receptions
ATTACH;FMTTYPE=image/jpeg:https://newsuat.fordham.edu/wp-content/uploads/2019/12/20-0122_AR_REGIONAL_EMAIL_BANNERS_Tampa.jpg
ORGANIZER;CN="Office of Alumni Relations":MAILTO:alumnioffice@fordham.edu
GEO:27.9798272;-82.5071038
X-APPLE-STRUCTURED-LOCATION;VALUE=URI;X-ADDRESS=George M. Steinbrenner Field 1 Steinbrenner Drive Tampa FL 33614 United States;X-APPLE-RADIUS=500;X-TITLE=1 Steinbrenner Drive:geo:-82.5071038,27.9798272
END:VEVENT
BEGIN:VEVENT
DTSTART;TZID=America/Kentucky/Louisville:20200222T140000
DTEND;TZID=America/Kentucky/Louisville:20200222T160000
DTSTAMP:20260424T204857
CREATED:20200204T150338Z
LAST-MODIFIED:20200204T150338Z
UID:10003888-1582380000-1582387200@newsuat.fordham.edu
SUMMARY:Alumni Chapter of Austin: Rams Kickoff Happy Hour
DESCRIPTION:Austin-area alumni\, please join us for our 2020 kickoff happy hour at Cosmic Coffee + Beer Garden on South Congress. This will be a great chance to meet some of the 245+ alumni living around Austin and discuss upcoming events for this year. Spouses and children are welcome and there will be food trucks on site if you get hungry. \nLooking forward to seeing y’all!
URL:https://newsuat.fordham.edu/event/alumni-chapter-of-austin-rams-kickoff-happy-hour/
LOCATION:Cosmic Coffee + Beer Garden\, 121 Pickle Rd\, Austin\, TX\, 78704\, United States
CATEGORIES:Receptions,Social
ORGANIZER;CN="Matt Arth":MAILTO:arth.matthew@gmail.com
END:VEVENT
BEGIN:VEVENT
DTSTART;TZID=America/New_York:20200222T200000
DTEND;TZID=America/New_York:20200222T230000
DTSTAMP:20260424T204857
CREATED:20200207T165620Z
LAST-MODIFIED:20200207T165620Z
UID:10003908-1582401600-1582412400@newsuat.fordham.edu
SUMMARY:Mimes and Mummers Alumni Chapter: Pippin Cast Meet and Greet
DESCRIPTION:Please come support current Mimes for their 2020 season! Join us after the 8 p.m. Saturday performance of Pippin for a meet and greet with current and past cast and crew. We invite all alumni who participated in a production of Pippin to join us.
URL:https://newsuat.fordham.edu/event/mimes-and-mummers-alumni-chapter-pippin-cast-meet-and-greet/
LOCATION:Collins Auditorium\, Rose Hill Campus 441 E Fordham Rd\, Bronx\, NY\, 10458\, United States
CATEGORIES:Arts at Fordham,Receptions
ATTACH;FMTTYPE=image/png:https://newsuat.fordham.edu/wp-content/uploads/2020/02/Mimes-Event-Page-Image.png
ORGANIZER;CN="Taylor Palmer":MAILTO:tpalmer7@fordham.edu
GEO:40.8619545;-73.8855064
X-APPLE-STRUCTURED-LOCATION;VALUE=URI;X-ADDRESS=Collins Auditorium Rose Hill Campus 441 E Fordham Rd Bronx NY 10458 United States;X-APPLE-RADIUS=500;X-TITLE=Rose Hill Campus 441 E Fordham Rd:geo:-73.8855064,40.8619545
END:VEVENT
BEGIN:VEVENT
DTSTART;TZID=America/New_York:20200224T183000
DTEND;TZID=America/New_York:20200224T203000
DTSTAMP:20260424T204857
CREATED:20200130T154734Z
LAST-MODIFIED:20200130T154734Z
UID:10003871-1582569000-1582576200@newsuat.fordham.edu
SUMMARY:Alumni Chapter of Fairfield County: Winter Happy Hour
DESCRIPTION:Shake off those winter doldrums and join fellow Fairfield County alumni for our winter happy hour. Reconnect with Rams and enjoy appetizers\, drinks\, and memories! \nThis event costs $5 per person and includes a selection of appetizer platters. There will be a cash bar available. \nHope to see you there!
URL:https://newsuat.fordham.edu/event/alumni-chapter-of-fairfield-county-winter-happy-hour/
LOCATION:Washington Prime\, 141 Washington Street\, Norwalk\, CT\, 06854\, United States
CATEGORIES:Receptions,Social
ORGANIZER;CN="Alumni Chapter of Fairfield":MAILTO:hdmurphy@mayalaw.com
END:VEVENT
BEGIN:VEVENT
DTSTART;TZID=America/New_York:20200225T173000
DTEND;TZID=America/New_York:20200225T193000
DTSTAMP:20260424T204857
CREATED:20200131T143504Z
LAST-MODIFIED:20200131T143504Z
UID:10003882-1582651800-1582659000@newsuat.fordham.edu
SUMMARY:Softball Alumni Happy Hour
DESCRIPTION:Join Head Softball Coach Melissa Inouye and softball supporters for the 2020 softball happy hour! Learn about the program’s success—seven straight A-10 Championship titles!—and what’s in store for this upcoming season.
URL:https://newsuat.fordham.edu/event/softball-alumni-happy-hour/
LOCATION:Old Town Bar\, 45 E. 18th St.\, New York\, NY\, 10003\, United States
CATEGORIES:Athletics,Receptions,Social
ORGANIZER;CN="Kara Field":MAILTO:kfield1@fordham.edu
END:VEVENT
BEGIN:VEVENT
DTSTART;TZID=America/New_York:20200227T180000
DTEND;TZID=America/New_York:20200227T203000
DTSTAMP:20260424T204857
CREATED:20200131T144159Z
LAST-MODIFIED:20200131T144159Z
UID:10003872-1582826400-1582835400@newsuat.fordham.edu
SUMMARY:Alumni Chapter of Philadelphia: 2020 Wine Tasting
DESCRIPTION:Join us for a fun evening of wine tasting and reconnecting with fellow Philadelphia Rams! \nThe cost of the event is $30 per person and includes chef-selected hors d’oeuvres\, three white wine\, and three red wine tastings.
URL:https://newsuat.fordham.edu/event/alumni-chapter-of-philadelphia-2020-wine-tasting/
LOCATION:Panorama\, 14 N Front Street\, Philadelphia\, PA\, 19106\, United States
CATEGORIES:Receptions,Social
ORGANIZER;CN="Alumni Chapter of Philadelphia":MAILTO:ryanhultman@gmail.com
END:VEVENT
END:VCALENDAR