BEGIN:VCALENDAR
VERSION:2.0
PRODID:-//Fordham Now - ECPv6.15.20//NONSGML v1.0//EN
CALSCALE:GREGORIAN
METHOD:PUBLISH
X-WR-CALNAME:Fordham Now
X-ORIGINAL-URL:https://newsuat.fordham.edu
X-WR-CALDESC:Events for Fordham Now
REFRESH-INTERVAL;VALUE=DURATION:PT1H
X-Robots-Tag:noindex
X-PUBLISHED-TTL:PT1H
BEGIN:VTIMEZONE
TZID:America/New_York
BEGIN:DAYLIGHT
TZOFFSETFROM:-0500
TZOFFSETTO:-0400
TZNAME:EDT
DTSTART:20180311T070000
END:DAYLIGHT
BEGIN:STANDARD
TZOFFSETFROM:-0400
TZOFFSETTO:-0500
TZNAME:EST
DTSTART:20181104T060000
END:STANDARD
BEGIN:DAYLIGHT
TZOFFSETFROM:-0500
TZOFFSETTO:-0400
TZNAME:EDT
DTSTART:20190310T070000
END:DAYLIGHT
BEGIN:STANDARD
TZOFFSETFROM:-0400
TZOFFSETTO:-0500
TZNAME:EST
DTSTART:20191103T060000
END:STANDARD
BEGIN:DAYLIGHT
TZOFFSETFROM:-0500
TZOFFSETTO:-0400
TZNAME:EDT
DTSTART:20200308T070000
END:DAYLIGHT
BEGIN:STANDARD
TZOFFSETFROM:-0400
TZOFFSETTO:-0500
TZNAME:EST
DTSTART:20201101T060000
END:STANDARD
END:VTIMEZONE
BEGIN:VTIMEZONE
TZID:Europe/London
BEGIN:DAYLIGHT
TZOFFSETFROM:+0000
TZOFFSETTO:+0100
TZNAME:BST
DTSTART:20180325T010000
END:DAYLIGHT
BEGIN:STANDARD
TZOFFSETFROM:+0100
TZOFFSETTO:+0000
TZNAME:GMT
DTSTART:20181028T010000
END:STANDARD
BEGIN:DAYLIGHT
TZOFFSETFROM:+0000
TZOFFSETTO:+0100
TZNAME:BST
DTSTART:20190331T010000
END:DAYLIGHT
BEGIN:STANDARD
TZOFFSETFROM:+0100
TZOFFSETTO:+0000
TZNAME:GMT
DTSTART:20191027T010000
END:STANDARD
BEGIN:DAYLIGHT
TZOFFSETFROM:+0000
TZOFFSETTO:+0100
TZNAME:BST
DTSTART:20200329T010000
END:DAYLIGHT
BEGIN:STANDARD
TZOFFSETFROM:+0100
TZOFFSETTO:+0000
TZNAME:GMT
DTSTART:20201025T010000
END:STANDARD
END:VTIMEZONE
BEGIN:VEVENT
DTSTART;TZID=America/New_York:20191203T180000
DTEND;TZID=America/New_York:20191203T200000
DTSTAMP:20260425T000905
CREATED:20191112T212305Z
LAST-MODIFIED:20191112T212305Z
UID:10003785-1575396000-1575403200@newsuat.fordham.edu
SUMMARY:Alumni Chapter of Los Angeles: Holiday Happy Hour
DESCRIPTION:Join the Los Angeles chapter and fellow alumni for some holiday cheer in Westwood! Get in the Christmas spirit—mix\, mingle\, and jingle with local Fordham grads. There will be a cash bar and appetizers. \nTickets are $10 and can be purchased via the link below. Discounted parking is available on-site with validation. \nMerry Christmas!
URL:https://newsuat.fordham.edu/event/alumni-chapter-of-los-angeles-holiday-happy-hour/
LOCATION:The Tuck Room Tavern\, 10850 Wilshire Blvd.\, Los Angeles\, CA\, 90024\, United States
CATEGORIES:Receptions,Social
ORGANIZER;CN="Alumni Chapter of Los Angeles":MAILTO:evafordham@gmail.com
GEO:34.059;-118.4416377
X-APPLE-STRUCTURED-LOCATION;VALUE=URI;X-ADDRESS=The Tuck Room Tavern 10850 Wilshire Blvd. Los Angeles CA 90024 United States;X-APPLE-RADIUS=500;X-TITLE=10850 Wilshire Blvd.:geo:-118.4416377,34.059
END:VEVENT
BEGIN:VEVENT
DTSTART;TZID=America/New_York:20191205T180000
DTEND;TZID=America/New_York:20191205T200000
DTSTAMP:20260425T000905
CREATED:20191107T173402Z
LAST-MODIFIED:20191107T173402Z
UID:10003778-1575568800-1575576000@newsuat.fordham.edu
SUMMARY:2019 Philadelphia Christmas Reception
DESCRIPTION:Join alumni\, parents\, and friends of the Fordham community to celebrate the holiday season and toast to Fordham. A speaker will be announced closer to the event date. \nThis event costs $30 per person and will feature an open bar and hors d’oeuvres.
URL:https://newsuat.fordham.edu/event/2019-philadelphia-christmas-reception/
LOCATION:Tir Na Nog\, 1600 Arch Street\, Philadelphia\, PA\, 19103\, United States
CATEGORIES:Receptions
ORGANIZER;CN="Anthony Burke":MAILTO:ABURKE21@FORDHAM.EDU
END:VEVENT
BEGIN:VEVENT
DTSTART;TZID=America/New_York:20191206T190000
DTEND;TZID=America/New_York:20191206T213000
DTSTAMP:20260425T000905
CREATED:20191107T173550Z
LAST-MODIFIED:20191107T173550Z
UID:10003775-1575658800-1575667800@newsuat.fordham.edu
SUMMARY:2019 Fordham Track and Field Alumni Day
DESCRIPTION:Please join us for the 2019 track and field/cross country alumni day! After our meet\, join us in the faculty dining room in the McGinley Center for a post-meet reception.
URL:https://newsuat.fordham.edu/event/2019-fordham-track-and-field-alumni-day/
LOCATION:Faculty Dining Room\, McGinley Center\, 441 East Fordham Road\, Bronx\, NY\, 10458\, United States
CATEGORIES:Athletics,Receptions,Reunions
ATTACH;FMTTYPE=image/jpeg:https://newsuat.fordham.edu/wp-content/uploads/2019/11/Moroz_Reardon.jpg
ORGANIZER;CN="Kara Field":MAILTO:kfield1@fordham.edu
GEO:40.861203;-73.8892181
X-APPLE-STRUCTURED-LOCATION;VALUE=URI;X-ADDRESS=Faculty Dining Room McGinley Center 441 East Fordham Road Bronx NY 10458 United States;X-APPLE-RADIUS=500;X-TITLE=441 East Fordham Road:geo:-73.8892181,40.861203
END:VEVENT
BEGIN:VEVENT
DTSTART;TZID=America/New_York:20191208T123000
DTEND;TZID=America/New_York:20191208T143000
DTSTAMP:20260425T000905
CREATED:20191011T152958Z
LAST-MODIFIED:20191011T152958Z
UID:10007278-1575808200-1575815400@newsuat.fordham.edu
SUMMARY:2019 Marymount Founder's Day Luncheon
DESCRIPTION:The Marymount Alumnae Board\, administrators\, members of the Religious of the Sacred Heart of Mary (R.S.H.M.) and their families\, and Fordham University’s Office of Alumni Relations invite you to a gathering celebrating Marymount College’s founding in 1907 by Mother Marie Joseph Butler. \nThis year’s event celebrates the 25th anniversary of the R.S.H.M. LIFE Center. The Mission of the Center is to welcome the needy\, especially women and children\, and to create with them a culture that nurtures their human development. The Center serves individuals of all faiths and cultural traditions. With the belief that Learning Is For Everyone (LIFE)\, the Center has a whole family orientation in all of its programs\, from toddlers to senior citizens. It focuses on the learning needs of the entire family and provides free child care for adults taking programs. The LIFE Center believes that getting to know the families and involving them in the Center’s programs helps build stronger community relationships. \nSusan Gardella\, R.S.H.M.\, will give remarks about the history of the LIFE Center and where it is now. There will also be a panel featuring employees of the Center as well as former Marymount students who volunteered there. The panelists will discuss the impact the LIFE Center has had on them. \nThere will be a Ram Van minivan available to transport guests between the parking garage and Butler Commons. Times available: 11:45 a.m. – 3:30 p.m. \nMake a Day of It \nBefore the event\, there will be Mass at 11 a.m. in the University Church. There will be a special mention of Sr. Brigid Driscoll\, who passed away in October of last year. All are welcome to attend. \nAfter the event\, join us for the annual Festival of Lessons and Carols in the University Church at 4:30 p.m. Early arrival is highly recommended as seats fill up quickly.
URL:https://newsuat.fordham.edu/event/2019-marymount-founders-day-luncheon/
LOCATION:Butler Commons\, Duane Library\, Rose Hill Campus 441 E Fordham Rd\, Bronx\, NY\, 10458\, United States
CATEGORIES:Receptions
ATTACH;FMTTYPE=image/jpeg:https://newsuat.fordham.edu/wp-content/uploads/2019/10/MM_Seal.jpg
ORGANIZER;CN="Shannon Quinn":MAILTO:hirrel@fordham.edu
GEO:40.8619545;-73.8855064
X-APPLE-STRUCTURED-LOCATION;VALUE=URI;X-ADDRESS=Butler Commons Duane Library Rose Hill Campus 441 E Fordham Rd Bronx NY 10458 United States;X-APPLE-RADIUS=500;X-TITLE=Duane Library\, Rose Hill Campus 441 E Fordham Rd:geo:-73.8855064,40.8619545
END:VEVENT
BEGIN:VEVENT
DTSTART;TZID=America/New_York:20191208T160000
DTEND;TZID=America/New_York:20191208T190000
DTSTAMP:20260425T000905
CREATED:20191015T152259Z
LAST-MODIFIED:20191015T152259Z
UID:10007293-1575820800-1575831600@newsuat.fordham.edu
SUMMARY:Alumni Chapter of Long Island: 2019 Christmas Party
DESCRIPTION:Gather with local alumni as we ring in the holidays with our annual Christmas party! A buffet dinner will be served\, and beer and wine are included. \nTickets are $40 for alumni and friends. Young alumni (2009–2019 graduates) can take advantage of a discounted price of $30. \nPlease consider making a gift of $25 or more to support the Alumni Chapter of Long Island Endowed Scholarship. Chapter leaders will also be accepting canned food donations\, which will be given to a local food pantry. \nPlease note: The event is within walking distance of the Farmingdale train station. The venue is not handicapped-accessible\, so please contact us if you have any concerns.
URL:https://newsuat.fordham.edu/event/alumni-chapter-of-long-island-2019-christmas-party/
LOCATION:The Library Cafe\, 274 Main Street\, Farmingdale\, NY\, 11735\, United States
CATEGORIES:Receptions,Social
ORGANIZER;CN="Alumni Chapter of Long Island":MAILTO:phillipcicione@gmail.com
GEO:40.7327405;-73.4460814
X-APPLE-STRUCTURED-LOCATION;VALUE=URI;X-ADDRESS=The Library Cafe 274 Main Street Farmingdale NY 11735 United States;X-APPLE-RADIUS=500;X-TITLE=274 Main Street:geo:-73.4460814,40.7327405
END:VEVENT
BEGIN:VEVENT
DTSTART;TZID=America/New_York:20191208T160000
DTEND;TZID=America/New_York:20191208T190000
DTSTAMP:20260425T000905
CREATED:20191202T140454Z
LAST-MODIFIED:20191202T140454Z
UID:10003807-1575820800-1575831600@newsuat.fordham.edu
SUMMARY:New York State Society for Clinical Social Work\, Metropolitan Chapter Holiday Party!
DESCRIPTION:New York State Society for Clinical Social Work (NYSSCSW)\, Met Chapter is hosting its annual holiday party. \nWe will be gathering to celebrate the holiday season. Come to share some holiday cheer\, which includes complimentary hors d’oeuvres\, wine\, and soft drinks\, with your colleagues. Meet old and new friends\, board members\, and committee chairpersons. Feel free to bring a guest. Invite your social worker friends who might like to join the society. \nThere is no entry fee or RSVP needed. \nFor more information or questions\, visit nysscsw.memberclicks.net or email info.nysscsw@gmail.com.
URL:https://newsuat.fordham.edu/event/new-york-state-society-for-clinical-social-work-metropolitan-chapter-holiday-party/
LOCATION:The Writing Room\, 1703 2nd Avenue - between 88 & 89th street\, New York\, NY\, 10128\, United States
CATEGORIES:Networking and Career,Receptions,Social
END:VEVENT
BEGIN:VEVENT
DTSTART;TZID=America/New_York:20191208T180000
DTEND;TZID=America/New_York:20191208T193000
DTSTAMP:20260425T000905
CREATED:20191025T155713Z
LAST-MODIFIED:20191025T155713Z
UID:10007329-1575828000-1575833400@newsuat.fordham.edu
SUMMARY:Alumni Chapter of Sarasota: Singing Christmas Tree Concert
DESCRIPTION:Join the Alumni Chapter of Sarasota for the 46th annual Singing Christmas Tree performance. Get in the spirit of the season as we enjoy the 25-foot Christmas tree filled with 130 performers! Hear all of your Christmas favorites and have a fun evening with fellow Fordham and Marymount alumni! \nThe show is 90 minutes long and tickets are $15 per person. Parking is free\, but try to arrive early to avoid the rush. We will have pre-arranged seating for our Fordham alumni group. Your ticket(s) will be emailed to you upon registration. \nMerry Christmas!
URL:https://newsuat.fordham.edu/event/alumni-chapter-of-sarasota-singing-christmas-tree-concert/
LOCATION:First Baptist Church of Sarasota\, 1661 Main Street\, Sarasota\, FL\, 34236\, United States
CATEGORIES:Receptions,Social,Spiritual and Religious Events
ORGANIZER;CN="Alumni Chapter of Sarasota":MAILTO:janebartnett@yahoo.com
END:VEVENT
BEGIN:VEVENT
DTSTART;TZID=America/New_York:20191210T180000
DTEND;TZID=America/New_York:20191210T200000
DTSTAMP:20260425T000905
CREATED:20191107T213749Z
LAST-MODIFIED:20191107T213749Z
UID:10003777-1576000800-1576008000@newsuat.fordham.edu
SUMMARY:2019 Miami Christmas Reception - Cancelled
DESCRIPTION:This event has been cancelled. \nJoin alumni\, parents\, and friends of the Fordham community to celebrate the holiday season and toast to Fordham. A guest speaker will be announced closer to the event date. \nThis event costs $30 per person and will feature an open bar and hors d’oeuvres.
URL:https://newsuat.fordham.edu/event/2019-miami-christmas-reception/
LOCATION:Smith & Wollensky\, 1 Washington Avenue at South Pointe Park\, Miami Beach\, FL\, 33139\, United States
CATEGORIES:Receptions
ORGANIZER;CN="Anthony Burke":MAILTO:ABURKE21@FORDHAM.EDU
END:VEVENT
BEGIN:VEVENT
DTSTART;TZID=America/New_York:20191212T180000
DTEND;TZID=America/New_York:20191212T200000
DTSTAMP:20260425T000905
CREATED:20191113T210254Z
LAST-MODIFIED:20191113T210254Z
UID:10003788-1576173600-1576180800@newsuat.fordham.edu
SUMMARY:Alumni Chapter of Washington\, D.C.: 2019 Christmas Party
DESCRIPTION:Join Fordham alumni and friends for a night of holiday cheer at Emissary\, off of Dupont Circle! Food will be provided\, and a cash bar will be available. Friends and loved ones are welcome. \nThis holiday season\, we are pleased to announce that we will be partnering with the Children’s Inn at the National Institutes of Health (NIH)\, which provides a comforting place for children and their families to stay while participating in research studies and undergoing treatment at NIH. Please bring unopened and unwrapped items from their wish list as a donation. Thank you in advance for your generosity and for joining our efforts to support the Children’s Inn at NIH’s critically important work in the community.
URL:https://newsuat.fordham.edu/event/alumni-chapter-of-washington-d-c-2019-christmas-party/
LOCATION:Emissary\, 2032 P St. N.W.\, Washington DC\, DC\, 20036\, United States
CATEGORIES:Receptions,Social
ORGANIZER;CN="Alumni Chapter of Washington%2C D.C.":MAILTO:fordham.club.dc@gmail.com
GEO:38.9095091;-77.0463749
X-APPLE-STRUCTURED-LOCATION;VALUE=URI;X-ADDRESS=Emissary 2032 P St. N.W. Washington DC DC 20036 United States;X-APPLE-RADIUS=500;X-TITLE=2032 P St. N.W.:geo:-77.0463749,38.9095091
END:VEVENT
BEGIN:VEVENT
DTSTART;TZID=America/New_York:20191212T183000
DTEND;TZID=America/New_York:20191212T203000
DTSTAMP:20260425T000905
CREATED:20191001T154334Z
LAST-MODIFIED:20191001T154334Z
UID:10007261-1576175400-1576182600@newsuat.fordham.edu
SUMMARY:2019 FLAA Holiday Reception
DESCRIPTION:Join us for the 2019 Fordham Law Alumni Association holiday reception.
URL:https://newsuat.fordham.edu/event/2019-flaa-holiday-reception/
LOCATION:Skadden Conference Center\, 150 West 62nd Street\, New York\, NY\, 10023\, United States
CATEGORIES:Receptions
ORGANIZER;CN="Carrie Schulman":MAILTO:cschulman1@law.fordham.edu
GEO:40.7716809;-73.984777
X-APPLE-STRUCTURED-LOCATION;VALUE=URI;X-ADDRESS=Skadden Conference Center 150 West 62nd Street New York NY 10023 United States;X-APPLE-RADIUS=500;X-TITLE=150 West 62nd Street:geo:-73.984777,40.7716809
END:VEVENT
BEGIN:VEVENT
DTSTART;TZID=America/New_York:20191213T170000
DTEND;TZID=America/New_York:20191213T220000
DTSTAMP:20260425T000905
CREATED:20191101T162443Z
LAST-MODIFIED:20191101T162443Z
UID:10007340-1576256400-1576274400@newsuat.fordham.edu
SUMMARY:Alumni Chapter of Northern California: 2019 Christmas Dinner
DESCRIPTION:Ring in the holidays with alumni\, family\, and friends as the Alumni Chapter of Northern California enjoys an evening at Sam’s Grill. Visit for cocktails\, stay for dinner\, and see the tallest Christmas tree west of the Mississippi one block away on California Street. \nThe event begins at 5 p.m. with happy hour on the patio in Belden Alley. Beer\, wine\, and cocktails can be purchased directly from Sam’s\, and half-priced appetizers will be available. Our dinner at 7 p.m. will include a starter (Sam’s clam chowder or Caesar salad)\, entree (roasted chicken\, sautéed veal Milanese\, or grilled rockfish)\, and dessert (tiramisu or pumpkin pie). \nTickets are $70 and can be purchased via the link below. Merry Christmas!
URL:https://newsuat.fordham.edu/event/alumni-chapter-of-northern-california-2019-christmas-dinner/
LOCATION:Sam’s Grill and Seafood Restaurant\, 374 Bush Street\, San Francisco\, CA\, 94104\, United States
CATEGORIES:Receptions
ORGANIZER;CN="Alumni Chapter of Northern California":MAILTO:markadigiorgio@att.net
END:VEVENT
BEGIN:VEVENT
DTSTART;TZID=Europe/London:20191213T183000
DTEND;TZID=Europe/London:20191213T223000
DTSTAMP:20260425T000905
CREATED:20191202T141116Z
LAST-MODIFIED:20191202T141116Z
UID:10003808-1576261800-1576276200@newsuat.fordham.edu
SUMMARY:A Winter Wonderland in 'New York City'
DESCRIPTION:The Fordham Alumni Chapter of the United Kingdom and the Columbia University Club of London cordially invite you to an evening soiree full of festive cheer\, featuring a catered holiday buffet\, wine\, beer\, and an opportunity to help our local community. Friends\, family\, colleagues\, and mince pie enthusiasts are welcome!
URL:https://newsuat.fordham.edu/event/a-winter-wonderland-in-new-york-city/
LOCATION:Fordham University London Centre\, 23 Kensington Square\, London\, W8 5HQ\, United Kingdom
CATEGORIES:Receptions,Social
ORGANIZER;CN="Alumni Chapter of the U.K.":MAILTO:katharina.kochduell@gmail.com
GEO:51.4999455;-0.1904425
X-APPLE-STRUCTURED-LOCATION;VALUE=URI;X-ADDRESS=Fordham University London Centre 23 Kensington Square London W8 5HQ United Kingdom;X-APPLE-RADIUS=500;X-TITLE=23 Kensington Square:geo:-0.1904425,51.4999455
END:VEVENT
BEGIN:VEVENT
DTSTART;TZID=America/New_York:20191217T180000
DTEND;TZID=America/New_York:20191217T200000
DTSTAMP:20260425T000905
CREATED:20191122T191140Z
LAST-MODIFIED:20191122T191140Z
UID:10003803-1576605600-1576612800@newsuat.fordham.edu
SUMMARY:Alumni Chapter of Dallas: 2019 Holiday Party
DESCRIPTION:’Tis the season to celebrate with your Ramily! Join us for a drink as we wish each other a merry Christmas and say goodbye to 2019. The first $150 worth of beverages will be covered by Fordham’s Office of Alumni Relations. After that\, attendees can purchase drinks directly from the bar. \nPlease consider making a gift of $25 or more to support Fordham financial aid. \nWe hope to see you there!
URL:https://newsuat.fordham.edu/event/alumni-chapter-of-dallas-2019-holiday-party/
LOCATION:Inwood Tavern\, 7717 Inwood Rd. #4119\, Dallas\, TX\, 75209\, United States
CATEGORIES:Receptions,Social
ORGANIZER;CN="Alumni Chapter of Dallas":MAILTO:tanner@hartnettlawfirm.com
END:VEVENT
BEGIN:VEVENT
DTSTART;TZID=America/New_York:20191217T183000
DTEND;TZID=America/New_York:20191217T203000
DTSTAMP:20260425T000905
CREATED:20190930T143846Z
LAST-MODIFIED:20190930T143846Z
UID:10007253-1576607400-1576614600@newsuat.fordham.edu
SUMMARY:2019 Fairfield Presidential Reception
DESCRIPTION:Carolyn Dursi Cunniffe\, Ph.D.\, GSAS ’71\, and Mo Cunniffe\, FCRH ’54; the Fordham Alumni Chapter of Fairfield County; and Joseph M. McShane\, S.J.\, president of Fordham University\, cordially invite you to a complimentary reception for alumni\, parents\, and friends. \nAs the cost of the reception is being generously covered by our hosts\, Carolyn Dursi Cunniffe and Mo Cunniffe\, please consider making a gift of $25 or more to support Fordham financial aid.
URL:https://newsuat.fordham.edu/event/2019-fairfield-presidential-reception/
LOCATION:Indian Harbor Yacht Club\, 710 Steamboat Road\, Greenwich\, CT\, 06830\, United States
CATEGORIES:Receptions
ATTACH;FMTTYPE=image/jpeg:https://newsuat.fordham.edu/wp-content/uploads/2019/09/20-0122_AR_REGIONAL_EMAIL_BANNERS_Fairfield.jpg
ORGANIZER;CN="Office of Alumni Relations":MAILTO:alumnioffice@fordham.edu
GEO:41.0113803;-73.6226676
X-APPLE-STRUCTURED-LOCATION;VALUE=URI;X-ADDRESS=Indian Harbor Yacht Club 710 Steamboat Road Greenwich CT 06830 United States;X-APPLE-RADIUS=500;X-TITLE=710 Steamboat Road:geo:-73.6226676,41.0113803
END:VEVENT
BEGIN:VEVENT
DTSTART;TZID=America/New_York:20191218T183000
DTEND;TZID=America/New_York:20191218T203000
DTSTAMP:20260425T000905
CREATED:20190930T143930Z
LAST-MODIFIED:20190930T143930Z
UID:10007256-1576693800-1576701000@newsuat.fordham.edu
SUMMARY:2019 Hartford Presidential Reception
DESCRIPTION:The Fordham Alumni Chapter of Hartford and Joseph M. McShane\, S.J.\, president of Fordham University\, cordially invite you to a reception for alumni\, parents\, and friends. \nThis event costs $30 per person and includes heavy hors d’oeuvres\, beer\, and wine. \nPlease considering making a gift of $25 or more to support Fordham financial aid.
URL:https://newsuat.fordham.edu/event/2019-hartford-presidential-reception/
LOCATION:The Society Room\, 31 Pratt Street\, Hartford\, CT\, 06103\, United States
CATEGORIES:Receptions
ATTACH;FMTTYPE=image/jpeg:https://newsuat.fordham.edu/wp-content/uploads/2019/09/20-0122_AR_REGIONAL_EMAIL_BANNERS_Hartford.jpg
ORGANIZER;CN="Office of Alumni Relations":MAILTO:alumnioffice@fordham.edu
END:VEVENT
BEGIN:VEVENT
DTSTART;TZID=America/New_York:20191219T183000
DTEND;TZID=America/New_York:20191219T203000
DTSTAMP:20260425T000905
CREATED:20190930T144008Z
LAST-MODIFIED:20190930T144008Z
UID:10007254-1576780200-1576787400@newsuat.fordham.edu
SUMMARY:2019 Boston Presidential Reception
DESCRIPTION:The Fordham Alumni Chapter of Boston and Joseph M. McShane\, S.J.\, president of Fordham University\, cordially invite you to a reception for alumni\, parents\, and friends. \nThis event costs $30 per person and includes heavy hors d’oeuvres\, beer\, and wine. \nPlease considering making a gift of $25 or more to support the Boston/New England Alumni Chapter Endowed Scholarship.
URL:https://newsuat.fordham.edu/event/2019-boston-presidential-reception/
LOCATION:Boston Park Plaza\, 50 Park Plaza at Arlington Street\, Boston\, MA\, 02116\, United States
CATEGORIES:Receptions
ATTACH;FMTTYPE=image/jpeg:https://newsuat.fordham.edu/wp-content/uploads/2019/09/20-0122_AR_REGIONAL_EMAIL_BANNERS_Boston.jpg
ORGANIZER;CN="Office of Alumni Relations":MAILTO:alumnioffice@fordham.edu
GEO:42.3510417;-71.0697049
X-APPLE-STRUCTURED-LOCATION;VALUE=URI;X-ADDRESS=Boston Park Plaza 50 Park Plaza at Arlington Street Boston MA 02116 United States;X-APPLE-RADIUS=500;X-TITLE=50 Park Plaza at Arlington Street:geo:-71.0697049,42.3510417
END:VEVENT
BEGIN:VEVENT
DTSTART;TZID=America/New_York:20191219T190000
DTEND;TZID=America/New_York:20191219T210000
DTSTAMP:20260425T000905
CREATED:20191120T203817Z
LAST-MODIFIED:20191120T203817Z
UID:10003798-1576782000-1576789200@newsuat.fordham.edu
SUMMARY:NYC Winter All-Jesuit Happy Hour
DESCRIPTION:Feel that chill in the air? Get out of the cold and enjoy a festive happy hour! Fordham University invites alumni and friends of all Jesuit colleges and universities to join us for the winter edition of the NYC All-Jesuit happy hour. Reconnect with classmates and meet fellow #JesuitEducated alumni!
URL:https://newsuat.fordham.edu/event/nyc-winter-all-jesuit-happy-hour/
LOCATION:The Three Monkeys\, 236 West 54th Street\, New York\, NY\, 10019\, United States
CATEGORIES:Networking and Career,Receptions,Social
ORGANIZER;CN="Office of Alumni Relations":MAILTO:alumnioffice@fordham.edu
GEO:40.7641217;-73.9832325
X-APPLE-STRUCTURED-LOCATION;VALUE=URI;X-ADDRESS=The Three Monkeys 236 West 54th Street New York NY 10019 United States;X-APPLE-RADIUS=500;X-TITLE=236 West 54th Street:geo:-73.9832325,40.7641217
END:VEVENT
END:VCALENDAR