BEGIN:VCALENDAR
VERSION:2.0
PRODID:-//Fordham Now - ECPv6.15.20//NONSGML v1.0//EN
CALSCALE:GREGORIAN
METHOD:PUBLISH
X-WR-CALNAME:Fordham Now
X-ORIGINAL-URL:https://newsuat.fordham.edu
X-WR-CALDESC:Events for Fordham Now
REFRESH-INTERVAL;VALUE=DURATION:PT1H
X-Robots-Tag:noindex
X-PUBLISHED-TTL:PT1H
BEGIN:VTIMEZONE
TZID:America/New_York
BEGIN:DAYLIGHT
TZOFFSETFROM:-0500
TZOFFSETTO:-0400
TZNAME:EDT
DTSTART:20180311T070000
END:DAYLIGHT
BEGIN:STANDARD
TZOFFSETFROM:-0400
TZOFFSETTO:-0500
TZNAME:EST
DTSTART:20181104T060000
END:STANDARD
BEGIN:DAYLIGHT
TZOFFSETFROM:-0500
TZOFFSETTO:-0400
TZNAME:EDT
DTSTART:20190310T070000
END:DAYLIGHT
BEGIN:STANDARD
TZOFFSETFROM:-0400
TZOFFSETTO:-0500
TZNAME:EST
DTSTART:20191103T060000
END:STANDARD
BEGIN:DAYLIGHT
TZOFFSETFROM:-0500
TZOFFSETTO:-0400
TZNAME:EDT
DTSTART:20200308T070000
END:DAYLIGHT
BEGIN:STANDARD
TZOFFSETFROM:-0400
TZOFFSETTO:-0500
TZNAME:EST
DTSTART:20201101T060000
END:STANDARD
END:VTIMEZONE
BEGIN:VTIMEZONE
TZID:America/Los_Angeles
BEGIN:DAYLIGHT
TZOFFSETFROM:-0800
TZOFFSETTO:-0700
TZNAME:PDT
DTSTART:20180311T100000
END:DAYLIGHT
BEGIN:STANDARD
TZOFFSETFROM:-0700
TZOFFSETTO:-0800
TZNAME:PST
DTSTART:20181104T090000
END:STANDARD
BEGIN:DAYLIGHT
TZOFFSETFROM:-0800
TZOFFSETTO:-0700
TZNAME:PDT
DTSTART:20190310T100000
END:DAYLIGHT
BEGIN:STANDARD
TZOFFSETFROM:-0700
TZOFFSETTO:-0800
TZNAME:PST
DTSTART:20191103T090000
END:STANDARD
BEGIN:DAYLIGHT
TZOFFSETFROM:-0800
TZOFFSETTO:-0700
TZNAME:PDT
DTSTART:20200308T100000
END:DAYLIGHT
BEGIN:STANDARD
TZOFFSETFROM:-0700
TZOFFSETTO:-0800
TZNAME:PST
DTSTART:20201101T090000
END:STANDARD
END:VTIMEZONE
BEGIN:VEVENT
DTSTART;TZID=America/New_York:20190502T180000
DTEND;TZID=America/New_York:20190502T210000
DTSTAMP:20260425T110607
CREATED:20190313T163753Z
LAST-MODIFIED:20190313T163753Z
UID:10006983-1556820000-1556830800@newsuat.fordham.edu
SUMMARY:Alumni Chapter of Northern New Jersey: 2019 Spring Reception
DESCRIPTION:Reconnect with local Fordham alumni and friends from the Alumni Chapter of Northern New Jersey at this evening reception. This event will feature a talk by Fordham’s director of online learning. In “These Kids Today Are Different: Teaching and Learning in the Digital Age\,” Steven D’Agustino\, Ph.D.\, will discuss how technology and online education are changing the way today’s students learn. \nThis event costs $35 per person and includes hors d’oeuvres\, a buffet dinner\, dessert\, soft drinks\, and coffee. A cash bar will be available. Please note: Echo Lake does not accept credit cards and there is no ATM on-site; bring cash if you would like to purchase beer\, wine\, or cocktails. \nAdvance registration is required. Space is limited and this event will likely sell out. \nRSVP by April 25\, 2019.
URL:https://newsuat.fordham.edu/event/alumni-chapter-of-northern-new-jersey-2019-spring-reception/
LOCATION:Echo Lake Country Club\, 515 Springfield Avenue\, Westfield\, NJ\, United States
CATEGORIES:Receptions
ORGANIZER;CN="Alumni Chapter of Northern NJ":MAILTO:seanmccooe@gmail.com
GEO:40.6766386;-74.3313131
X-APPLE-STRUCTURED-LOCATION;VALUE=URI;X-ADDRESS=Echo Lake Country Club 515 Springfield Avenue Westfield NJ United States;X-APPLE-RADIUS=500;X-TITLE=515 Springfield Avenue:geo:-74.3313131,40.6766386
END:VEVENT
BEGIN:VEVENT
DTSTART;TZID=America/New_York:20190509T180000
DTEND;TZID=America/New_York:20190509T200000
DTSTAMP:20260425T110607
CREATED:20190410T194010Z
LAST-MODIFIED:20190410T194010Z
UID:10007040-1557424800-1557432000@newsuat.fordham.edu
SUMMARY:Mario Gabelli and Leon Cooperman at Fordham
DESCRIPTION:The Gabelli Center for Global Security Analysis presents an evening with Mario Gabelli\, chairman and CEO of Gamco Investors Inc.\, and Leon Cooperman\, chairman and CEO of Omega Advisors. \nMario Gabelli will engage in a dynamic conversation with his colleague and friend of over 50 years\, Lee Cooperman. Following graduation\, Lee and Mario\, along with other well-known investors\, carpooled together from the Bronx to Wall Street every day. \nTogether\, Lee and Mario will explore a range of topics including how they interfaced with one another throughout their careers\, share perspectives on optimal capital allocation in today’s market\, and reveal why their philanthropy prioritizes the education sector. \nAbout Mario Gabelli \nMario J. Gabelli is chairman and chief executive officer of GAMCO Investors\, Inc. and LICT Corp. He is executive chairman of Associated Capital Group\, Inc. \nMr. Gabelli is a summa cum laude graduate of Fordham University and holds an M.B.A. degree from Columbia University Graduate School of Business and honorary doctorate degrees from Roger Williams University and Fordham University. \nMr. Gabelli is a member of the board of overseers of Columbia University Graduate School of Business and the board of trustees of Roger Williams University\, and he is a trustee associate of Boston College. \nHe is a member of the Board of Directors of the American-Italian Cancer Foundation and the Foundation for Italian Art & Culture. He is a trustee of the Winston Churchill Foundation of the United States and the E. L. Wiegand Foundation. \nAbout Leon Cooperman \nAt the end of 1991\, following 25 years of service\, Lee retired from his positions as a general partner of Goldman\, Sachs & Co. and as chairman and chief executive officer of Goldman Sachs Asset Management to organize and launch an investment-management business\, Omega Advisors\, Inc.\, which he ran for 27 years before converting it to a family office at the end of 2018. At its height\, Omega Advisors managed more than $10 billion of client funds. \nAt Goldman Sachs\, Lee spent 15 years as a partner and one year (1990–1991) as of-counsel to the management committee. In 1989\, he became chairman and chief executive officer of Goldman Sachs Asset Management and chief investment officer of the firm’s equity product line\, managing the GS Capital Growth Fund\, an open-end mutual fund\, for one and a half years. Prior to those appointments\, Lee had spent 22 years in the investment research department as partner-in-charge\, co-chairman of the investment policy committee and chairman of the stock selection committee. For nine consecutive years\, he was voted the number-one portfolio strategist in Institutional Investor Magazine’s annual All-America Research Team survey. \nA designated chartered financial analyst\, Lee is a senior member and past president of the New York Society of Security Analysts; chairman emeritus of the Saint Barnabas Development Foundation; a member of the board of overseers of the Columbia University Graduate School of Business; a member of the board of directors of the Damon Runyon Cancer Research Foundation; a member of the investment committee of the New Jersey Performing Arts Center; and board chairman of Green Spaces\, a committee organized to rebuild 13 parks in Newark\, New Jersey. \nLee received his M.B.A. from Columbia Business School and his undergraduate degree from Hunter College. He is a recipient of Roger Williams University’s Honorary Doctor of Finance and of Hunter College’s Honorary Doctor of Humane Letters; an inductee into Hunter College’s Hall of Fame; and a recipient of the 2003 American Jewish Committee (AJC) Wall Street Human Relations Award\, the 2006 Seton Hall Humanitarian of the Year Award\, the 2009 Boys & Girls Clubs of Newark Award for Caring\, and the 2009 UJA-Federation of New York’s Wall Street and Financial Services Division Lifetime Achievement Award. In 2013\, Lee was inducted into Alpha Magazine’s Hedge Fund Hall of Fame and was honored by the AJC at their 50th anniversary with the Herbert H. Lehman Award for his professional achievements\, philanthropic efforts\, and longstanding support for AJC. In 2014\, Columbia Business School awarded Lee its Distinguished Leadership in Business Award\, and Bloomberg Markets named him to its fourth annual “50 Most Influential” list (one of only ten money managers globally to be so honored\, selected “based on what they’re doing now\, rather than past achievements”). He was inducted into the Horatio Alger Association in April 2015. \nLee and his wife\, Toby\, have two sons and three grandchildren.
URL:https://newsuat.fordham.edu/event/mario-gabelli-and-leon-cooperman-at-fordham/
LOCATION:McNally Amphitheatre\, 140 West 62nd Street\, New York\, NY\, 10023\, United States
CATEGORIES:Lectures,Networking and Career,Receptions
ATTACH;FMTTYPE=image/jpeg:https://newsuat.fordham.edu/wp-content/uploads/2019/04/Combo.jpg
ORGANIZER;CN="Gabelli Center for Global Security Analysis":MAILTO:gabellicenter@fordham.edu
GEO:40.7713958;-73.9844894
X-APPLE-STRUCTURED-LOCATION;VALUE=URI;X-ADDRESS=McNally Amphitheatre 140 West 62nd Street New York NY 10023 United States;X-APPLE-RADIUS=500;X-TITLE=140 West 62nd Street:geo:-73.9844894,40.7713958
END:VEVENT
BEGIN:VEVENT
DTSTART;TZID=America/New_York:20190513T090000
DTEND;TZID=America/New_York:20190513T190000
DTSTAMP:20260425T110607
CREATED:20190327T192908Z
LAST-MODIFIED:20190327T192908Z
UID:10007009-1557738000-1557774000@newsuat.fordham.edu
SUMMARY:26th Annual Football Gridiron Golf Outing
DESCRIPTION:Join us on the links for a day of golf with head football coach Joe Conlin! It will be a great day with football supporters and an opportunity to hear what lies ahead for this season.
URL:https://newsuat.fordham.edu/event/26th-annual-football-gridiron-golf-outing/
LOCATION:Leewood Golf Club\, 1 Leewood Drive\, Eastchester\, NY\, 10709\, United States
CATEGORIES:Athletics,Receptions,Reunions,Social
ATTACH;FMTTYPE=image/jpeg:https://newsuat.fordham.edu/wp-content/uploads/2019/03/download-1.jpg
ORGANIZER;CN="Kara Field":MAILTO:kfield1@fordham.edu
END:VEVENT
BEGIN:VEVENT
DTSTART;TZID=America/New_York:20190513T180000
DTEND;TZID=America/New_York:20190513T180000
DTSTAMP:20260425T110607
CREATED:20190424T192111Z
LAST-MODIFIED:20190424T192111Z
UID:10007066-1557770400-1557770400@newsuat.fordham.edu
SUMMARY:Alumni Chapter of Boston: 2019 Young Alumni Wine Tasting
DESCRIPTION:Please join the Young Alumni Committee of the Alumni Chapter of Boston for our first event! We will have a wine tasting contest at City Winery—winners will receive some Fordham swag! \nThis event costs $15 per person. Appetizers will be provided courtesy of the Office of Alumni Relations. \nRSVP by Friday\, May 10\, 2019.
URL:https://newsuat.fordham.edu/event/alumni-chapter-of-boston-2019-young-alumni-wine-tasting/
LOCATION:City Winery – Boston\, 80 Beverly Street\, Boston\, MA\, 02114\, United States
CATEGORIES:Receptions,Social
ORGANIZER;CN="Alumni Chapter of Boston":MAILTO:jpellegrini28@gmail.com
END:VEVENT
BEGIN:VEVENT
DTSTART;TZID=America/New_York:20190516T180000
DTEND;TZID=America/New_York:20190516T200000
DTSTAMP:20260425T110607
CREATED:20190402T123532Z
LAST-MODIFIED:20190402T123532Z
UID:10007023-1558029600-1558036800@newsuat.fordham.edu
SUMMARY:Alumni Chapter of Washington\, D.C.: Spring Third Thursday Happy Hour
DESCRIPTION:Join the Alumni Chapter of Washington\, D.C.\, for a spring happy hour in the city’s beautiful wharf on the southwest waterfront! \nThis event will feature a cash bar; appetizers will be provided by the alumni chapter. \nPlease RSVP by Tuesday\, May 14\, so we know how many appetizers to order.
URL:https://newsuat.fordham.edu/event/alumni-chapter-of-washington-d-c-spring-third-thursday-happy-hour/
LOCATION:Whiskey Charlie\, 975 7th Street SW\, Washington\, DC\, 20024\, United States
CATEGORIES:Receptions,Social
ORGANIZER;CN="Alumni Chapter of Washington%2C D.C.":MAILTO:fordham.club.dc@gmail.com
END:VEVENT
BEGIN:VEVENT
DTSTART;TZID=America/New_York:20190516T190000
DTEND;TZID=America/New_York:20190516T203000
DTSTAMP:20260425T110607
CREATED:20190509T122546Z
LAST-MODIFIED:20190509T122546Z
UID:10007078-1558033200-1558038600@newsuat.fordham.edu
SUMMARY:Encaenia Ceremony
DESCRIPTION:Join us for the Encaenia ceremony\, with presentations of awards for graduating seniors in the Class of 2019\, including addresses by Valedictorian Robin Happel\, Master of Ceremonies Nicholas Perrotti\, Lady of the Manor Erin Kiernan\, and Maura B. Mast\, Ph.D.\, dean of Fordham College at Rose Hill.
URL:https://newsuat.fordham.edu/event/encaenia-ceremony/
LOCATION:Rose Hill Gymnasium\, 441 East Fordham Road\, Bronx\, NY\, 10458\, United States
CATEGORIES:Receptions
GEO:40.8612275;-73.8892354
X-APPLE-STRUCTURED-LOCATION;VALUE=URI;X-ADDRESS=Rose Hill Gymnasium 441 East Fordham Road Bronx NY 10458 United States;X-APPLE-RADIUS=500;X-TITLE=441 East Fordham Road:geo:-73.8892354,40.8612275
END:VEVENT
BEGIN:VEVENT
DTSTART;TZID=America/New_York:20190517T150000
DTEND;TZID=America/New_York:20190517T170000
DTSTAMP:20260425T110607
CREATED:20190329T155314Z
LAST-MODIFIED:20190329T155314Z
UID:10007006-1558105200-1558112400@newsuat.fordham.edu
SUMMARY:Student Veteran Victory Bell Ceremony
DESCRIPTION:The Victory Bell Ceremony celebrates the prodigious accomplishments of Fordham’s 2019 graduating class of student veterans. This event is open to all graduating student veterans/dependents (and their families) who are eligible to walk in Fordham’s Commencement on Saturday\, May 18. All graduating student veterans will receive a Fordham Veterans’ Initiative Graduation Medallion\, with yellow ribbon\, that they can wear during Commencement. Doors will open at 3 p.m. and we will have a social hour at the Bronx Beer Hall following the ceremony. If you are unable to attend\, please fill out the registration page and your medallion will be mailed to you. \nThe Victory Bell\, or Nimitz Bell\, was given to the University in 1944 by Admiral Chester Nimitz as a commemoration for the lives lost in WWII and was first rung by President Truman in 1946. Originally the operating ship bell aboard the Japanese Warship Junyo\, the bell serves today as a symbol of Fordham pride and culture. For student veterans\, the Victory Bell is both a collegiate starting point and finish line. After student veteran orientation\, newly admitted student veterans are introduced to the Nimitz Bell for the first time when they  participate in the Bell Ringing Ceremony and embark on their journey into higher education—many of them being absent from a classroom for decades. Today\, the 2019 graduating class of student veterans return to the Victory Bell\, close an important chapter of their lives\, and celebrate a job well done. \nAll graduating student veterans will be given the opportunity to ring the historic Victory Bell and have their picture taken with their families by a professional photographer.
URL:https://newsuat.fordham.edu/event/student-veteran-victory-bell-ceremony/
LOCATION:Keating First Auditorium\, 441 East Fordham Road\, Bronx\, NY\, 10458\, United States
CATEGORIES:Receptions
ATTACH;FMTTYPE=image/png:https://newsuat.fordham.edu/wp-content/uploads/2019/03/Picture1.png
ORGANIZER;CN="Fordham Veterans Initiative":MAILTO:veterans@fordham.edu
GEO:40.8612275;-73.8892354
X-APPLE-STRUCTURED-LOCATION;VALUE=URI;X-ADDRESS=Keating First Auditorium 441 East Fordham Road Bronx NY 10458 United States;X-APPLE-RADIUS=500;X-TITLE=441 East Fordham Road:geo:-73.8892354,40.8612275
END:VEVENT
BEGIN:VEVENT
DTSTART;TZID=America/New_York:20190517T160000
DTEND;TZID=America/New_York:20190517T180000
DTSTAMP:20260425T110607
CREATED:20190402T124004Z
LAST-MODIFIED:20190402T124004Z
UID:10007024-1558108800-1558116000@newsuat.fordham.edu
SUMMARY:Alumni Chapter of the Jersey Shore: 2019 Spring Social
DESCRIPTION:Join the Fordham Alumni Chapter of the Jersey Shore for our first event—a spring social! Connect with fellow alumni from your beloved Jesuit alma mater. Share appetizers\, drinks\, stories\, and memories as we celebrate what makes each of us Fordham. \nThis event will feature a cash bar; the Office of Alumni Relations will provide appetizers. \nPlease RSVP by Friday\, May 3\, so we know how many appetizers to order.
URL:https://newsuat.fordham.edu/event/alumni-chapter-of-the-jersey-shore-2019-spring-social/
LOCATION:Langosta Lounge\, 1000 Ocean Avenue\, Asbury Park\, NJ\, 07712\, United States
CATEGORIES:Receptions,Social
ORGANIZER;CN="Alumni Chapter of the Jersey Shore":MAILTO:dawnlwright@gmail.com
END:VEVENT
BEGIN:VEVENT
DTSTART;TZID=America/Los_Angeles:20190517T170000
DTEND;TZID=America/Los_Angeles:20190517T170000
DTSTAMP:20260425T110607
CREATED:20190516T124734Z
LAST-MODIFIED:20190516T124734Z
UID:10007081-1558112400-1558112400@newsuat.fordham.edu
SUMMARY:Alumni Chapter of Seattle: Fordham Softball NCAA Pregame Gathering
DESCRIPTION:Join the Alumni Chapter of Seattle\, along with Fordham softball family and friends\, to cheer on our Rams as they take on the University of Washington Huskies in the first round of the NCAA Regionals! First pitch is at 7 p.m. at UW’s Husky Softball Stadium. \nSingle-day tickets cover all games on that day and will go on sale Wednesday\, May 15\, at 9 a.m. A limited number of all-session passes\, which cover all games\, are also available. More information\, including information regarding parking and seating\, is available on the NCAA Regional Tournament website. \nPrior to the game\, alumni\, family\, friends\, and fans are invited to join the Alumni Chapter of Seattle at JOEY University Village at 5 p.m. and toast to a Fordham victory! Appetizers will be provided courtesy of the Office of Alumni Relations. Our group will be gathered in the back of the lounge area.
URL:https://newsuat.fordham.edu/event/alumni-chapter-of-seattle-fordham-softball-ncaa-pregame-gathering/
LOCATION:JOEY University Village\, 2603 N.E. 46th Street\, Seattle\, WA\, 98105\, United States
CATEGORIES:Athletics,Receptions,Social
ORGANIZER;CN="Alumni Chapter of Seattle":MAILTO:jacob.burns@gs.com
END:VEVENT
BEGIN:VEVENT
DTSTART;TZID=America/New_York:20190520T110000
DTEND;TZID=America/New_York:20190520T180000
DTSTAMP:20260425T110607
CREATED:20190517T133308Z
LAST-MODIFIED:20190517T133308Z
UID:10007082-1558350000-1558375200@newsuat.fordham.edu
SUMMARY:GSE Summer Non-Matriculated Student Registration
DESCRIPTION:Whether you are deciding to apply for a degree program\, need prerequisites before applying\, or are pursuing professional development\, applying as a non-matriculated student allows you to take courses without enrolling in a degree program.
URL:https://newsuat.fordham.edu/event/gse-summer-non-matriculated-student-registration/2019-05-20/
LOCATION:Room 208\, Martino Hall\, 45 Columbus Avenue\, New York\, NY\, 10023 -7414\, United States
CATEGORIES:Receptions
ATTACH;FMTTYPE=image/jpeg:https://newsuat.fordham.edu/wp-content/uploads/2019/05/FordhamLC_LowensteinEntrance-1.jpg
ORGANIZER;CN="Arveal Drummer":MAILTO:gse_admiss@fordham.edu
END:VEVENT
BEGIN:VEVENT
DTSTART;TZID=America/New_York:20190523T170000
DTEND;TZID=America/New_York:20190523T190000
DTSTAMP:20260425T110607
CREATED:20190517T134719Z
LAST-MODIFIED:20190517T134719Z
UID:10007083-1558630800-1558638000@newsuat.fordham.edu
SUMMARY:GSE Summer Open House
DESCRIPTION:Join us for this summer open house to find out more about programs offered by the Graduate School of Education. \n 
URL:https://newsuat.fordham.edu/event/gse-summer-open-house/
LOCATION:12th-Floor Lounge\, Corrigan Conference Center\, Lowenstein Center\, Lincoln Center Campus\, 113 W. 60th St.\, New York\, NY\, 10023\, United States
CATEGORIES:Receptions
ATTACH;FMTTYPE=image/jpeg:https://newsuat.fordham.edu/wp-content/uploads/2019/05/FordhamLC_LowensteinEntrance-3.jpg
ORGANIZER;CN="Arveal Drummer":MAILTO:gse_admiss@fordham.edu
GEO:40.7710994;-73.9852715
X-APPLE-STRUCTURED-LOCATION;VALUE=URI;X-ADDRESS=12th-Floor Lounge Corrigan Conference Center Lowenstein Center Lincoln Center Campus 113 W. 60th St. New York NY 10023 United States;X-APPLE-RADIUS=500;X-TITLE=Lincoln Center Campus\, 113 W. 60th St.:geo:-73.9852715,40.7710994
END:VEVENT
BEGIN:VEVENT
DTSTART;TZID=America/New_York:20190529T170000
DTEND;TZID=America/New_York:20190529T190000
DTSTAMP:20260425T110607
CREATED:20190522T131143Z
LAST-MODIFIED:20190522T131143Z
UID:10007086-1559149200-1559156400@newsuat.fordham.edu
SUMMARY:GSE Curriculum and Teaching Westchester Information Session
DESCRIPTION:Join the Graduate School of Education (GSE) to learn more about the academic and professional opportunities available at Fordham.
URL:https://newsuat.fordham.edu/event/gse-curriculum-and-teaching-westchester-information-session/
LOCATION:Fordham Westchester Campus\, 400 Westchester Ave\, West Harrison\, NY\, 10604\, United States
CATEGORIES:Networking and Career,Receptions
ATTACH;FMTTYPE=image/jpeg:https://newsuat.fordham.edu/wp-content/uploads/2019/05/FordhamUniversity_WestchesterCampus.jpg
ORGANIZER;CN="Arveal Drummer":MAILTO:gse_admiss@fordham.edu
GEO:41.029376;-73.7288048
X-APPLE-STRUCTURED-LOCATION;VALUE=URI;X-ADDRESS=Fordham Westchester Campus 400 Westchester Ave West Harrison NY 10604 United States;X-APPLE-RADIUS=500;X-TITLE=400 Westchester Ave:geo:-73.7288048,41.029376
END:VEVENT
BEGIN:VEVENT
DTSTART;TZID=America/New_York:20190529T180000
DTEND;TZID=America/New_York:20190529T180000
DTSTAMP:20260425T110607
CREATED:20190411T135122Z
LAST-MODIFIED:20190411T135122Z
UID:10007038-1559152800-1559152800@newsuat.fordham.edu
SUMMARY:Alumni Chapter of Los Angeles: Second Annual Entertainment Panel
DESCRIPTION:This event is back by popular demand! Join the Fordham Alumni Chapter of Los Angeles for our second annual entertainment industry panel discussion. This year’s panel will feature Eric Hauserman Carroll\, FCLC ’02; Michaela McManus\, FCLC ’05; and Nikeva Stapleton\, FCLC ’10\, and will be moderated by Joel Johnstone\, FCLC ’01. \nWhether you work in entertainment or another industry\, we welcome you to join us for an evening of learning\, networking\, and fun! \nThis event costs $15 per person and includes a selection of appetizers. Beverages can be purchased directly from Daily Grill. \nRSVP by May 22\, 2019.
URL:https://newsuat.fordham.edu/event/alumni-chapter-of-los-angeles-second-annual-entertainment-panel/
LOCATION:Daily Grill\, 2501 Colorado Avenue\, Santa Monica\, CA\, 90404\, United States
CATEGORIES:Networking and Career,Receptions,Social
ORGANIZER;CN="Alumni Chapter of LA":MAILTO:evafordham@gmail.com
END:VEVENT
BEGIN:VEVENT
DTSTART;VALUE=DATE:20190531
DTEND;VALUE=DATE:20190603
DTSTAMP:20260425T110607
CREATED:20190220T195213Z
LAST-MODIFIED:20190220T195213Z
UID:10006932-1559260800-1559519999@newsuat.fordham.edu
SUMMARY:Jubilee 2019
DESCRIPTION:Come back to the Rose Hill campus for reunion weekend! We’ll be celebrating undergraduate schools with class years ending in 4 or 9\, as well as our Golden Rams and all Marymount\, Graduate School of Religion and Religious Education (GRE)\, and Graduate School of Arts and Sciences (GSAS) alumni.
URL:https://newsuat.fordham.edu/event/jubilee-2019/
LOCATION:Rose Hill Campus\, Fordham University\, The Bronx\, NY\, USA\, Bronx\, NY\, 10458\, United States
CATEGORIES:Receptions,Reunions,Social
ATTACH;FMTTYPE=image/png:https://newsuat.fordham.edu/wp-content/uploads/2019/02/Alumni-Calendar-Image-Template.png
GEO:40.861203;-73.8892181
X-APPLE-STRUCTURED-LOCATION;VALUE=URI;X-ADDRESS=Rose Hill Campus Fordham University The Bronx NY USA Bronx NY 10458 United States;X-APPLE-RADIUS=500;X-TITLE=Fordham University\, The Bronx\, NY\, USA:geo:-73.8892181,40.861203
END:VEVENT
END:VCALENDAR