BEGIN:VCALENDAR
VERSION:2.0
PRODID:-//Fordham Now - ECPv6.15.20//NONSGML v1.0//EN
CALSCALE:GREGORIAN
METHOD:PUBLISH
X-ORIGINAL-URL:https://newsuat.fordham.edu
X-WR-CALDESC:Events for Fordham Now
REFRESH-INTERVAL;VALUE=DURATION:PT1H
X-Robots-Tag:noindex
X-PUBLISHED-TTL:PT1H
BEGIN:VTIMEZONE
TZID:America/New_York
BEGIN:DAYLIGHT
TZOFFSETFROM:-0500
TZOFFSETTO:-0400
TZNAME:EDT
DTSTART:20170312T070000
END:DAYLIGHT
BEGIN:STANDARD
TZOFFSETFROM:-0400
TZOFFSETTO:-0500
TZNAME:EST
DTSTART:20171105T060000
END:STANDARD
BEGIN:DAYLIGHT
TZOFFSETFROM:-0500
TZOFFSETTO:-0400
TZNAME:EDT
DTSTART:20180311T070000
END:DAYLIGHT
BEGIN:STANDARD
TZOFFSETFROM:-0400
TZOFFSETTO:-0500
TZNAME:EST
DTSTART:20181104T060000
END:STANDARD
BEGIN:DAYLIGHT
TZOFFSETFROM:-0500
TZOFFSETTO:-0400
TZNAME:EDT
DTSTART:20190310T070000
END:DAYLIGHT
BEGIN:STANDARD
TZOFFSETFROM:-0400
TZOFFSETTO:-0500
TZNAME:EST
DTSTART:20191103T060000
END:STANDARD
END:VTIMEZONE
BEGIN:VEVENT
DTSTART;TZID=America/New_York:20181201T180000
DTEND;TZID=America/New_York:20181201T203000
DTSTAMP:20260425T191345
CREATED:20181101T143505Z
LAST-MODIFIED:20181101T143505Z
UID:10006675-1543687200-1543696200@newsuat.fordham.edu
SUMMARY:Annual Rowing Dinner
DESCRIPTION:Join us for our annual Fordham rowing dinner on Saturday\, December 1\, at the Water Club! This is a great opportunity to catch up with fellow Rams and celebrate Fordham rowing’s historical successes.
URL:https://newsuat.fordham.edu/event/annual-rowing-dinner/
LOCATION:The Water Club\, 500 E. 30th St\, New York\, NY\, 10016\, United States
CATEGORIES:Athletics,Receptions
ATTACH;FMTTYPE=image/jpeg:https://newsuat.fordham.edu/wp-content/uploads/2018/10/Miami-9.jpg
ORGANIZER;CN="Kara Field":MAILTO:kfield1@fordham.edu
END:VEVENT
BEGIN:VEVENT
DTSTART;TZID=America/New_York:20181202T123000
DTEND;TZID=America/New_York:20181202T143000
DTSTAMP:20260425T191345
CREATED:20180925T200831Z
LAST-MODIFIED:20180925T200831Z
UID:10006582-1543753800-1543761000@newsuat.fordham.edu
SUMMARY:2018 Marymount Founder's Day Luncheon
DESCRIPTION:The Marymount Alumnae Board\, administrators\, members of the Religious of the Sacred Heart of Mary (R.S.H.M.) and their families\, and Fordham University’s Office of Alumni Relations invite you to a gathering celebrating Marymount College’s founding in 1907 by Mother Marie Joseph Butler. \nAs we have done for the past several years\, the Marymount Alumnae Board will present the annual Mother Butler Award Leadership Award in recognition of the work of the R.S.H.M. This year’s awardee will be announced shortly. \nThis event costs $40 per person. We also ask that you please bring an unwrapped child’s toy or item of clothing as a gift to support the R.S.H.M. LIFE Center in Sleepy Hollow. As in years past\, your generous gifts make a world of difference during the Christmas season. \nThere will be a Ram Van available to transport guests between the parking garage and Butler Commons. Times available between 11:45 a.m. and 3:30 p.m. \nMake a day of it and join us before and after the luncheon for two events in the University Church. Mass will be held before the event begins\, at 11 a.m. After the event\, join us for the annual Festival of Lessons and Carols in the University Church at 4:30 p.m. Early arrival is highly recommended as seats fill up quickly.
URL:https://newsuat.fordham.edu/event/2018-marymount-founders-day-luncheon/
LOCATION:Butler Commons\, Duane Library\, 441 East Fordham Road\, Bronx\, NY\, 10458\, United States
CATEGORIES:Receptions,Spiritual and Religious Events
ORGANIZER;CN="Shannon Quinn":MAILTO:hirrel@fordham.edu
GEO:40.861203;-73.8892181
X-APPLE-STRUCTURED-LOCATION;VALUE=URI;X-ADDRESS=Butler Commons Duane Library 441 East Fordham Road Bronx NY 10458 United States;X-APPLE-RADIUS=500;X-TITLE=441 East Fordham Road:geo:-73.8892181,40.861203
END:VEVENT
BEGIN:VEVENT
DTSTART;TZID=America/New_York:20181205T190000
DTEND;TZID=America/New_York:20181205T210000
DTSTAMP:20260425T191345
CREATED:20181119T220737Z
LAST-MODIFIED:20181119T220737Z
UID:10006715-1544036400-1544043600@newsuat.fordham.edu
SUMMARY:Rainbow Rams Open Leadership Meeting
DESCRIPTION:Join the Rainbow Rams Alumni Chapter for their annual Open Leadership Meeting. The floor is open for any and all thoughts about the future of the group in 2019!
URL:https://newsuat.fordham.edu/event/rainbow-rams-open-leadership-meeting/
LOCATION:9th Floor\, Martino Hall\, 45 Columbus Ave\, New York\, NY\, 10023\, United States
CATEGORIES:Receptions
ATTACH;FMTTYPE=image/png:https://newsuat.fordham.edu/wp-content/uploads/2018/11/Fordham-News-Event-Image-1078x516-3.png
ORGANIZER;CN="Michaela Shank":MAILTO:mshank@fordham.edu
GEO:40.7706076;-73.9833932
X-APPLE-STRUCTURED-LOCATION;VALUE=URI;X-ADDRESS=9th Floor Martino Hall 45 Columbus Ave New York NY 10023 United States;X-APPLE-RADIUS=500;X-TITLE=45 Columbus Ave:geo:-73.9833932,40.7706076
END:VEVENT
BEGIN:VEVENT
DTSTART;TZID=America/New_York:20181206T163000
DTEND;TZID=America/New_York:20181206T193000
DTSTAMP:20260425T191345
CREATED:20181130T142158Z
LAST-MODIFIED:20181130T142158Z
UID:10006725-1544113800-1544124600@newsuat.fordham.edu
SUMMARY:New York Heritage and Women of the African Diaspora
DESCRIPTION:Wikipedia for Educators at Fordham\, in partnership with AFROCrowd\, the Department of Records’ WomensActivism.NYC digital storytelling platform\, and Wikimedia NYC\, will be hosting this edit-a-thon. \nThis event is designed to improve coverage of women and the African Diaspora on Wikipedia and encourage black female editorship. The edit-a-thon will include tutorials for the beginner Wikipedian\, ongoing editing support\, reference materials\, and refreshments. This event is free and open to the public. People of all gender identities and expressions are invited to participate.
URL:https://newsuat.fordham.edu/event/new-york-heritage-and-women-of-the-african-diaspora/
LOCATION:Lincoln Center Campus\, 113 West 60th Street\, New York\, NY\, 10023\, United States
CATEGORIES:Receptions
ATTACH;FMTTYPE=image/png:https://newsuat.fordham.edu/wp-content/uploads/2018/11/wikipedia-edit-a-thon-afrocrowd-and-dept-of-records-for-Fordham-News.png
ORGANIZER;CN="Kristen Treglia":MAILTO:treglia@fordham.edu
GEO:40.7708109;-73.9851512
X-APPLE-STRUCTURED-LOCATION;VALUE=URI;X-ADDRESS=Lincoln Center Campus 113 West 60th Street New York NY 10023 United States;X-APPLE-RADIUS=500;X-TITLE=113 West 60th Street:geo:-73.9851512,40.7708109
END:VEVENT
BEGIN:VEVENT
DTSTART;TZID=America/New_York:20181207T193000
DTEND;TZID=America/New_York:20181207T193000
DTSTAMP:20260425T191345
CREATED:20181119T221733Z
LAST-MODIFIED:20181119T221733Z
UID:10006705-1544211000-1544211000@newsuat.fordham.edu
SUMMARY:2018 Track & Field Alumni Day
DESCRIPTION:Please join us on Friday\, December 7\, for the 2018 Track & Field and Cross Country Alumni Day! After our meet\, join us in Dagger John’s for a reception (most likely starting around 8 p.m.) to celebrate.
URL:https://newsuat.fordham.edu/event/2018-track-field-alumni-day/
LOCATION:Dagger John’s\, Rose Hill Campus 441 E Fordham Rd\, Bronx\, NY\, 10458\, United States
CATEGORIES:Athletics,Receptions,Reunions
ATTACH;FMTTYPE=image/jpeg:https://newsuat.fordham.edu/wp-content/uploads/2018/11/41113-thumb.jpg
ORGANIZER;CN="Kara Field":MAILTO:kfield1@fordham.edu
GEO:40.8619545;-73.8855064
X-APPLE-STRUCTURED-LOCATION;VALUE=URI;X-ADDRESS=Dagger John’s Rose Hill Campus 441 E Fordham Rd Bronx NY 10458 United States;X-APPLE-RADIUS=500;X-TITLE=Rose Hill Campus 441 E Fordham Rd:geo:-73.8855064,40.8619545
END:VEVENT
BEGIN:VEVENT
DTSTART;TZID=America/New_York:20181209T143000
DTEND;TZID=America/New_York:20181209T170000
DTSTAMP:20260425T191345
CREATED:20181127T151855Z
LAST-MODIFIED:20181127T151855Z
UID:10006719-1544365800-1544374800@newsuat.fordham.edu
SUMMARY:Alumni Chapter of Charlotte: 2018 Holiday Gathering
DESCRIPTION:Join your fellow Fordham Rams for a fun afternoon at our holiday gathering! Family—including children—and friends are welcome to attend. There will be a cash bar for food and drinks. \nWe strongly prefer that guests register in advance. RSVP to Gene McCarthy at 803-831-8381 or ejmcwylie@aol.com or to Frank Prestopino at 704-562-7720 or artwitch@msn.com by December 3.
URL:https://newsuat.fordham.edu/event/alumni-chapter-of-charlotte-2018-holiday-gathering/
LOCATION:Tyber Creek Pub\, 1933 South Boulevard\, Charlotte\, NC\, 28203\, United States
CATEGORIES:Receptions,Social
END:VEVENT
BEGIN:VEVENT
DTSTART;TZID=America/New_York:20181211T183000
DTEND;TZID=America/New_York:20181211T203000
DTSTAMP:20260425T191345
CREATED:20181023T133641Z
LAST-MODIFIED:20181023T133641Z
UID:10006644-1544553000-1544560200@newsuat.fordham.edu
SUMMARY:2018 Fairfield Presidential Reception
DESCRIPTION:Ann and John Normile\, FCRH ’84\, LAW ’88\, PAR ’19; Cynthia FCRH ’83 and Thomas Humphrey\, FCRH ’82; and Joseph M. McShane\, S.J.\, president of Fordham University\, cordially invite you to a complimentary reception for alumni\, parents\, and friends.
URL:https://newsuat.fordham.edu/event/2018-fairfield-presidential-reception/
LOCATION:Country Club of Darien\, 300 Mansfield Avenue\, Darien\, CT\, 06820\, United States
CATEGORIES:Receptions
ATTACH;FMTTYPE=image/jpeg:https://newsuat.fordham.edu/wp-content/uploads/2018/10/Fairfield.jpg
ORGANIZER;CN="Ainsley Kelley":MAILTO:akelley6@fordham.edu
END:VEVENT
BEGIN:VEVENT
DTSTART;TZID=America/New_York:20181212T080000
DTEND;TZID=America/New_York:20181212T190000
DTSTAMP:20260425T191345
CREATED:20181116T174505Z
LAST-MODIFIED:20181116T174505Z
UID:10006706-1544601600-1544641200@newsuat.fordham.edu
SUMMARY:Fordham Impact Investing Conference
DESCRIPTION:This inaugural Fordham Impact Investment Convening (#ImpactFordham) is a 200-person\, invitation-only event hosted by Fordham Gabelli School of Business and Fordham Graduate Net Impact\, bringing together a curated group of individuals for a deeper discussion about unlocking the power of private capital to make both financial and social/environment impact returns. The mission of the event is to expose key players in the financial community\, policy making\, and academia to the current landscape and thinking regarding the opportunities\, challenges\, and developments affecting impact investing in an inexorable drive toward mainstream. \nCocktail party generously sponsored by the United Nations Capital Development Fund. \nAGENDA \n7:30 – 8:30 a.m.\nRegistration\, arrival\, and coffee \n8 – 8:30 a.m.\nWelcome\nGreeting and introduction of Dean Donna Rapaccioli\, Peter Lupoff\, Fordham University\, Lupoff Family Office \n8:30 – 9:15 a.m.\nCan We Do Good and Do Well? Issues\, Unintended Consequences\, Hope\nPanelists: \n\nChris Bullard\, Senior Associate\, Acumen\nPearline Yum\, Manager\, The ImPact\nSharadiya Dasgupta\, Managing Director\, Good Capital Project\n\nModerator: David Stevens\, Director of Strategy\, World Policy Institute \n9:15 – 10 a.m.\nBlended Finance Mechanics\, Can All Constituents Win?\nPanelists: \n\nAmy Wang\, Investment Manager\, PG Impact Investments\nAlice Catalano\, SVP\, Sarona Funds\nJohn Larkin\, Head of Impact Investments\, Avenue Capital Group\n\nModerator: Esther Pan Sloane\, Head of Partnerships\, UNCDF \n10 – 10:15 a.m.\nBreak \n10:15 – 11 a.m.\nESG\, Materiality and Measurement \nPanelists: \n\nJeffrey Gitterman\, Co-Founder\, Gitterman Wealth Management\nJeff Cohen\, Product Strategist\, SASB\nChristina Alfandary\, Managing Director\, Gabelli Funds ESG\n\nModerator: Linda Zhang\, Ph.D.\, CEO\, Purview Investments \n11 – 11:45 a.m.\nFinancial Inclusion via Alternative Credit Strategies\nPanelists: \n\nGil Crawford\, CEO\, Microvest\nArjun Batra\, CIO\, Lendable Marketplace\nWole Coaxum\, CEO\, Mobility Capital Finance\n\nModerator: Obie L. McKenzie\, Managing Director\, BlackRock \n11:45 a.m. – 12:45 p.m.\nBoxed Lunch \n12 – 12:45 p.m.\nLuncheon Keynote Speaker — Danielle Kayembe\, Greyfire Impact\nThe Rise of the Female Driven Economy: How Women are Driving Innovation\, Impact and the Future of Economics\nDanielle is a female futurist and serial entrepreneur dedicated to empowering women through her global work in business\, social impact\, writing\, and public speaking. She has been featured on CNBC and in Forbes. Danielle is an Ariane de Rothschild Fellow for 2018\, and is currently an Entrepreneur in Residence at Nike. \n12:45 – 1:30 p.m.\nSafe Spaces\, Sustainable Cities and Communities\nPanelists: \n\nDerwin Sisnett\, Partner\, Maslow Development\nAvi Telyas\, Founder\, Makerhoods\nKatherine St. Onge\, Director\, Calvert Impact Capital\n\nModerator: Mickey Penzer\, Vice President\, Penzer Family Office \n1:30 – 2:15 p.m.\nKeynote: Blockchain for Good\nPaul Johnson\, Fordham University\, Nicusa Investment Advisors \n2:15 – 2:30 p.m.\nBreak \n2:30 – 3:15 p.m.\nHarnessing the Power of and Returns from Gender/Race Lens Investing\nPanelists: \n\nJarrid Tingle\, Co-Founder\, Harlem Capital Partners\nLeslie Harwell\, Managing Partner\, Alante Capital\nChinedu Enekwe\, Managing Partner\, AffinitiVC\n\nModerator: Bahiyah Robinson\, Founder\, VC Include \n3:15 – 4 p.m.\nEvolving Impact Product Landscape: What’s New\, What’s Next?\nPanelists: \n\nCatarina Schwab\, Co-Founder\, CEO\, NPX\nAbigail Steinberg\, Associate\, BFA\nEthan Powell\, Founder\, Impact Shares\n\nModerator: Marcia Nelson\, Managing Director\, Aberleen Family Office \n4 – 4:15 p.m.\nBreak \n4:15 – 4:45 p.m.\nScreening of “Planetary\,” introduced by co-producer Andrew Appel\, Gitterman Wealth Management \n5 – 7 p.m.\nFordham Impact Cocktail Party\, generously sponsored by the United Nations Capital Development Fund\nWelcome and Introductory Remarks by Judith Karl\, Executive Secretary\, UNCDF
URL:https://newsuat.fordham.edu/event/fordham-impact-investing-conference/
LOCATION:Costantino Room\, Fordham Law School\, 150 West 62nd Street\, New York\, NY\, 10023\, United States
CATEGORIES:Conferences and Symposia,Networking and Career,Receptions
ATTACH;FMTTYPE=image/jpeg:https://newsuat.fordham.edu/wp-content/uploads/2018/11/Law-School.jpg
ORGANIZER;CN="Gabelli School of Business":MAILTO:gsbevents@fordham.edu
GEO:40.7715478;-73.9849293
X-APPLE-STRUCTURED-LOCATION;VALUE=URI;X-ADDRESS=Costantino Room Fordham Law School 150 West 62nd Street New York NY 10023 United States;X-APPLE-RADIUS=500;X-TITLE=Fordham Law School\, 150 West 62nd Street:geo:-73.9849293,40.7715478
END:VEVENT
BEGIN:VEVENT
DTSTART;TZID=America/New_York:20181214T170000
DTEND;TZID=America/New_York:20181214T210000
DTSTAMP:20260425T191345
CREATED:20181129T215256Z
LAST-MODIFIED:20181129T215256Z
UID:10006721-1544806800-1544821200@newsuat.fordham.edu
SUMMARY:Alumni Chapter of Northern California: 2018 Holiday Gathering
DESCRIPTION:You are invited to join alumni\, family\, and friends as we celebrate the season with our Christmas and holiday dinner held at Palio d’Asti. Family (including children) and friends are welcome. Please confirm attendance by sending an email to markadigiorgio@att.net by December 5. \nDining format: If we get 12+ people to confirm\, we can hold the dinner in a private room with a three-course pre-fixe dinner that includes salad\, pasta/entree\, dessert\, and wine at about $80 per person (children are $25). If we are fewer than 12\, Palio d’Asti is happy to accommodate us in the main dining room\, where we will have an a la carte dinner (self-pay with individual checks). Vegan and gluten-free meals are available upon request. \nFor those arriving early\, we will gather at the bar for a no-host reception at 5 p.m.\, followed by dinner around 6:30.
URL:https://newsuat.fordham.edu/event/alumni-chapter-of-northern-california-2018-holiday-gathering/
LOCATION:Palio d’Asti\, 640 Sacramento Street\, San Francisco\, CA\, 94111\, United States
CATEGORIES:Receptions,Social
ORGANIZER;CN="Mark Di Giorgio":MAILTO:markadigiorgio@att.net
END:VEVENT
BEGIN:VEVENT
DTSTART;TZID=America/New_York:20181215T180000
DTEND;TZID=America/New_York:20181215T180000
DTSTAMP:20260425T191345
CREATED:20181011T125154Z
LAST-MODIFIED:20181011T125154Z
UID:10006624-1544896800-1544896800@newsuat.fordham.edu
SUMMARY:Alumni Chapter of Taiwan: 2018 Christmas Charity Ivy Ball
DESCRIPTION:The Ivy Ball Christmas Charity Dinner is the largest annual charity dinner for American colleges and universities in Taiwan. The ball is hosted by Ivy League schools and other official guest schools every year. Fordham University has been invited as an official guest school for the 2018 Ivy Ball. \nA cocktail party and full-course dinner starts at 6 p.m. The after-party starts at 10 p.m. at the rooftop bar of the Taipei Marriott Hotel. The admission fee for the charity dinner is NT$3\,500; only 36 seats are available\, so advance reservation and payment are required. The admission fee for the after-party is NT$1\,000; there is no guest limit for the after-party—all are welcome! \nPlease note: This is a black-tie event. Proper attire is required. \nRSVP by Monday\, November 26\, 2018\, directly to Peter Lin at peterlin.orchard@gmail.com. Payment for the charity dinner must be made in advance through wire transfer. Payment for the after-party can be made at the entrance.
URL:https://newsuat.fordham.edu/event/alumni-chapter-of-taiwan-2018-christmas-charity-ivy-ball/
LOCATION:Taipei Marriott Hotel\, No 199 Lequn Second Road (Intersection with Jinye Fourth Road)\, Taipei\, ZhongShan District\, 10462\, Taiwan
CATEGORIES:Receptions,Social
ORGANIZER;CN="Peter Lin":MAILTO:peterlin.orchard@gmail.com
END:VEVENT
BEGIN:VEVENT
DTSTART;TZID=America/New_York:20181218T183000
DTEND;TZID=America/New_York:20181218T203000
DTSTAMP:20260425T191345
CREATED:20181023T133451Z
LAST-MODIFIED:20181023T133451Z
UID:10006646-1545157800-1545165000@newsuat.fordham.edu
SUMMARY:2018 Hartford Presidential Reception
DESCRIPTION:The Alumni Chapter of Hartford and Joseph M. McShane\, S.J.\, president of Fordham University\, cordially invite you to a reception for alumni\, parents\, and friends. \nThe event costs $30 per person and includes heavy hors d’oeuvres\, beer\, and wine. \nPlease consider making a gift of $25 or more to support Fordham financial aid.
URL:https://newsuat.fordham.edu/event/2018-hartford-presidential-reception/
LOCATION:The Society Room\, 31 Pratt Street\, Hartford\, CT\, 06103\, United States
CATEGORIES:Receptions
ATTACH;FMTTYPE=image/jpeg:https://newsuat.fordham.edu/wp-content/uploads/2018/10/Pres-hartford-1.jpg
ORGANIZER;CN="Ainsley Kelley":MAILTO:akelley6@fordham.edu
END:VEVENT
BEGIN:VEVENT
DTSTART;TZID=America/New_York:20181219T183000
DTEND;TZID=America/New_York:20181219T203000
DTSTAMP:20260425T191345
CREATED:20181023T133325Z
LAST-MODIFIED:20181023T133325Z
UID:10006647-1545244200-1545251400@newsuat.fordham.edu
SUMMARY:2018 Boston Presidential Reception
DESCRIPTION:The Alumni Chapter of Boston and Joseph M. McShane\, S.J.\, president of Fordham University\, cordially invite you to a reception for alumni\, parents\, and friends. \nThis event costs $30 per person and includes heavy hors d’oeuvres\, beer\, and wine. \nPlease consider making a gift of $25 or more to support Fordham financial aid.
URL:https://newsuat.fordham.edu/event/2018-boston-presidential-reception/
LOCATION:State Room\, 60 State Street\, Boston\, MA\, 02109\, United States
CATEGORIES:Receptions
ATTACH;FMTTYPE=image/jpeg:https://newsuat.fordham.edu/wp-content/uploads/2018/10/Boston.jpg
ORGANIZER;CN="Ainsley Kelley":MAILTO:akelley6@fordham.edu
END:VEVENT
END:VCALENDAR