BEGIN:VCALENDAR
VERSION:2.0
PRODID:-//Fordham Now - ECPv6.15.20//NONSGML v1.0//EN
CALSCALE:GREGORIAN
METHOD:PUBLISH
X-ORIGINAL-URL:https://newsuat.fordham.edu
X-WR-CALDESC:Events for Fordham Now
REFRESH-INTERVAL;VALUE=DURATION:PT1H
X-Robots-Tag:noindex
X-PUBLISHED-TTL:PT1H
BEGIN:VTIMEZONE
TZID:America/New_York
BEGIN:DAYLIGHT
TZOFFSETFROM:-0500
TZOFFSETTO:-0400
TZNAME:EDT
DTSTART:20170312T070000
END:DAYLIGHT
BEGIN:STANDARD
TZOFFSETFROM:-0400
TZOFFSETTO:-0500
TZNAME:EST
DTSTART:20171105T060000
END:STANDARD
BEGIN:DAYLIGHT
TZOFFSETFROM:-0500
TZOFFSETTO:-0400
TZNAME:EDT
DTSTART:20180311T070000
END:DAYLIGHT
BEGIN:STANDARD
TZOFFSETFROM:-0400
TZOFFSETTO:-0500
TZNAME:EST
DTSTART:20181104T060000
END:STANDARD
BEGIN:DAYLIGHT
TZOFFSETFROM:-0500
TZOFFSETTO:-0400
TZNAME:EDT
DTSTART:20190310T070000
END:DAYLIGHT
BEGIN:STANDARD
TZOFFSETFROM:-0400
TZOFFSETTO:-0500
TZNAME:EST
DTSTART:20191103T060000
END:STANDARD
END:VTIMEZONE
BEGIN:VEVENT
DTSTART;TZID=America/New_York:20180926T171500
DTEND;TZID=America/New_York:20180926T201500
DTSTAMP:20260425T235936
CREATED:20180823T132301Z
LAST-MODIFIED:20180823T132301Z
UID:10006526-1537982100-1537992900@newsuat.fordham.edu
SUMMARY:Installation Ceremony and Reception for New STEM Faculty Chairs
DESCRIPTION:Join us as we celebrate \nSilvia C. Finnemann\, Ph.D.\, the Kim B. and Stephen E. Bepler Chair in Biology\nHans-Joachim Hein\, Ph.D.\, the Kim B. and Stephen E. Bepler Chair in Mathematics\nJoshua A. Schrier\, Ph.D.\, the Kim B. and Stephen E. Bepler Chair in Chemistry \nThe Faculty Medal Ceremony will begin at 5:15 p.m. in Tognino Hall and will be followed by a reception ar 6:15 p.m. in Butler Commons.
URL:https://newsuat.fordham.edu/event/installation-ceremony-and-reception-for-new-stem-faculty-chairs/
LOCATION:Rose Hill Campus\, Fordham University\, The Bronx\, NY\, USA\, Bronx\, NY\, 10458\, United States
CATEGORIES:Receptions
ATTACH;FMTTYPE=image/png:https://newsuat.fordham.edu/wp-content/uploads/2018/08/Capture.png
GEO:40.861203;-73.8892181
X-APPLE-STRUCTURED-LOCATION;VALUE=URI;X-ADDRESS=Rose Hill Campus Fordham University The Bronx NY USA Bronx NY 10458 United States;X-APPLE-RADIUS=500;X-TITLE=Fordham University\, The Bronx\, NY\, USA:geo:-73.8892181,40.861203
END:VEVENT
END:VCALENDAR