BEGIN:VCALENDAR
VERSION:2.0
PRODID:-//Fordham Now - ECPv6.15.20//NONSGML v1.0//EN
CALSCALE:GREGORIAN
METHOD:PUBLISH
X-WR-CALNAME:Fordham Now
X-ORIGINAL-URL:https://newsuat.fordham.edu
X-WR-CALDESC:Events for Fordham Now
REFRESH-INTERVAL;VALUE=DURATION:PT1H
X-Robots-Tag:noindex
X-PUBLISHED-TTL:PT1H
BEGIN:VTIMEZONE
TZID:America/New_York
BEGIN:DAYLIGHT
TZOFFSETFROM:-0500
TZOFFSETTO:-0400
TZNAME:EDT
DTSTART:20220313T070000
END:DAYLIGHT
BEGIN:STANDARD
TZOFFSETFROM:-0400
TZOFFSETTO:-0500
TZNAME:EST
DTSTART:20221106T060000
END:STANDARD
BEGIN:DAYLIGHT
TZOFFSETFROM:-0500
TZOFFSETTO:-0400
TZNAME:EDT
DTSTART:20230312T070000
END:DAYLIGHT
BEGIN:STANDARD
TZOFFSETFROM:-0400
TZOFFSETTO:-0500
TZNAME:EST
DTSTART:20231105T060000
END:STANDARD
BEGIN:DAYLIGHT
TZOFFSETFROM:-0500
TZOFFSETTO:-0400
TZNAME:EDT
DTSTART:20240310T070000
END:DAYLIGHT
BEGIN:STANDARD
TZOFFSETFROM:-0400
TZOFFSETTO:-0500
TZNAME:EST
DTSTART:20241103T060000
END:STANDARD
END:VTIMEZONE
BEGIN:VEVENT
DTSTART;TZID=America/New_York:20230301T180000
DTEND;TZID=America/New_York:20230301T200000
DTSTAMP:20260424T060530
CREATED:20230106T204956Z
LAST-MODIFIED:20230106T204956Z
UID:10004918-1677693600-1677700800@newsuat.fordham.edu
SUMMARY:2023 Puerto Rico Regional Reception
DESCRIPTION:Marie Napoli\, PAR\, and Paul Napoli\, GABELLI ’89\, PAR; the Fordham Alumni Chapter of Puerto Rico; and the Office of Alumni Relations cordially invite you to a complimentary reception for alumni\, parents\, and friends. \nAs the cost of the reception is being generously covered by our hosts Marie and Paul Napoli\, please consider making a gift of $25 or more to support the University’s campaign\, Cura Personalis | For Every Fordham Student.
URL:https://newsuat.fordham.edu/event/2023-puerto-rico-regional-reception/
LOCATION:Dorado Beach\, a Ritz-Carlton Reserve\, 100 Dorado Beach Drive\, Dorado\, 00646\, Puerto Rico
CATEGORIES:Networking and Career,Receptions,Social
END:VEVENT
BEGIN:VEVENT
DTSTART;TZID=America/New_York:20230327T064500
DTEND;TZID=America/New_York:20230327T201500
DTSTAMP:20260424T060530
CREATED:20230321T150249Z
LAST-MODIFIED:20230321T150249Z
UID:10005031-1679899500-1679948100@newsuat.fordham.edu
SUMMARY:March 2023 GSS Black Alumni Caucus Meeting
DESCRIPTION:Topic: The Mental Health Crisis and Policy and Practice Issues: Social Work Breaks Barriers \nThe GSS Black Alumni Caucus is a virtual space for self-identified Black alumni of Fordham University’s Graduate School of Social Service (GSS). GSS is holding space for you to connect with other Black alumni and with GSS in order to create a relaxed and affirming environment where we can support one another.
URL:https://newsuat.fordham.edu/event/march-2023-gss-black-alumni-caucus-meeting/
LOCATION:Zoom
CATEGORIES:Networking and Career
END:VEVENT
BEGIN:VEVENT
DTSTART;TZID=America/New_York:20230330T203000
DTEND;TZID=America/New_York:20230330T213000
DTSTAMP:20260424T060530
CREATED:20230329T185621Z
LAST-MODIFIED:20230329T185621Z
UID:10005066-1680208200-1680211800@newsuat.fordham.edu
SUMMARY:Fordham Alumni in Report for America
DESCRIPTION:Come hear from Fordham’s current Report for America fellows: Sarah Huffman\, FCRH ‘21\, and Jake Shore\, FCRH ‘18. They will be speaking about Report for America\, a program that puts young reporters in newsrooms around the country\, and breaking into journalism. \nJoin us in LL 308 to dial into the virtual event together.
URL:https://newsuat.fordham.edu/event/fordham-alumni-in-report-for-america/
LOCATION:Lowenstein Center\, Lincoln Center Campus 113 W 60th St\, New York\, NY\, 10023\, United States
CATEGORIES:Lectures,Networking and Career
GEO:40.7710994;-73.9852715
X-APPLE-STRUCTURED-LOCATION;VALUE=URI;X-ADDRESS=Lowenstein Center Lincoln Center Campus 113 W 60th St New York NY 10023 United States;X-APPLE-RADIUS=500;X-TITLE=Lincoln Center Campus 113 W 60th St:geo:-73.9852715,40.7710994
END:VEVENT
END:VCALENDAR