BEGIN:VCALENDAR
VERSION:2.0
PRODID:-//Fordham Now - ECPv6.15.20//NONSGML v1.0//EN
CALSCALE:GREGORIAN
METHOD:PUBLISH
X-WR-CALNAME:Fordham Now
X-ORIGINAL-URL:https://newsuat.fordham.edu
X-WR-CALDESC:Events for Fordham Now
REFRESH-INTERVAL;VALUE=DURATION:PT1H
X-Robots-Tag:noindex
X-PUBLISHED-TTL:PT1H
BEGIN:VTIMEZONE
TZID:America/Chicago
BEGIN:DAYLIGHT
TZOFFSETFROM:-0600
TZOFFSETTO:-0500
TZNAME:CDT
DTSTART:20210314T080000
END:DAYLIGHT
BEGIN:STANDARD
TZOFFSETFROM:-0500
TZOFFSETTO:-0600
TZNAME:CST
DTSTART:20211107T070000
END:STANDARD
BEGIN:DAYLIGHT
TZOFFSETFROM:-0600
TZOFFSETTO:-0500
TZNAME:CDT
DTSTART:20220313T080000
END:DAYLIGHT
BEGIN:STANDARD
TZOFFSETFROM:-0500
TZOFFSETTO:-0600
TZNAME:CST
DTSTART:20221106T070000
END:STANDARD
BEGIN:DAYLIGHT
TZOFFSETFROM:-0600
TZOFFSETTO:-0500
TZNAME:CDT
DTSTART:20230312T080000
END:DAYLIGHT
BEGIN:STANDARD
TZOFFSETFROM:-0500
TZOFFSETTO:-0600
TZNAME:CST
DTSTART:20231105T070000
END:STANDARD
END:VTIMEZONE
BEGIN:VTIMEZONE
TZID:America/New_York
BEGIN:DAYLIGHT
TZOFFSETFROM:-0500
TZOFFSETTO:-0400
TZNAME:EDT
DTSTART:20210314T070000
END:DAYLIGHT
BEGIN:STANDARD
TZOFFSETFROM:-0400
TZOFFSETTO:-0500
TZNAME:EST
DTSTART:20211107T060000
END:STANDARD
BEGIN:DAYLIGHT
TZOFFSETFROM:-0500
TZOFFSETTO:-0400
TZNAME:EDT
DTSTART:20220313T070000
END:DAYLIGHT
BEGIN:STANDARD
TZOFFSETFROM:-0400
TZOFFSETTO:-0500
TZNAME:EST
DTSTART:20221106T060000
END:STANDARD
BEGIN:DAYLIGHT
TZOFFSETFROM:-0500
TZOFFSETTO:-0400
TZNAME:EDT
DTSTART:20230312T070000
END:DAYLIGHT
BEGIN:STANDARD
TZOFFSETFROM:-0400
TZOFFSETTO:-0500
TZNAME:EST
DTSTART:20231105T060000
END:STANDARD
END:VTIMEZONE
BEGIN:VEVENT
DTSTART;TZID=America/Chicago:20221213T180000
DTEND;TZID=America/Chicago:20221213T200000
DTSTAMP:20260424T105213
CREATED:20221130T160038Z
LAST-MODIFIED:20221130T160038Z
UID:10004896-1670954400-1670961600@newsuat.fordham.edu
SUMMARY:Alumni Chapter of Dallas: 2022 Holiday Happy Hour
DESCRIPTION:The Alumni Chapter of Dallas invites alumni\, family\, and friends to gather at a local brewery for a drink and to toast the season! Alumni in the Dallas area are still getting to know one another\, so stop by this casual event and mingle. Enjoy an evening with fellow Rams and get in the holiday spirit! RSVP by December 12.
URL:https://newsuat.fordham.edu/event/alumni-chapter-of-dallas-2022-holiday-happy-hour/
LOCATION:On Rotation\, 7701 Lemmon Avenue\, Suite 200\, Dallas\, TX\, 75209\, United States
CATEGORIES:Networking and Career,Receptions
ORGANIZER;CN="Alumni Chapter of Dallas":MAILTO:tanner@hartnettlawfirm.com
END:VEVENT
BEGIN:VEVENT
DTSTART;TZID=America/New_York:20221214T183000
DTEND;TZID=America/New_York:20221214T203000
DTSTAMP:20260424T105213
CREATED:20221110T164503Z
LAST-MODIFIED:20221110T164503Z
UID:10004888-1671042600-1671049800@newsuat.fordham.edu
SUMMARY:2022 Fairfield County Presidential Welcome Reception
DESCRIPTION:Ken Rogozinski\, GABELLI ’85\, and Alexandra Smith; the Office of Alumni Relations; and the Alumni Chapter of Fairfield County cordially invite you to a complimentary reception for alumni\, parents\, and friends. Please join us as we welcome Tania Tetlow as Fordham’s 33rd president—the first woman and layperson to serve as president in the University’s history. \nSpace is limited\, and advance registration is required. Riverside Yacht Club is a private venue and walk-ins cannot be accommodated. \nAs the cost of this event is being generously covered by our hosts Ken Rogozinski and Alexandra Smith\, please consider making a gift of $25 or more to support Cura Personalis | For Every Fordham Student.
URL:https://newsuat.fordham.edu/event/2022-fairfield-county-presidential-welcome-reception/
LOCATION:Riverside Yacht Club\, 102 Club Road\, Riverside\, CT\, 06878\, United States
CATEGORIES:Networking and Career,Receptions,Social
ORGANIZER;CN="Office of Alumni Relations":MAILTO:alumnioffice@fordham.edu
END:VEVENT
END:VCALENDAR