BEGIN:VCALENDAR
VERSION:2.0
PRODID:-//Fordham Now - ECPv6.15.20//NONSGML v1.0//EN
CALSCALE:GREGORIAN
METHOD:PUBLISH
X-WR-CALNAME:Fordham Now
X-ORIGINAL-URL:https://newsuat.fordham.edu
X-WR-CALDESC:Events for Fordham Now
REFRESH-INTERVAL;VALUE=DURATION:PT1H
X-Robots-Tag:noindex
X-PUBLISHED-TTL:PT1H
BEGIN:VTIMEZONE
TZID:America/New_York
BEGIN:DAYLIGHT
TZOFFSETFROM:-0500
TZOFFSETTO:-0400
TZNAME:EDT
DTSTART:20210314T070000
END:DAYLIGHT
BEGIN:STANDARD
TZOFFSETFROM:-0400
TZOFFSETTO:-0500
TZNAME:EST
DTSTART:20211107T060000
END:STANDARD
BEGIN:DAYLIGHT
TZOFFSETFROM:-0500
TZOFFSETTO:-0400
TZNAME:EDT
DTSTART:20220313T070000
END:DAYLIGHT
BEGIN:STANDARD
TZOFFSETFROM:-0400
TZOFFSETTO:-0500
TZNAME:EST
DTSTART:20221106T060000
END:STANDARD
BEGIN:DAYLIGHT
TZOFFSETFROM:-0500
TZOFFSETTO:-0400
TZNAME:EDT
DTSTART:20230312T070000
END:DAYLIGHT
BEGIN:STANDARD
TZOFFSETFROM:-0400
TZOFFSETTO:-0500
TZNAME:EST
DTSTART:20231105T060000
END:STANDARD
END:VTIMEZONE
BEGIN:VEVENT
DTSTART;TZID=America/New_York:20221019T093000
DTEND;TZID=America/New_York:20221019T160000
DTSTAMP:20260424T140711
CREATED:20220726T154805Z
LAST-MODIFIED:20220726T154805Z
UID:10004778-1666171800-1666195200@newsuat.fordham.edu
SUMMARY:Fordham Women's Summit
DESCRIPTION:Join us for Fordham’s annual Women’s Summit to hear from trailblazing women\, including Tania Tetlow\, the first layperson and first woman to lead the University in its 181-year history\, in conversation with Adriana Trigiani\, bestselling author\, playwright\, filmmaker\, television writer and producer\, and parent of a Fordham student. \nSpend the day learning from Fordham women who are using their unique brand of leadership to transform their fields\, and take away a few innovative skills of your own that you can put into practice.
URL:https://newsuat.fordham.edu/event/fordham-womens-summit/
LOCATION:Skadden Conference Center\, 150 West 62nd Street\, New York\, NY\, 10023\, United States
CATEGORIES:Conferences and Symposia,Networking and Career,Receptions
ATTACH;FMTTYPE=image/jpeg:https://newsuat.fordham.edu/wp-content/uploads/2022/07/640d46ab-c365-48d4-9ce8-61ea966f7413.jpg
GEO:40.7716809;-73.984777
X-APPLE-STRUCTURED-LOCATION;VALUE=URI;X-ADDRESS=Skadden Conference Center 150 West 62nd Street New York NY 10023 United States;X-APPLE-RADIUS=500;X-TITLE=150 West 62nd Street:geo:-73.984777,40.7716809
END:VEVENT
BEGIN:VEVENT
DTSTART;TZID=America/New_York:20221025T180000
DTEND;TZID=America/New_York:20221025T200000
DTSTAMP:20260424T140711
CREATED:20220921T154741Z
LAST-MODIFIED:20220921T154741Z
UID:10004819-1666720800-1666728000@newsuat.fordham.edu
SUMMARY:O’Shea Center for Credit Analysis and Investment Credit Event
DESCRIPTION:The Gabelli School of Business has established a one-of-a-kind center dedicated to educating students\, supporting alumni\, and collaborating with industry leaders across the global credit markets. \nPlease join us for the O’Shea Credit Networking Event\, featuring cocktails\, hors d’oeuvres\, and a riveting fireside chat with Harvey Schwartz\, followed by a Q&A. Schwartz is the epitome of the American dream. A 1987 graduate of Rutgers University\, Schwartz fought his way into a back-office role at Citibank. Through hard work and determination\, he succeeded in becoming president and co-chief operating officer of Goldman.
URL:https://newsuat.fordham.edu/event/oshea-center-for-credit-analysis-and-investment-credit-event/
LOCATION:The University Club\, 800 Powell Street\, San Francisco\, CA\, 94108\, United States
CATEGORIES:Networking and Career,Receptions
GEO:40.7613685;-73.9756379
X-APPLE-STRUCTURED-LOCATION;VALUE=URI;X-ADDRESS=The University Club 800 Powell Street San Francisco CA 94108 United States;X-APPLE-RADIUS=500;X-TITLE=800 Powell Street:geo:-73.9756379,40.7613685
END:VEVENT
BEGIN:VEVENT
DTSTART;TZID=America/New_York:20221027T180000
DTEND;TZID=America/New_York:20221027T200000
DTSTAMP:20260424T140711
CREATED:20220801T191941Z
LAST-MODIFIED:20220801T191941Z
UID:10004779-1666893600-1666900800@newsuat.fordham.edu
SUMMARY:Fordham Foundry 10th Anniversary Celebration
DESCRIPTION:The Fordham Foundry is celebrating the 10th anniversary of its founding with a full year of programming and fundraising. The Foundry is Fordham’s Hub for Innovation and Entrepreneurship and has helped more than 4\,500 students and alumni from all of Fordham’s schools including Fordham Law\, the Graduate School of Social Services\, Fordham College\, and the Gabelli School of Business. \nTo kick off the 2022 – 2023 celebrations\, the Foundry is hosting an event featuring keynote speaker John J. Kilcullen\, creator of the For Dummies series and an FCRH grad. There will also be a “fireside chat” with two Fordham alumni founders (Brandon Kim\, co-founder of Brevite\, and Lauren Sweeney\, co-founder of Deliver Zero) and some brief remarks by Fordham and New York City community leaders. There will be an open bar and ample opportunities for networking with other entrepreneurial-minded Fordham alumni and students\, including members of the Fordham Angel Fund—Fordham’s venture capital fund for student and alumni-led businesses. \nEarly bird tickets are $15 through October 15; $20 thereafter and at the door. \nBusiness casual attire.
URL:https://newsuat.fordham.edu/event/fordham-foundry-10th-anniversary-celebration/
LOCATION:Costantino Room\, Fordham Law School\, 150 West 62nd Street\, New York\, NY\, 10023\, United States
CATEGORIES:Conferences and Symposia,Lectures,Networking and Career
ORGANIZER;CN="Fordham Foundry":MAILTO:fordhamfoundry@fordham.edu
GEO:40.7715478;-73.9849293
X-APPLE-STRUCTURED-LOCATION;VALUE=URI;X-ADDRESS=Costantino Room Fordham Law School 150 West 62nd Street New York NY 10023 United States;X-APPLE-RADIUS=500;X-TITLE=Fordham Law School\, 150 West 62nd Street:geo:-73.9849293,40.7715478
END:VEVENT
END:VCALENDAR