BEGIN:VCALENDAR
VERSION:2.0
PRODID:-//Fordham Now - ECPv6.15.20//NONSGML v1.0//EN
CALSCALE:GREGORIAN
METHOD:PUBLISH
X-WR-CALNAME:Fordham Now
X-ORIGINAL-URL:https://newsuat.fordham.edu
X-WR-CALDESC:Events for Fordham Now
REFRESH-INTERVAL;VALUE=DURATION:PT1H
X-Robots-Tag:noindex
X-PUBLISHED-TTL:PT1H
BEGIN:VTIMEZONE
TZID:America/New_York
BEGIN:DAYLIGHT
TZOFFSETFROM:-0500
TZOFFSETTO:-0400
TZNAME:EDT
DTSTART:20210314T070000
END:DAYLIGHT
BEGIN:STANDARD
TZOFFSETFROM:-0400
TZOFFSETTO:-0500
TZNAME:EST
DTSTART:20211107T060000
END:STANDARD
BEGIN:DAYLIGHT
TZOFFSETFROM:-0500
TZOFFSETTO:-0400
TZNAME:EDT
DTSTART:20220313T070000
END:DAYLIGHT
BEGIN:STANDARD
TZOFFSETFROM:-0400
TZOFFSETTO:-0500
TZNAME:EST
DTSTART:20221106T060000
END:STANDARD
BEGIN:DAYLIGHT
TZOFFSETFROM:-0500
TZOFFSETTO:-0400
TZNAME:EDT
DTSTART:20230312T070000
END:DAYLIGHT
BEGIN:STANDARD
TZOFFSETFROM:-0400
TZOFFSETTO:-0500
TZNAME:EST
DTSTART:20231105T060000
END:STANDARD
END:VTIMEZONE
BEGIN:VTIMEZONE
TZID:America/Los_Angeles
BEGIN:DAYLIGHT
TZOFFSETFROM:-0800
TZOFFSETTO:-0700
TZNAME:PDT
DTSTART:20210314T100000
END:DAYLIGHT
BEGIN:STANDARD
TZOFFSETFROM:-0700
TZOFFSETTO:-0800
TZNAME:PST
DTSTART:20211107T090000
END:STANDARD
BEGIN:DAYLIGHT
TZOFFSETFROM:-0800
TZOFFSETTO:-0700
TZNAME:PDT
DTSTART:20220313T100000
END:DAYLIGHT
BEGIN:STANDARD
TZOFFSETFROM:-0700
TZOFFSETTO:-0800
TZNAME:PST
DTSTART:20221106T090000
END:STANDARD
BEGIN:DAYLIGHT
TZOFFSETFROM:-0800
TZOFFSETTO:-0700
TZNAME:PDT
DTSTART:20230312T100000
END:DAYLIGHT
BEGIN:STANDARD
TZOFFSETFROM:-0700
TZOFFSETTO:-0800
TZNAME:PST
DTSTART:20231105T090000
END:STANDARD
END:VTIMEZONE
BEGIN:VEVENT
DTSTART;TZID=America/New_York:20220825T183000
DTEND;TZID=America/New_York:20220825T203000
DTSTAMP:20260424T172900
CREATED:20220808T140623Z
LAST-MODIFIED:20220808T140623Z
UID:10004784-1661452200-1661459400@newsuat.fordham.edu
SUMMARY:Finance & Banking Affinity Chapter Happy Hour
DESCRIPTION:The newly founded finance and banking affinity chapter invites you to join them for their first happy hour event. Come together to mingle and tell leadership what you would like to see from the group. \nWe hope to see you all there!
URL:https://newsuat.fordham.edu/event/finance-banking-affinity-chapter-happy-hour/
LOCATION:Blackwells\, 47th and 3rd\, New York\, NY\, United States
CATEGORIES:Networking and Career
ORGANIZER;CN="Taylor Palmer":MAILTO:tpalmer7@fordham.edu
END:VEVENT
BEGIN:VEVENT
DTSTART;TZID=America/Los_Angeles:20220827T180700
DTEND;TZID=America/Los_Angeles:20220827T180700
DTSTAMP:20260424T172900
CREATED:20220616T172850Z
LAST-MODIFIED:20220616T172850Z
UID:10004763-1661623620-1661623620@newsuat.fordham.edu
SUMMARY:Alumni Chapter of Northern California: 2022 Yankees at A's Baseball Outing
DESCRIPTION:Join the Alumni Chapter of Northern California for our 16th annual Fordham Alumni Night at the Oakland Coliseum as we cheer on the Bronx Bombers versus the Oakland A’s. \nSeats are located in Lower Box 106\, only a few rows off the field behind the Yankees’ bullpen. Alumni\, family\, and friends are welcome to join\, and there is no ticket limit. Please note: All tickets are electronic and will be forwarded via the MLB Ballpark app to the email used by the primary registrant. \nRSVP by August 12. \nWe are planning a pre-game social in the parking lot\, details will be provided two weeks prior to the game.
URL:https://newsuat.fordham.edu/event/alumni-chapter-of-northern-california-2022-yankees-at-as-baseball-outing/
LOCATION:Oakland Coliseum\, 7000 Coliseum Way\, Oakland\, CA\, 94621\, United States
CATEGORIES:Athletics,Networking and Career,Receptions,Social
ORGANIZER;CN="Alumni Chapter of Northern California":MAILTO:markadigiorgio@att.net
END:VEVENT
END:VCALENDAR