BEGIN:VCALENDAR
VERSION:2.0
PRODID:-//Fordham Now - ECPv6.15.20//NONSGML v1.0//EN
CALSCALE:GREGORIAN
METHOD:PUBLISH
X-ORIGINAL-URL:https://newsuat.fordham.edu
X-WR-CALDESC:Events for Fordham Now
REFRESH-INTERVAL;VALUE=DURATION:PT1H
X-Robots-Tag:noindex
X-PUBLISHED-TTL:PT1H
BEGIN:VTIMEZONE
TZID:America/New_York
BEGIN:DAYLIGHT
TZOFFSETFROM:-0500
TZOFFSETTO:-0400
TZNAME:EDT
DTSTART:20210314T070000
END:DAYLIGHT
BEGIN:STANDARD
TZOFFSETFROM:-0400
TZOFFSETTO:-0500
TZNAME:EST
DTSTART:20211107T060000
END:STANDARD
BEGIN:DAYLIGHT
TZOFFSETFROM:-0500
TZOFFSETTO:-0400
TZNAME:EDT
DTSTART:20220313T070000
END:DAYLIGHT
BEGIN:STANDARD
TZOFFSETFROM:-0400
TZOFFSETTO:-0500
TZNAME:EST
DTSTART:20221106T060000
END:STANDARD
BEGIN:DAYLIGHT
TZOFFSETFROM:-0500
TZOFFSETTO:-0400
TZNAME:EDT
DTSTART:20230312T070000
END:DAYLIGHT
BEGIN:STANDARD
TZOFFSETFROM:-0400
TZOFFSETTO:-0500
TZNAME:EST
DTSTART:20231105T060000
END:STANDARD
END:VTIMEZONE
BEGIN:VEVENT
DTSTART;TZID=America/New_York:20220510T140000
DTEND;TZID=America/New_York:20220510T160000
DTSTAMP:20260424T223626
CREATED:20220118T220258Z
LAST-MODIFIED:20220118T220258Z
UID:10004602-1652191200-1652198400@newsuat.fordham.edu
SUMMARY:Continuing Education: The Family Meeting in Health Care—Social Work in a Leadership Role
DESCRIPTION:Family caregivers play a significant role in caring for people with chronic and serious illnesses. In the context of palliative and end-of-life care\, caregivers play a vital role in providing assistance with daily living\, critical medical decision-making\, and adherence to treatment recommendations. Social workers are uniquely qualified to work with family caregivers from the person-in-situation perspective and to take the lead in the family meeting. This class will highlight the theoretical framework for the family meeting in health care\, including palliative care\, best practices in caregiver assessment\, and treatment\, using real-life case scenarios to illustrate complex clinical issues and social work best practices. The training will focus on reinforcement of theory\, practice skills\, reflective exercises\, and strategies for increasing professional visibility within the family meeting. Topics will include caregiver burden\, biopsychosocial screening\, multidimensional intervention\, communication techniques\, and existential and cultural differences in response to serious illness. \nContinuing Education Hours Offered: 2
URL:https://newsuat.fordham.edu/event/continuing-education-the-family-meeting-in-health-care-social-work-in-a-leadership-role/
LOCATION:Zoom
CATEGORIES:Networking and Career
END:VEVENT
BEGIN:VEVENT
DTSTART;TZID=America/New_York:20220525T120000
DTEND;TZID=America/New_York:20220525T150000
DTSTAMP:20260424T223626
CREATED:20220118T221057Z
LAST-MODIFIED:20220118T221057Z
UID:10004603-1653480000-1653490800@newsuat.fordham.edu
SUMMARY:Continuing Education: Cultural Competency—Skills and Knowledge for Improving Practice in Healthcare Settings
DESCRIPTION:Cultural competency skills are essential components of successful interventions with individuals\, families\, and communities across the life course. This class provides participants with knowledge and understanding of the revised National Association of Social Workers (NASW) Practice Standards and Guidelines for cultural competence in social work practice. It examines the challenges and complexities of culturally competent practice and promotes skills development for improving care in healthcare settings for patients and families throughout the illness trajectory. Effective and compassionate ways in which social workers are able to incorporate cultural preferences and concordance in practice approaches for patients with serious illness and at the end of life\, and their families\, will be discussed. \nContinuing Education Hours Offered: 3
URL:https://newsuat.fordham.edu/event/continuing-education-cultural-competency-skills-and-knowledge-for-improving-practice-in-healthcare-settings/
LOCATION:Zoom
CATEGORIES:Networking and Career
END:VEVENT
END:VCALENDAR