BEGIN:VCALENDAR
VERSION:2.0
PRODID:-//Fordham Now - ECPv6.15.20//NONSGML v1.0//EN
CALSCALE:GREGORIAN
METHOD:PUBLISH
X-ORIGINAL-URL:https://newsuat.fordham.edu
X-WR-CALDESC:Events for Fordham Now
REFRESH-INTERVAL;VALUE=DURATION:PT1H
X-Robots-Tag:noindex
X-PUBLISHED-TTL:PT1H
BEGIN:VTIMEZONE
TZID:America/New_York
BEGIN:DAYLIGHT
TZOFFSETFROM:-0500
TZOFFSETTO:-0400
TZNAME:EDT
DTSTART:20200308T070000
END:DAYLIGHT
BEGIN:STANDARD
TZOFFSETFROM:-0400
TZOFFSETTO:-0500
TZNAME:EST
DTSTART:20201101T060000
END:STANDARD
BEGIN:DAYLIGHT
TZOFFSETFROM:-0500
TZOFFSETTO:-0400
TZNAME:EDT
DTSTART:20210314T070000
END:DAYLIGHT
BEGIN:STANDARD
TZOFFSETFROM:-0400
TZOFFSETTO:-0500
TZNAME:EST
DTSTART:20211107T060000
END:STANDARD
BEGIN:DAYLIGHT
TZOFFSETFROM:-0500
TZOFFSETTO:-0400
TZNAME:EDT
DTSTART:20220313T070000
END:DAYLIGHT
BEGIN:STANDARD
TZOFFSETFROM:-0400
TZOFFSETTO:-0500
TZNAME:EST
DTSTART:20221106T060000
END:STANDARD
END:VTIMEZONE
BEGIN:VEVENT
DTSTART;TZID=America/New_York:20211005T173000
DTEND;TZID=America/New_York:20211005T183000
DTSTAMP:20260425T100150
CREATED:20210909T173921Z
LAST-MODIFIED:20210909T173921Z
UID:10004408-1633455000-1633458600@newsuat.fordham.edu
SUMMARY:October 2021 Career Workshop: Building Your Brand
DESCRIPTION:How do you want employers to think of you? How can you encapsulate your experience\, talents\, and personality in a way that differentiates you from others? Professor Quentin Langley will work with you to build your personal brand and teach you how to leverage it during your job search. \nLight refreshments will be served. \nNote: Anyone entering campus must show proof of COVID-19 vaccination at the door. Masks must be worn indoors.
URL:https://newsuat.fordham.edu/event/october-2021-career-workshop-building-your-brand/
LOCATION:McMahon 109\, McMahon Hall\, 113 West 60th Street\, Lincoln Center Campus\, New York\, NY\, 10023\, United States
CATEGORIES:Networking and Career
ORGANIZER;CN="Office of Alumni Relations":MAILTO:alumnioffice@fordham.edu
GEO:40.7708109;-73.9851512
X-APPLE-STRUCTURED-LOCATION;VALUE=URI;X-ADDRESS=McMahon 109 McMahon Hall 113 West 60th Street Lincoln Center Campus New York NY 10023 United States;X-APPLE-RADIUS=500;X-TITLE=McMahon Hall\, 113 West 60th Street\, Lincoln Center Campus:geo:-73.9851512,40.7708109
END:VEVENT
BEGIN:VEVENT
DTSTART;TZID=America/New_York:20211007T183000
DTEND;TZID=America/New_York:20211007T203000
DTSTAMP:20260425T100150
CREATED:20210916T175859Z
LAST-MODIFIED:20210916T175859Z
UID:10004421-1633631400-1633638600@newsuat.fordham.edu
SUMMARY:Alumni Chapter of Dallas: Welcome to the Neighborhood
DESCRIPTION:Calling all recent graduates! Have you recently graduated from Fordham or just moved to the area? Join the Fordham Alumni Chapter of Dallas as we welcome new alumni to the neighborhood at The Bluffview Growler. Whether you are looking to network or just make some friendly Fordham connections in Dallas\, we hope you’ll join us for a fun evening with fellow Rams! \nAll Fordham alumni\, parents\, and friends are welcome to attend the event. Attendees will receive one complimentary drink.
URL:https://newsuat.fordham.edu/event/alumni-chapter-of-dallas-welcome-to-the-neighborhood/
LOCATION:The Bluffview Growler\, 3850 W. Northwest Highway\, Unit 1190\, Dallas\, Texas\, 75220\, United States
CATEGORIES:Networking and Career,Receptions,Social
ORGANIZER;CN="Alumni Chapter of Dallas":MAILTO:tanner@hartnettlawfirm.com
END:VEVENT
BEGIN:VEVENT
DTSTART;TZID=America/New_York:20211014T120000
DTEND;TZID=America/New_York:20211014T140000
DTSTAMP:20260425T100150
CREATED:20210916T180628Z
LAST-MODIFIED:20210916T180628Z
UID:10004423-1634212800-1634220000@newsuat.fordham.edu
SUMMARY:GSS Continuing Education: Understanding Your Own Death Anxiety for the Death-Adjacent Clinician
DESCRIPTION:Death anxiety is an evolutionary concept relating to the very core of what it means to be human. While death anxiety is often implicit and below conscious awareness\, some theorists and researchers propose it actually underlies much of our motivation in life. A better understanding of the death anxiety implicit within us helps us better tolerate and hold space for the often-unspoken death anxiety of our patients and clients. This workshop seeks to help participants better understand what death anxiety is\, how it manifests\, and how it feels within themselves. The workshop is highly experiential and evocative and requires focused\, active participation and reflection.
URL:https://newsuat.fordham.edu/event/gss-continuing-education-understanding-your-own-death-anxiety-for-the-death-adjacent-clinician/
LOCATION:Zoom
CATEGORIES:Networking and Career
END:VEVENT
BEGIN:VEVENT
DTSTART;TZID=America/New_York:20211014T180000
DTEND;TZID=America/New_York:20211014T190000
DTSTAMP:20260425T100150
CREATED:20211008T172302Z
LAST-MODIFIED:20211008T172302Z
UID:10004461-1634234400-1634238000@newsuat.fordham.edu
SUMMARY:Graduate School Open House
DESCRIPTION:Are you thinking about graduate or professional school? Join us for a virtual open house from 6 p.m. to 7 p.m. on Thursday\, October 14\, when you’ll have the opportunity to meet representatives from Fordham’s seven graduate and professional schools and learn about our 150 programs\, the application process\, financial aid\, and more. \nFollowing introductions and a brief panel discussion\, attendees can join up to two breakout sessions to learn more about our graduate schools\, including: \n\nGabelli School of Business\nGraduate School of Arts and Sciences\nGraduate School of Education\nGraduate School of Religion and Religious Education\nGraduate School of Social Service\nSchool of Law\nSchool of Professional and Continuing Studies\n\nFordham University offers a global graduate education in the heart of New York City. The Jesuit tradition of continually seeking knowledge and wisdom—and applying that to the greatest challenges of our time—is at the root of a Fordham education. \nOur master’s\, doctoral\, and certificate programs are marked by a strong focus on research\, mentorship by respected faculty\, and curricula that reflect the growth of new industries and current challenges facing the global community. \nWe hope you’ll join us to learn more about becoming part of a community of people committed to being agents of change. Please register to receive the Zoom link.
URL:https://newsuat.fordham.edu/event/graduate-school-open-house/
LOCATION:Virtual
CATEGORIES:Networking and Career
ORGANIZER;CN="Stephen McGowan":MAILTO:stmcgowan@fordham.edu
END:VEVENT
BEGIN:VEVENT
DTSTART;TZID=America/New_York:20211020T100000
DTEND;TZID=America/New_York:20211020T150000
DTSTAMP:20260425T100150
CREATED:20210903T153012Z
LAST-MODIFIED:20210903T153012Z
UID:10004402-1634724000-1634742000@newsuat.fordham.edu
SUMMARY:2021 Fordham Women's Summit: Philanthropy | Empowerment | Change
DESCRIPTION:The Fordham Women’s Summit is a unique opportunity for Fordham alumnae\, faculty\, and friends to discuss and celebrate their achievements as leaders\, activists\, and philanthropists\, as well as attend professional and personal development sessions. \nThis year’s summit centers around the importance of compassionate and collaborative leadership. The panel discussions will examine how women can cultivate these skills to thrive in a transformed world and help their workplaces\, families\, and communities rebuild and renew through philanthropic endeavors and beyond. \nA Virtual Experience\nGiven the ongoing effects of COVID-19\, we are hosting the summit in a virtual setting for another year. We are excited for the opportunity to once again engage hundreds of members of the Fordham community from all over the world.
URL:https://newsuat.fordham.edu/event/2021-fordham-womens-summit-philanthropy-empowerment-change/
LOCATION:Virtual
CATEGORIES:Conferences and Symposia,Lectures,Networking and Career,Social
ATTACH;FMTTYPE=image/png:https://newsuat.fordham.edu/wp-content/uploads/2021/09/Women_s_Summit_Logo___SM.png
END:VEVENT
BEGIN:VEVENT
DTSTART;TZID=America/New_York:20211021T120000
DTEND;TZID=America/New_York:20211021T130000
DTSTAMP:20260425T100150
CREATED:20210924T151948Z
LAST-MODIFIED:20210924T151948Z
UID:10004446-1634817600-1634821200@newsuat.fordham.edu
SUMMARY:A Bronx Tale: Building a Career in the Credit Markets\, Fireside Chat with Bob O’Shea\, Moderated by Michael Gatto
DESCRIPTION:Bob O’Shea was the quintessential Fordham student. A scrappy kid from New Jersey\, his grandmother worked as a maid at the Waldorf Astoria in midtown Manhattan\, his father was a New York City cop\, and he himself was accepted to Fordham on a track and field scholarship. O’Shea’s success on Wall Street is the epitome of the American dream. Michael Gatto\, an adjunct professor at Fordham\, will be interviewing O’Shea about his meteoric rise on Wall Street. O’Shea was offered partnership at Goldman Sachs at age 29\, making him the second-youngest partner in the firm’s history. Then\, as a second act\, O’Shea co-founded Silver Point Capital\, a credit and special situations hedge fund\, in 2002. He subsequently grew the firm from $120 million in assets under management to $15 billion. \nProfessor Gatto will ask O’Shea to speak about several topics\, including his career and the things that made him so successful\, his views of the current credit markets\, and his advice for students and young professionals on how to build a successful career in credit. \nAgenda\n12 p.m.: Welcome Remarks: Donna Rapaccioli\, dean\, Gabelli School of Business \n12:05 p.m.: Speaker Introductions: Father Joseph M. McShane\, S.J. \n12:10 p.m.: Discussion: Bob O’Shea and Michael Gatto \n12:45 p.m.: Audience Q&A \n1 p.m.: Closing Remarks: Donna Rapaccioli \nAbout the Speakers\nO’Shea is co-founder and chairman of Silver Point Capital\, a private investment firm\, founded in 2002 and focused on credit and special situation investing throughout credit cycles. O’Shea was co-CEO at the firm from 2002 until 2011 at which time he became chairman. Today\, Silver Point manages more than $15 billion of assets under management across hedge fund\, private equity\, and direct lending strategies. Headquartered in Greenwich\, Connecticut\, the firm has approximately 180 employees\, including more than 60 investment professionals. \nPrior to founding Silver Point\, O’Shea worked at Goldman Sachs for 10 years. He joined Goldman in 1990 to found and build the firm’s global bank loan business. During his tenure at Goldman Sachs\, in addition to building the global bank loan business\, he also became the global head of the high yield business unit\, leading the firm’s high-yield bond and bank loan underwriting\, trading\, sales\, capital markets and research\, and the collateralized debt obligation (CDO) business. O’Shea was a member of Goldman’s risk committee\, which was responsible for managing the firm’s global risk exposure. He was also on the board of Goldman Sachs international bank and senior traders committee. He was elected general partner in 1994. Prior to working at Goldman Sachs\, he worked at Bear Stearns in the high yield department and Security Pacific Bank in the Merchant Banking Group. O’Shea graduated from Fordham University with a B.S. in finance. \nGatto was one of the first employees at Silver Point Capital\, a credit-focused hedge fund. After joining the firm in April 2002\, he became the first non-founding partner in January 2003. He has helped grow the business from $120 million of assets under management in 2002 to approximately $15 billion currently. Today\, he is the head of the firm’s private side businesses. Prior to joining Silver Point\, Gatto worked at Goldman Sachs as a senior member within the special situations investing business. \nGatto has served on numerous boards\, which have included specialty retailer Party City and New Cotai Holdings (a Macau gaming company)\, and he was chairman of the board of Quinn Industries\, an Irish Industrial company. Outside of Silver Point\, Gatto is an adjunct professor at Columbia Business School and Fordham University’s Gabelli School of Business\, where he teaches courses on credit analysis\, and distressed value and special situation investing. Gatto received an M.B.A. from Columbia Business School and a B.A. in economics from Cornell University. \nThis event is co-sponsored with the CFA Society New York\, the Gabelli Center for Global Security Analysis\, and the Museum of American Finance. \nAll press and recordings are strictly prohibited.
URL:https://newsuat.fordham.edu/event/centennial-speaker-series-building-a-career-in-the-credit-markets-with-bob-oshea-and-michael-gatto-of-silver-point-capital/
LOCATION:Virtual
CATEGORIES:Lectures,Networking and Career
ATTACH;FMTTYPE=image/jpeg:https://newsuat.fordham.edu/wp-content/uploads/2021/09/21-1499-OShea_Gatto.jpeg
ORGANIZER;CN="Gabelli School of Business":MAILTO:gsbevents@fordham.edu
END:VEVENT
BEGIN:VEVENT
DTSTART;TZID=America/New_York:20211021T184500
DTEND;TZID=America/New_York:20211021T203000
DTSTAMP:20260425T100150
CREATED:20210907T155400Z
LAST-MODIFIED:20210907T155400Z
UID:10004404-1634841900-1634848200@newsuat.fordham.edu
SUMMARY:Fall 2021 Executive Leadership Series
DESCRIPTION:Join the Fordham University President’s Council\, fellow young alumni\, and current students for an exclusive evening of roundtable discussion and collaboration. Discussions will cover a variety of disciplines and focus on topics critical to both career and life success. \nThe President’s Council is comprised of some of Fordham’s most accomplished alumni. A list of the members who will be in attendance will be posted closer to the event. \nThe event will conclude with an open networking session\, allowing young alumni the opportunity to spend additional time interacting with mentors. Admission includes heavy hors d’oeuvres and an open bar. Take advantage of this exclusive\, professional development opportunity.
URL:https://newsuat.fordham.edu/event/fall-2021-executive-leadership-series/
LOCATION:12th-Floor Lounge\, Corrigan Conference Center\, Lowenstein Center\, Lincoln Center Campus\, 113 W. 60th St.\, New York\, NY\, 10023\, United States
CATEGORIES:Networking and Career
ATTACH;FMTTYPE=image/png:https://newsuat.fordham.edu/wp-content/uploads/2021/09/Alumni-Calendar-Image-Template-2.png
ORGANIZER;CN="Matt Burns":MAILTO:mburns2@fordham.edu
GEO:40.7710994;-73.9852715
X-APPLE-STRUCTURED-LOCATION;VALUE=URI;X-ADDRESS=12th-Floor Lounge Corrigan Conference Center Lowenstein Center Lincoln Center Campus 113 W. 60th St. New York NY 10023 United States;X-APPLE-RADIUS=500;X-TITLE=Lincoln Center Campus\, 113 W. 60th St.:geo:-73.9852715,40.7710994
END:VEVENT
BEGIN:VEVENT
DTSTART;TZID=America/New_York:20211028T130000
DTEND;TZID=America/New_York:20211028T160000
DTSTAMP:20260425T100150
CREATED:20210916T181101Z
LAST-MODIFIED:20210916T181101Z
UID:10004424-1635426000-1635436800@newsuat.fordham.edu
SUMMARY:GSS Continuing Education: Moral Distress: What It Is and How to Respond
DESCRIPTION:The concept of moral distress refers to a clinical situation in which the patient is perceived to be “suffering” and the clinician knows what they feel to be the best course of action\, but that course conflicts with what is best for the organization\, other providers\, other patients\, the family\, or society as a whole. Moral distress can occur when the professional feels a sense of heightened moral responsibility and also a perception of powerlessness. \nWhile moral distress was first recognized among nurses\, we now know that moral distress affects physicians\, pharmacists\, social workers\, chaplains\, psychologists\, and other health care providers. This class covers the experience of moral distress\, its impact on clinicians of multiple disciplines\, and the specific impact of moral distress among palliative care teams. Strategies for recognizing and dealing with the experience of moral distress on individuals\, teams\, and within health systems will be considered. \nCompletion of this class will result in the receipt of three (3) continuing education hours.
URL:https://newsuat.fordham.edu/event/gss-continuing-education-moral-distress-what-it-is-and-how-to-respond/
LOCATION:Zoom
CATEGORIES:Networking and Career
END:VEVENT
BEGIN:VEVENT
DTSTART;TZID=America/New_York:20211028T180000
DTEND;TZID=America/New_York:20211028T200000
DTSTAMP:20260425T100150
CREATED:20210916T181217Z
LAST-MODIFIED:20210916T181217Z
UID:10004422-1635444000-1635451200@newsuat.fordham.edu
SUMMARY:Alumni Chapter of Philadelphia: Welcome to the Neighborhood
DESCRIPTION:Calling all recent graduates! Have you recently graduated from Fordham or just moved to the area? Join the Fordham Alumni Chapter of Philadelphia as we welcome new alumni to the neighborhood at Tir Na Nog. Whether you are looking to network or just make some friendly Fordham connections in Philly\, we hope you’ll join us for a fun evening with fellow Rams! \nAll Fordham alumni\, parents\, and friends are welcome to attend the event. Attendees will receive one complimentary drink.
URL:https://newsuat.fordham.edu/event/alumni-chapter-of-philadelphia-welcome-to-the-neighborhood/
LOCATION:Tir Na Nog\, 1600 Arch Street\, Philadelphia\, PA\, 19103\, United States
CATEGORIES:Networking and Career,Receptions,Social
ORGANIZER;CN="Alumni Chapter of Philadelphia":MAILTO:ryanhultman@gmail.com
END:VEVENT
END:VCALENDAR