BEGIN:VCALENDAR
VERSION:2.0
PRODID:-//Fordham Now - ECPv6.15.20//NONSGML v1.0//EN
CALSCALE:GREGORIAN
METHOD:PUBLISH
X-ORIGINAL-URL:https://newsuat.fordham.edu
X-WR-CALDESC:Events for Fordham Now
REFRESH-INTERVAL;VALUE=DURATION:PT1H
X-Robots-Tag:noindex
X-PUBLISHED-TTL:PT1H
BEGIN:VTIMEZONE
TZID:America/New_York
BEGIN:DAYLIGHT
TZOFFSETFROM:-0500
TZOFFSETTO:-0400
TZNAME:EDT
DTSTART:20200308T070000
END:DAYLIGHT
BEGIN:STANDARD
TZOFFSETFROM:-0400
TZOFFSETTO:-0500
TZNAME:EST
DTSTART:20201101T060000
END:STANDARD
BEGIN:DAYLIGHT
TZOFFSETFROM:-0500
TZOFFSETTO:-0400
TZNAME:EDT
DTSTART:20210314T070000
END:DAYLIGHT
BEGIN:STANDARD
TZOFFSETFROM:-0400
TZOFFSETTO:-0500
TZNAME:EST
DTSTART:20211107T060000
END:STANDARD
BEGIN:DAYLIGHT
TZOFFSETFROM:-0500
TZOFFSETTO:-0400
TZNAME:EDT
DTSTART:20220313T070000
END:DAYLIGHT
BEGIN:STANDARD
TZOFFSETFROM:-0400
TZOFFSETTO:-0500
TZNAME:EST
DTSTART:20221106T060000
END:STANDARD
END:VTIMEZONE
BEGIN:VEVENT
DTSTART;TZID=America/New_York:20210202T180000
DTEND;TZID=America/New_York:20210202T203000
DTSTAMP:20260425T230406
CREATED:20210111T214230Z
LAST-MODIFIED:20210111T214230Z
UID:10004163-1612288800-1612297800@newsuat.fordham.edu
SUMMARY:Continuing Education: Getting Past Indecision - Skills to Support Patients' Decision Making
DESCRIPTION:This class focuses on communication skills supporting patients’ decision-making. Instructor Jennifer Halpern\, Ph.D.\, LCSW\, APHSW-C\, will explore how their decision-making may be hindered in the real-life\, stressful settings with insufficient information that often characterize palliative care situations. We will also consider how culture may influence patients’ participation in healthcare decisions. Taking these influences into account will improve our navigation of goals-of-care conversations and family meetings. Knowledgeable application of communication skills may also help patients and physicians avoid conflict and misunderstandings. \nCompletion of this class will result in the receipt of 2.5 continuing education hours. \nAbout the Instructor\nJennifer Halpern\, Ph.D.\, LMSW\, APHSW-C\, is a senior medical and certified palliative social worker based at the Oncology Support Program (OSP) of the Westchester Medical Center Network/Health Alliance of the Hudson Valley. Halpern supports both inpatients and outpatients. She is the psychosocial coordinator for the hospital’s Cancer Committee and is the chair of the Ethics Committee. Recently\, Halpern has coordinated and directed the study guide for the APHSW certification exam as the Social Work Hospice & Palliative Care Network’s (SWHPN) educational consultant. Halpern received her doctorate in social psychology/organizational behavior from University of California\, Berkeley. As an assistant professor at Cornell University\, she taught both undergraduates and professionals. \nHalpern’s publications focus on communication\, negotiation\, and decision-making. She authored two chapters in—and co-edited—Debating Rationality: Nonrational Aspects of Organizational Decision Making (Frank W. Pierce Memorial Lectureship and Conference Series\, ILR Press). She has volunteered\, been a social work intern for\, and provided business consulting services for Hospicare of Tompkins County. A move to the Hudson Valley led to her current position with the OSP\, a community-oriented program that just celebrated its 25th anniversary.
URL:https://newsuat.fordham.edu/event/continuing-education-getting-past-indecision-skills-to-support-patients-decision-making/
LOCATION:Zoom
CATEGORIES:Lectures,Networking and Career
END:VEVENT
BEGIN:VEVENT
DTSTART;TZID=America/New_York:20210222T120000
DTEND;TZID=America/New_York:20210222T130000
DTSTAMP:20260425T230406
CREATED:20210216T164150Z
LAST-MODIFIED:20210216T164150Z
UID:10004204-1613995200-1613998800@newsuat.fordham.edu
SUMMARY:February Fellowships Week: Plan Your Future
DESCRIPTION:In this roundtable with Rebecca Stark-Gendrano\, dean\, Fordham College at Lincoln Center\, Holly Young\, Office of Career Services\, and Anna Beskin\, Office of Prestigious Awards\, we will discuss ways of searching for opportunities\, navigating remote interviews and networking\, and possibilities available to students in the COVID-19 era. This session is useful for students interested in applying for jobs\, internships\, and/or pursuing external awards.
URL:https://newsuat.fordham.edu/event/february-fellowships-week-plan-your-future/
LOCATION:Zoom
CATEGORIES:Lectures,Networking and Career
ORGANIZER;CN="Dr. Anna Beskin":MAILTO:beskin@fordham.edu
END:VEVENT
BEGIN:VEVENT
DTSTART;TZID=America/New_York:20210224T170000
DTEND;TZID=America/New_York:20210224T181500
DTSTAMP:20260425T230406
CREATED:20210127T143222Z
LAST-MODIFIED:20210127T143222Z
UID:10004179-1614186000-1614190500@newsuat.fordham.edu
SUMMARY:Alumni Chapter of Washington D.C.: Virtual Panel with Jack Potter\, President and CEO of the MWAA
DESCRIPTION:Join us for a very special virtual event with Jack Potter\, FCRH ’77\, president and CEO of the Metropolitan Washington Airports Authority\, former Postmaster General\, and a proud Fordham alumnus. \nPotter\, in conversation with Chris Bruno\, FCRH ’06\, director of economic development for Fairfax\, Virginia\, will discuss what led him to his career\, how Fordham impacted those decisions\, and travel in the age of COVID-19. \nWe encourage you to come prepared with questions for the live Q&A!
URL:https://newsuat.fordham.edu/event/alumni-chapter-of-washington-d-c-virtual-panel-with-jack-potter-president-and-ceo-of-the-mwaa/
LOCATION:Zoom
CATEGORIES:Networking and Career,Receptions,Social
ORGANIZER;CN="Alumni Chapter of Washington%2C D.C.":MAILTO:fordham.club.dc@gmail.com
END:VEVENT
BEGIN:VEVENT
DTSTART;TZID=America/New_York:20210226T120000
DTEND;TZID=America/New_York:20210226T130000
DTSTAMP:20260425T230406
CREATED:20210216T164915Z
LAST-MODIFIED:20210216T164915Z
UID:10004208-1614340800-1614344400@newsuat.fordham.edu
SUMMARY:February Fellowships Week: Benefits of Keeping a Work-Journal
DESCRIPTION:Have you ever struggled with talking about yourself in application essays? In this talk\, Alex Finn-Atkins (Office of Prestigious Awards; Ph.D. candidate\, English) will discuss how regular journaling can help you to document your personal and professional growth and how maintaining this practice can aid in the process of applying to prestigious fellowships and awards. This session will be useful to both undergraduate and graduate students interested in taking their preparation for professional opportunities to the next level.
URL:https://newsuat.fordham.edu/event/february-fellowships-week-benefits-of-keeping-a-work-journal/
LOCATION:Zoom
CATEGORIES:Lectures,Networking and Career
ORGANIZER;CN="Dr. Anna Beskin":MAILTO:beskin@fordham.edu
END:VEVENT
END:VCALENDAR