BEGIN:VCALENDAR
VERSION:2.0
PRODID:-//Fordham Now - ECPv6.15.20//NONSGML v1.0//EN
CALSCALE:GREGORIAN
METHOD:PUBLISH
X-ORIGINAL-URL:https://newsuat.fordham.edu
X-WR-CALDESC:Events for Fordham Now
REFRESH-INTERVAL;VALUE=DURATION:PT1H
X-Robots-Tag:noindex
X-PUBLISHED-TTL:PT1H
BEGIN:VTIMEZONE
TZID:America/New_York
BEGIN:DAYLIGHT
TZOFFSETFROM:-0500
TZOFFSETTO:-0400
TZNAME:EDT
DTSTART:20220313T070000
END:DAYLIGHT
BEGIN:STANDARD
TZOFFSETFROM:-0400
TZOFFSETTO:-0500
TZNAME:EST
DTSTART:20221106T060000
END:STANDARD
BEGIN:DAYLIGHT
TZOFFSETFROM:-0500
TZOFFSETTO:-0400
TZNAME:EDT
DTSTART:20230312T070000
END:DAYLIGHT
BEGIN:STANDARD
TZOFFSETFROM:-0400
TZOFFSETTO:-0500
TZNAME:EST
DTSTART:20231105T060000
END:STANDARD
BEGIN:DAYLIGHT
TZOFFSETFROM:-0500
TZOFFSETTO:-0400
TZNAME:EDT
DTSTART:20240310T070000
END:DAYLIGHT
BEGIN:STANDARD
TZOFFSETFROM:-0400
TZOFFSETTO:-0500
TZNAME:EST
DTSTART:20241103T060000
END:STANDARD
END:VTIMEZONE
BEGIN:VTIMEZONE
TZID:America/Los_Angeles
BEGIN:DAYLIGHT
TZOFFSETFROM:-0800
TZOFFSETTO:-0700
TZNAME:PDT
DTSTART:20220313T100000
END:DAYLIGHT
BEGIN:STANDARD
TZOFFSETFROM:-0700
TZOFFSETTO:-0800
TZNAME:PST
DTSTART:20221106T090000
END:STANDARD
BEGIN:DAYLIGHT
TZOFFSETFROM:-0800
TZOFFSETTO:-0700
TZNAME:PDT
DTSTART:20230312T100000
END:DAYLIGHT
BEGIN:STANDARD
TZOFFSETFROM:-0700
TZOFFSETTO:-0800
TZNAME:PST
DTSTART:20231105T090000
END:STANDARD
BEGIN:DAYLIGHT
TZOFFSETFROM:-0800
TZOFFSETTO:-0700
TZNAME:PDT
DTSTART:20240310T100000
END:DAYLIGHT
BEGIN:STANDARD
TZOFFSETFROM:-0700
TZOFFSETTO:-0800
TZNAME:PST
DTSTART:20241103T090000
END:STANDARD
END:VTIMEZONE
BEGIN:VEVENT
DTSTART;TZID=America/New_York:20230907T170000
DTEND;TZID=America/New_York:20230907T190000
DTSTAMP:20260419T165529
CREATED:20230818T165014Z
LAST-MODIFIED:20230818T165014Z
UID:10005162-1694106000-1694113200@newsuat.fordham.edu
SUMMARY:Financial Issues Forum Presents Leon Cooperman in Conversation with Mario Gabelli
DESCRIPTION:Join us for a fireside chat with Leon Cooperman\, founder of Omega Family Office\, and Mario Gabelli\, a 1965 graduate of Fordham and the chairman and CEO of GAMCO Investors. \nThe pair will discuss Cooperman’s recently published memoir\, From the Bronx to Wall Street: My Fifty Years in Finance and Philanthropy. The discussion will be moderated by James Russell Kelly\, director of the Gabelli Center for Global Security Analysis. \nAll attendees will receive a free copy of Cooperman’s book\, which the author will sign during a reception following the chat. \nPlease note: Guest check-in starts at 4:15 p.m.
URL:https://newsuat.fordham.edu/event/financial-issues-forum-leon-cooperman-on-from-the-bronx-to-wall-street-with-mario-gabelli/
LOCATION:McNally Amphitheatre\, 140 W. 62nd St.\, New York\, NY\, 10023\, United States
CATEGORIES:Lectures
ORGANIZER;CN="Gabelli Center for Global Security Analysis":MAILTO:gabellicenter@fordham.edu
GEO:40.7713958;-73.9844894
X-APPLE-STRUCTURED-LOCATION;VALUE=URI;X-ADDRESS=McNally Amphitheatre 140 W. 62nd St. New York NY 10023 United States;X-APPLE-RADIUS=500;X-TITLE=140 W. 62nd St.:geo:-73.9844894,40.7713958
END:VEVENT
BEGIN:VEVENT
DTSTART;TZID=America/New_York:20230913T130000
DTEND;TZID=America/New_York:20230913T140000
DTSTAMP:20260419T165529
CREATED:20230912T153603Z
LAST-MODIFIED:20230912T153603Z
UID:10005208-1694610000-1694613600@newsuat.fordham.edu
SUMMARY:Council on Foreign Relations Academic Conference Call
DESCRIPTION:Join us for a Council on Foreign Relations academic conference call with Nirupama Menon Rao\, focusing on “India and Great-Power Rivalry.” \nAbout the Speaker\nNirupama Menon Rao is a retired Indian diplomat\, foreign secretary\, and ambassador. During her four-decade-long diplomatic career\, she held several important assignments. She was India’s first woman spokesperson in the Ministry of External Affairs\, New Delhi; the first woman high commissioner from her country to Sri Lanka; and the first Indian woman ambassador to the People’s Republic of China. Ambassador Rao holds an honorary doctor of letters degree from Pondicherry University in India.
URL:https://newsuat.fordham.edu/event/council-on-foreign-relations-academic-conference-call-3/
LOCATION:Dealy Hall\, Room E-517\, 441 E. Fordham Road\, Bronx\, 10458\, United States
CATEGORIES:Lectures
ORGANIZER;CN="Fordham IPED":MAILTO:iped@fordham.edu
END:VEVENT
BEGIN:VEVENT
DTSTART;TZID=America/New_York:20230914T160000
DTEND;TZID=America/New_York:20230914T170000
DTSTAMP:20260419T165529
CREATED:20230908T170830Z
LAST-MODIFIED:20230908T170830Z
UID:10005202-1694707200-1694710800@newsuat.fordham.edu
SUMMARY:2023-2024 IPED Lecture Series: Summer Internships
DESCRIPTION:We are kicking off this year’s lecture series as we always do with the heroic tales of the second year students’ summer internships. Please come and learn about their adventures and what opportunities are available for students.
URL:https://newsuat.fordham.edu/event/2023-2024-iped-lecture-series-summer-internships/
LOCATION:Dealy E-530\, 441 East Fordham Road\, Bronx\, NY\, 10458\, United States
CATEGORIES:Lectures
ORGANIZER;CN="Fordham IPED":MAILTO:iped@fordham.edu
GEO:40.8612275;-73.8892354
X-APPLE-STRUCTURED-LOCATION;VALUE=URI;X-ADDRESS=Dealy E-530 441 East Fordham Road Bronx NY 10458 United States;X-APPLE-RADIUS=500;X-TITLE=441 East Fordham Road:geo:-73.8892354,40.8612275
END:VEVENT
BEGIN:VEVENT
DTSTART;TZID=America/New_York:20230918T183000
DTEND;TZID=America/New_York:20230918T203000
DTSTAMP:20260419T165529
CREATED:20230828T143047Z
LAST-MODIFIED:20230828T143047Z
UID:10005174-1695061800-1695069000@newsuat.fordham.edu
SUMMARY:GSS Book Chat: Invisible Child: Poverty Survival and Hope in an American City with Andrea Elliott
DESCRIPTION:Join us for a discussion and audience Q&A with Andrea Elliott\, winner of the 2022 Goddard Riverside Stephan Russo Book Prize for Social Justice\, for her book Invisible Child: Poverty\, Survival & Hope in an American City. \nAbout the Author: \nAndrea is a Pulitzer Prize-winning journalist who has documented the lives of poor Americans\, Muslim immigrants\, and other people on the margins of power. She is an investigative reporter for The New York Times and the author of Invisible Child\, which won the 2022 Pulitzer Prize in general nonfiction. She is also the recipient of the J. Anthony Lukas Book Prize\, a George Polk award\, an Overseas Press Club award\, and was awarded a 2007 Pulitzer Prize for feature writing.
URL:https://newsuat.fordham.edu/event/gss-book-chat-invisible-child-poverty-survival-and-hope-in-an-american-city-with-andrea-elliott/
LOCATION:12th-Floor Lounge\, Lowenstein\, 113 W 60th St\, New York\, NY\, 10023
CATEGORIES:Lectures
GEO:40.7707175;-73.9853904
X-APPLE-STRUCTURED-LOCATION;VALUE=URI;X-ADDRESS=12th-Floor Lounge Lowenstein 113 W 60th St New York NY 10023;X-APPLE-RADIUS=500;X-TITLE=113 W 60th St:geo:-73.9853904,40.7707175
END:VEVENT
BEGIN:VEVENT
DTSTART;TZID=America/New_York:20230919T173000
DTEND;TZID=America/New_York:20230919T193000
DTSTAMP:20260419T165529
CREATED:20230831T151012Z
LAST-MODIFIED:20230831T151012Z
UID:10005184-1695144600-1695151800@newsuat.fordham.edu
SUMMARY:Lecture: Dante Behind Bars—Not Made to Live Like Brutes
DESCRIPTION:Drawing on his experience facilitating Dante workshops in prisons in Italy\, Indonesia\, and the U.S.\, Ron Jenkins will discuss ways in which the divine comedy is viewed by incarcerated and formerly incarcerated readers who find compelling similarities between Dante’s journey out of hell and their own journeys out of prison.
URL:https://newsuat.fordham.edu/event/lecture-dante-behind-bars-not-made-to-live-like-brutes/
LOCATION:Butler Commons\, Duane Library\, 441 East Fordham Road \, Bronx\, NY\, 10458\, United States
CATEGORIES:Lectures
ORGANIZER;CN="The Curran Center for American Catholic Studies":MAILTO:cacs@fordham.edu
GEO:40.8612275;-73.8892354
X-APPLE-STRUCTURED-LOCATION;VALUE=URI;X-ADDRESS=Butler Commons Duane Library 441 East Fordham Road  Bronx NY 10458 United States;X-APPLE-RADIUS=500;X-TITLE=441 East Fordham Road:geo:-73.8892354,40.8612275
END:VEVENT
BEGIN:VEVENT
DTSTART;TZID=America/New_York:20230920T143000
DTEND;TZID=America/New_York:20230920T153000
DTSTAMP:20260419T165529
CREATED:20230915T144009Z
LAST-MODIFIED:20230915T144009Z
UID:10005214-1695220200-1695223800@newsuat.fordham.edu
SUMMARY:Physics & Engineering Physics Colloquium
DESCRIPTION:Join us for a presentation from Ben Coco\, a physics student in Fordham’s Department of Physics and Engineering Physics\, as he presents “Galactic Archaeology at Notre Dame” and “We are all star stuff\, but what about the stuff stars can’t make?” \nAll of the elements through iron can be formed in stars\, but what about the heavier elements? This is where galactic archaeology comes in\, the field of research on how the Milky Way formed. Globular clusters are regions of space that are densely filled with stars. The heavier elements are known as neutron capture elements and currently only have one confirmed source\, binary-neutron star mergers. However\, in a recently submitted paper to The Astrophysical Journal\, Evan Kirby found a relationship in globular cluster M92 that showed there has to be a second source of neutron capture elements. \nCoco’s research over the summer was in globular cluster M15 to investigate the origins of neutron capture elements to see if we would confirm this relationship or learn that globular cluster formation is unique to each globular cluster.
URL:https://newsuat.fordham.edu/event/physics-engineering-physics-colloquium-23/
LOCATION:Freeman 103\, 441 E. Fordham Road\, Bronx\, NY\, 10458\, United States
CATEGORIES:Lectures
ORGANIZER;CN="Dr. Stephen Holler":MAILTO:sholler@fordham.edu
GEO:40.8612275;-73.8892354
X-APPLE-STRUCTURED-LOCATION;VALUE=URI;X-ADDRESS=Freeman 103 441 E. Fordham Road Bronx NY 10458 United States;X-APPLE-RADIUS=500;X-TITLE=441 E. Fordham Road:geo:-73.8892354,40.8612275
END:VEVENT
BEGIN:VEVENT
DTSTART;TZID=America/Los_Angeles:20230920T190000
DTEND;TZID=America/Los_Angeles:20230920T210000
DTSTAMP:20260419T165529
CREATED:20230829T222832Z
LAST-MODIFIED:20230829T222832Z
UID:10005179-1695236400-1695243600@newsuat.fordham.edu
SUMMARY:Alumni Chapter of Northern California: Disorderly Men Book Talk with Author Edward Cahill
DESCRIPTION:Join Fordham alumni and friends as literary historian and Fordham University professor Edward Cahill kicks off the tour for his debut novel\, Disorderly Men. The book is a page-turner set in the gay subculture of pre-Stonewall\, Mad Men-era New York City\, and will be Fordham University Press’ first work of original fiction \nCahill will be in conversation with Lambda Award-winning author K.M. Soehnlein. Fabulosa is located in San Francisco’s historic Castro district and is the city’s premier LGBTQ+ bookstore.
URL:https://newsuat.fordham.edu/event/alumni-chapter-of-northern-california-disorderly-men-book-talk-with-author-edward-cahill/
LOCATION:Fabulosa Books\, 489 Castro Street\, San Francisco\, CA\, 94114\, United States
CATEGORIES:Cultural,Lectures,Social
END:VEVENT
BEGIN:VEVENT
DTSTART;TZID=America/New_York:20230921T120000
DTEND;TZID=America/New_York:20230921T130000
DTSTAMP:20260419T165529
CREATED:20230818T181945Z
LAST-MODIFIED:20230818T181945Z
UID:10005167-1695297600-1695301200@newsuat.fordham.edu
SUMMARY:Financial Issues Forum: Diana Henriques on Taming the Street
DESCRIPTION:Join us for a virtual program with award-winning financial journalist Diana Henriques on her latest book\, Taming the Street: The Old Guard\, the New Deal\, and FDR’s Fight to Regulate American Capitalism. Taming the Street describes how President Franklin D. Roosevelt battled to regulate Wall Street in the wake of the 1929 stock market crash and the ensuing Great Depression. \nAbout the Speaker\nDiana B. Henriques is the author of five previous books\, including the New York Times bestseller The Wizard of Lies: Bernie Madoff and the Death of Trust\, which was adapted as an HBO film starring Robert De Niro and was cited in the widely watched Netflix documentary series\, Madoff: The Monster of Wall Street. A staff writer for The New York Times from 1989 to 2012\, she is a George Polk Award winner and a Pulitzer Prize finalist and she has received Harvard’s Goldsmith Prize for Investigative Reporting\, among other honors. \nAdvance registration is required. Registered guests will receive the link prior to the program. The first 100 guests will receive an electronic copy of the book\, courtesy of the Fordham Gabelli Center for Global Security Analysis.
URL:https://newsuat.fordham.edu/event/financial-issues-forum-diana-henriques-on-taming-the-street/
LOCATION:Virtual
CATEGORIES:Lectures
ORGANIZER;CN="Gabelli Center for Global Security Analysis":MAILTO:gabellicenter@fordham.edu
END:VEVENT
BEGIN:VEVENT
DTSTART;TZID=America/New_York:20230926T180000
DTEND;TZID=America/New_York:20230926T193000
DTSTAMP:20260419T165529
CREATED:20230815T182426Z
LAST-MODIFIED:20230815T182426Z
UID:10005152-1695751200-1695756600@newsuat.fordham.edu
SUMMARY:An Integral Ethic of Solidarity: Cardinal Blase Cupich on the Enduring Legacy of Cardinal Joseph Bernardin
DESCRIPTION:Forty years after Cardinal Bernardin’s landmark speech at Fordham University in which he set out a “consistent ethic of life\,” his successor as Archbishop of Chicago continues to broaden the conversation first begun in 1983. \nThe timing of this talk could not be more propitious: Pope Francis has been promoting a “seamless garment” view of Catholic teaching throughout his decade-long pontificate\, arguing that all life is sacred and that Catholics cannot prioritize one issue at the expense of others. Moreover\, the Dobbs decision created a new landscape regarding abortion\, and the United States Conference of Catholic Bishops is set to debate an updated version of its guide for Catholic voters ahead of next year’s elections. \nIn this talk\, Cardinal Blase Cupich will amplify the vision of both the pope and Cardinal Bernardin\, setting it in the contemporary American context and pointing toward a path beyond the culture wars. \nCardinal Cupich was appointed the ninth Archbishop of Chicago by Pope Francis in 2014\, and the pope elevated him to the College of Cardinals in November 2016. \nDavid Gibson\, director of Fordham’s Center on Religion and Culture\, will moderate a discussion after the talk\, including questions from the audience.
URL:https://newsuat.fordham.edu/event/an-integral-ethic-of-solidarity-cardinal-blase-cupich-on-the-enduring-legacy-of-cardinal-joseph-bernardin/
LOCATION:McNally Amphitheatre\, 140 West 62nd Street\, New York\, NY\, 10023\, United States
CATEGORIES:Lectures,Spiritual and Religious Events
GEO:40.7713958;-73.9844894
X-APPLE-STRUCTURED-LOCATION;VALUE=URI;X-ADDRESS=McNally Amphitheatre 140 West 62nd Street New York NY 10023 United States;X-APPLE-RADIUS=500;X-TITLE=140 West 62nd Street:geo:-73.9844894,40.7713958
END:VEVENT
BEGIN:VEVENT
DTSTART;TZID=America/New_York:20230927T160000
DTEND;TZID=America/New_York:20230927T173000
DTSTAMP:20260419T165529
CREATED:20230908T201529Z
LAST-MODIFIED:20230908T201529Z
UID:10005203-1695830400-1695835800@newsuat.fordham.edu
SUMMARY:James C. McGroddy Award Panel Discussion
DESCRIPTION:Last spring\, the faculty of arts and sciences received a generous donation from James C. McGroddy to establish a new award recognizing leadership and innovation in pedagogy. Please join us for a panel discussion as we congratulate the James C. McGroddy Award recipients and listen to their thoughts on innovations in pedagogy and interdisciplinary collaboration. \nAward Recipients \n\nThe team of Joshua Schrier (professor and Bepler Chair\, Department of Chemistry)\nElizabeth Thrall (assistant professor\, Department of Chemistry)\nYijun Zhao (assistant professor\, Department of Computer and Information Sciences)\n\nHonorable Mentions: \n\nSamir Haddad (associate professor\, Department of Philosophy)\nStephen Holler (associate professor\, Department of Physics)\n\nQuestions can be directed to Stephanie Adomavicius\, director of communications and events for the faculty of arts and sciences\, at sadomavicius@fordham.edu.
URL:https://newsuat.fordham.edu/event/james-c-mcgroddy-award-panel-discussion/
LOCATION:Walsh Library\, O’Hare Special Collections Room\, Fordham University\, Rose Hill Campus\, 441 E. Fordham Rd.\, Bronx\, NY\, 10458\, United States
CATEGORIES:Lectures
GEO:40.8619545;-73.8855064
X-APPLE-STRUCTURED-LOCATION;VALUE=URI;X-ADDRESS=Walsh Library O’Hare Special Collections Room Fordham University Rose Hill Campus 441 E. Fordham Rd. Bronx NY 10458 United States;X-APPLE-RADIUS=500;X-TITLE=Fordham University\, Rose Hill Campus\, 441 E. Fordham Rd.:geo:-73.8855064,40.8619545
END:VEVENT
BEGIN:VEVENT
DTSTART;TZID=America/New_York:20230928T120000
DTEND;TZID=America/New_York:20230928T130000
DTSTAMP:20260419T165529
CREATED:20230818T184837Z
LAST-MODIFIED:20230818T184837Z
UID:10005169-1695902400-1695906000@newsuat.fordham.edu
SUMMARY:Financial Issues Forum: Joseph Calandro Jr. on 'The Credit Cycle and Corporate Strategy: Challenges and Solutions'
DESCRIPTION:Joe Calandro will profile the United States credit cycle and the challenges it poses\, and he will share his perspective on where we seem to be in the cycle today. He will show the prior credit cycle wave of progressively lower inflation and interest rates began in 1982—following a historic inflationary trend—and ended in the year 2020. Calandro’s analysis suggests that the current (as of mid-2023) credit cycle of waves of progressively higher inflation and interest rates will present strategic risks and opportunities that will need to be addressed. To help facilitate this\, he will provide practical suggestions that can be addressed by executives\, investors\, and employees both today and in the years to come. \nAbout the Speaker\nJoseph Calandro Jr. is a managing director of a global consulting firm with more than 35 years of broad industry\, consulting\, teaching\, and research experience in the United States and internationally\, focusing on strategy/mergers and acquisitions\, business intelligence/analytics\, and performance/risk management. He is also a fellow of the Gabelli Center for Global Security Analysis at Fordham University\, a contributing editor of Strategy & Leadership\, and a member of the nonprofit Progress Through Business. \nAdvance registration is required. Registered guests will receive the link prior to the program.
URL:https://newsuat.fordham.edu/event/financial-issues-forum-joseph-calandro-jr-on-the-credit-cycle-challenges-solutions/
LOCATION:Zoom
CATEGORIES:Lectures
ORGANIZER;CN="Gabelli Center for Global Security Analysis":MAILTO:gabellicenter@fordham.edu
END:VEVENT
BEGIN:VEVENT
DTSTART;TZID=America/New_York:20230928T160000
DTEND;TZID=America/New_York:20230928T170000
DTSTAMP:20260419T165529
CREATED:20230921T142717Z
LAST-MODIFIED:20230921T142717Z
UID:10003494-1695916800-1695920400@newsuat.fordham.edu
SUMMARY:2023-2024 IPED Event: International Political Economy and Development in the Era of Cybersecurity and AI
DESCRIPTION:Collins Obidiagha\, S.J.\, entered the Jesuit novitiate in Benin City in 2007\, spending two years as the network administrator for the community’s computer lab. He then earned a B.A.\, with honors\, in philosophy and humanities from the University of Zimbabwe in 2013. After attending the Cisco Networking Academy\, Father Obidiagha served as the IT administrator and head of the Information and Technology Communications Department at Jesuit Memorial College in Nigeria. He is currently a Cybersecurity master’s candidate at Fordham University.
URL:https://newsuat.fordham.edu/event/2023-2024-iped-event-international-political-economy-and-development-in-the-era-of-cybersecurity-and-ai/
LOCATION:Dealy E-530\, 441 East Fordham Road\, Bronx\, NY\, 10458\, United States
CATEGORIES:Lectures
ORGANIZER;CN="Fordham IPED":MAILTO:iped@fordham.edu
GEO:40.8612275;-73.8892354
X-APPLE-STRUCTURED-LOCATION;VALUE=URI;X-ADDRESS=Dealy E-530 441 East Fordham Road Bronx NY 10458 United States;X-APPLE-RADIUS=500;X-TITLE=441 East Fordham Road:geo:-73.8892354,40.8612275
END:VEVENT
BEGIN:VEVENT
DTSTART;TZID=America/New_York:20230929T090000
DTEND;TZID=America/New_York:20230929T103000
DTSTAMP:20260419T165529
CREATED:20230906T220746Z
LAST-MODIFIED:20230906T220746Z
UID:10005197-1695978000-1695983400@newsuat.fordham.edu
SUMMARY:Generative AI and the Future of Work
DESCRIPTION:Generative AI is taking the world by storm\, yet it remains unclear if we are ready for the paradigm shifts it will bring for the workplace and for those who currently rely on a human workforce. \nWhat will knowledge work look like in the age of generative AI? Will the creative talents required to write advertising copy\, the technical abilities used to develop a computer program\, or the organizational skills needed to summarize a collection of articles be delegated to these tools? Will screenwriters be assisted or replaced by ChatGPT\, and will the actors whom they write for be replaced by deep fakes? Will legal research and briefs be generated by ChatGPT? And what types of roles will generative AI tools play in audit functions? \nHow will knowledge workers use these tools to assist them? Will they be able to recognize the shortcomings of the decisions proposed by the AI systems? What are the ethical challenges that the generative AI environment poses\, and how will we mitigate the risks of algorithmic biases? \nDuring this panel\, experts from across industry and academia will provide their perspectives on the future of work in generative AI\, and the changes those of us in the academic world will have to make in our curricula and teaching methods to prepare students for this new environment. \nModerator \n\nJorge Martinez Navarrete\, lead\, Innovation Unit\, Office of Information and Communications Technology\, United Nations\n\nPanelists \n\nFredric Cibelli\, principal\, Technology Consulting\, Ernst & Young\nVasant Dhar\, Ph.D.\, professor of technology\, Operations and Statistics\, Leonard N. Stern School of Business\, New York University\nRajesh Rajappan\, senior vice president\, Digital Solutions BU\, Hitachi Vantara
URL:https://newsuat.fordham.edu/event/generative-ai-and-the-future-of-work/
LOCATION:McNally Amphitheatre\, 140 W. 62nd St.\, New York\, NY\, 10023\, United States
CATEGORIES:Lectures
GEO:40.7713958;-73.9844894
X-APPLE-STRUCTURED-LOCATION;VALUE=URI;X-ADDRESS=McNally Amphitheatre 140 W. 62nd St. New York NY 10023 United States;X-APPLE-RADIUS=500;X-TITLE=140 W. 62nd St.:geo:-73.9844894,40.7713958
END:VEVENT
END:VCALENDAR