BEGIN:VCALENDAR
VERSION:2.0
PRODID:-//Fordham Now - ECPv6.15.20//NONSGML v1.0//EN
CALSCALE:GREGORIAN
METHOD:PUBLISH
X-WR-CALNAME:Fordham Now
X-ORIGINAL-URL:https://newsuat.fordham.edu
X-WR-CALDESC:Events for Fordham Now
REFRESH-INTERVAL;VALUE=DURATION:PT1H
X-Robots-Tag:noindex
X-PUBLISHED-TTL:PT1H
BEGIN:VTIMEZONE
TZID:America/New_York
BEGIN:DAYLIGHT
TZOFFSETFROM:-0500
TZOFFSETTO:-0400
TZNAME:EDT
DTSTART:20220313T070000
END:DAYLIGHT
BEGIN:STANDARD
TZOFFSETFROM:-0400
TZOFFSETTO:-0500
TZNAME:EST
DTSTART:20221106T060000
END:STANDARD
BEGIN:DAYLIGHT
TZOFFSETFROM:-0500
TZOFFSETTO:-0400
TZNAME:EDT
DTSTART:20230312T070000
END:DAYLIGHT
BEGIN:STANDARD
TZOFFSETFROM:-0400
TZOFFSETTO:-0500
TZNAME:EST
DTSTART:20231105T060000
END:STANDARD
BEGIN:DAYLIGHT
TZOFFSETFROM:-0500
TZOFFSETTO:-0400
TZNAME:EDT
DTSTART:20240310T070000
END:DAYLIGHT
BEGIN:STANDARD
TZOFFSETFROM:-0400
TZOFFSETTO:-0500
TZNAME:EST
DTSTART:20241103T060000
END:STANDARD
END:VTIMEZONE
BEGIN:VEVENT
DTSTART;TZID=America/New_York:20230825T090000
DTEND;TZID=America/New_York:20230825T100000
DTSTAMP:20260419T184211
CREATED:20230818T175426Z
LAST-MODIFIED:20230818T175426Z
UID:10005164-1692954000-1692957600@newsuat.fordham.edu
SUMMARY:From Advocacy to Policymaking: Environmental Justice and the Cross-Bronx Expressway
DESCRIPTION:Join us for a crucial conversation highlighting the Capping the Cross-Bronx Expressway Campaign as part of our annual Urban Plunge pre-orientation program. Guided by Nilka Martell\, the visionary who led the Capping the Cross-Bronx movement\, this panel will explore the intersection of environmental justice and policymaking. \nThe panel features policy experts who will provide insightful context on the policymaking process\, as well as share their knowledge about health issues associated with the expressway. They will also delve into the efforts of Reimagine the Cross-Bronx in gathering community input\, shedding light on how public involvement can shape policy decisions\, and fostering a better future. \nAttend the discussion to immerse yourself in a thought-provoking dialogue as you engage with the pressing issues of environmental justice and the path from advocacy to policymaking.
URL:https://newsuat.fordham.edu/event/from-advocacy-to-policymaking-environmental-justice-and-the-cross-bronx-expressway/
LOCATION:Edwards Parade\, 441 East Fordham Road\, Bronx\, NY\, 10458\, United States
CATEGORIES:Lectures
ORGANIZER;CN="Adam Bermudedz":MAILTO:abermudez1@fordham.edu
GEO:40.8612275;-73.8892354
X-APPLE-STRUCTURED-LOCATION;VALUE=URI;X-ADDRESS=Edwards Parade 441 East Fordham Road Bronx NY 10458 United States;X-APPLE-RADIUS=500;X-TITLE=441 East Fordham Road:geo:-73.8892354,40.8612275
END:VEVENT
END:VCALENDAR