BEGIN:VCALENDAR
VERSION:2.0
PRODID:-//Fordham Now - ECPv6.15.20//NONSGML v1.0//EN
CALSCALE:GREGORIAN
METHOD:PUBLISH
X-WR-CALNAME:Fordham Now
X-ORIGINAL-URL:https://newsuat.fordham.edu
X-WR-CALDESC:Events for Fordham Now
REFRESH-INTERVAL;VALUE=DURATION:PT1H
X-Robots-Tag:noindex
X-PUBLISHED-TTL:PT1H
BEGIN:VTIMEZONE
TZID:America/New_York
BEGIN:DAYLIGHT
TZOFFSETFROM:-0500
TZOFFSETTO:-0400
TZNAME:EDT
DTSTART:20200308T070000
END:DAYLIGHT
BEGIN:STANDARD
TZOFFSETFROM:-0400
TZOFFSETTO:-0500
TZNAME:EST
DTSTART:20201101T060000
END:STANDARD
BEGIN:DAYLIGHT
TZOFFSETFROM:-0500
TZOFFSETTO:-0400
TZNAME:EDT
DTSTART:20210314T070000
END:DAYLIGHT
BEGIN:STANDARD
TZOFFSETFROM:-0400
TZOFFSETTO:-0500
TZNAME:EST
DTSTART:20211107T060000
END:STANDARD
BEGIN:DAYLIGHT
TZOFFSETFROM:-0500
TZOFFSETTO:-0400
TZNAME:EDT
DTSTART:20220313T070000
END:DAYLIGHT
BEGIN:STANDARD
TZOFFSETFROM:-0400
TZOFFSETTO:-0500
TZNAME:EST
DTSTART:20221106T060000
END:STANDARD
END:VTIMEZONE
BEGIN:VEVENT
DTSTART;TZID=America/New_York:20210714T120000
DTEND;TZID=America/New_York:20210714T130000
DTSTAMP:20260423T190543
CREATED:20210505T131444Z
LAST-MODIFIED:20210505T131444Z
UID:10004328-1626264000-1626267600@newsuat.fordham.edu
SUMMARY:Centennial Speaker Series: Zachary Karabell on Inside Money: Brown Brothers Harriman and the American Way of Power
DESCRIPTION:Conspiracy theories have always swirled around Brown Brothers Harriman\, and not without reason. Throughout the 19th century\, when America was convulsed by a devastating financial panic essentially every 20 years\, Brown Brothers quietly went from strength to strength\, propping up the U.S. financial system at crucial moments and catalyzing successive booms\, from the cotton trade and the steamship to the railroad\, while largely managing to avoid the unwelcome attention that plagued some of its competitors. By the turn of the 20th century\, Brown Brothers was unquestionably at the heart of what was meant by an “American Establishment.” As America’s reach extended beyond its shores\, Brown Brothers worked hand in glove with the State Department\, notably in Nicaragua in the early 20th century\, where the firm essentially took over the country’s economy. To the Brown family\, the virtue of their dealings was a given; their form of muscular Protestantism\, forged on the playing fields of Groton and Yale\, was the acme of civilization\, and it was their duty to import that civilization to the world. \nIn Inside Money\, acclaimed historian\, commentator\, and former financial executive Zachary Karabell offers the first full and frank look inside this institution against the backdrop of American history. Provided with complete access to the company’s archives\, as well as a thrilling understanding of the larger forces at play\, Karabell has created an X-ray of American power—financial\, political\, cultural—as it has evolved from the early 1800s to the present. Today\, unlike many of its competitors\, Brown Brothers Harriman remains a private partnership and a beacon of sustainable capitalism\, having forgone the heady speculative upsides of the past 30 years but also having avoided any role in the devastating downsides. The firm is no longer in the command capsule of the American economy\, but\, arguably\, that is to its credit. If its partners cleaved to any one adage over the generations\, it is that a relentless pursuit of more can destroy more than it creates. \nAbout the Speakers\nZachary Karabell was educated at Columbia\, Oxford\, and Harvard\, where he received his Ph.D. He is a prolific commentator\, both in print and on television\, and the author of a dozen previous books\, including The Last Campaign\, which won the Chicago Tribune’s Heartland Prize\, and The Leading Indicators. He is also a longtime investor\, former financial services executive\, and the founder of the Progress Network. \nCopies of Inside Money will be raffled off to attendees. \nThis event is co-sponsored with the CFA Society New York\, the Gabelli Center for Global Security Analysis\, and the Museum of American Finance.
URL:https://newsuat.fordham.edu/event/centennial-speaker-series-zachary-karabell-on-inside-money-brown-brothers-harriman-and-the-american-way-of-power/
LOCATION:Virtual
CATEGORIES:Lectures
ATTACH;FMTTYPE=image/jpeg:https://newsuat.fordham.edu/wp-content/uploads/2021/04/21-1499-dev-gab-webinar-series-emails-solo-karabell.jpeg
ORGANIZER;CN="Gabelli School of Business":MAILTO:gsbevents@fordham.edu
END:VEVENT
BEGIN:VEVENT
DTSTART;TZID=America/New_York:20210721T080000
DTEND;TZID=America/New_York:20210721T090000
DTSTAMP:20260423T190543
CREATED:20210722T140535Z
LAST-MODIFIED:20210722T140535Z
UID:10004377-1626854400-1626858000@newsuat.fordham.edu
SUMMARY:How Was the COVID-19 Vaccine Developed So Quickly?
DESCRIPTION:Under normal circumstances\, making a vaccine often takes more than a decade. So\, how were researchers and scientists able to create the COVID-19 vaccine in less than a year\, without compromising safety? Find out on July 21 as Fordham welcomes Helen Fletcher\, Ph.D.\, professor of immunology and associate dean of research at the London School of Hygiene and Tropical Medicine\, for a live chat about what we’ve learned from the development of the COVID-19 vaccine\, and how we can use these methods to accelerate the development of vaccines for other diseases. \nProfessor Fletcher will be joined by John Chelsom\, Ph.D.\, director of Fordham’s Applied Health Informatics master’s program\, offered at Fordham’s London campus this fall. \nFind out how scientists used data from around the world—received in real-time—to make decisions that are getting the world back on its feet\, and how this will propel scientific discovery in the future. \nAudience members will have the opportunity to pose questions.
URL:https://newsuat.fordham.edu/event/how-was-the-covid-19-vaccine-developed-so-quickly/
LOCATION:Virtual
CATEGORIES:Lectures
ORGANIZER;CN="Andie Marais":MAILTO:realestate@fordham.edu
END:VEVENT
END:VCALENDAR