BEGIN:VCALENDAR
VERSION:2.0
PRODID:-//Fordham Now - ECPv6.15.20//NONSGML v1.0//EN
CALSCALE:GREGORIAN
METHOD:PUBLISH
X-WR-CALNAME:Fordham Now
X-ORIGINAL-URL:https://newsuat.fordham.edu
X-WR-CALDESC:Events for Fordham Now
REFRESH-INTERVAL;VALUE=DURATION:PT1H
X-Robots-Tag:noindex
X-PUBLISHED-TTL:PT1H
BEGIN:VTIMEZONE
TZID:America/New_York
BEGIN:DAYLIGHT
TZOFFSETFROM:-0500
TZOFFSETTO:-0400
TZNAME:EDT
DTSTART:20180311T070000
END:DAYLIGHT
BEGIN:STANDARD
TZOFFSETFROM:-0400
TZOFFSETTO:-0500
TZNAME:EST
DTSTART:20181104T060000
END:STANDARD
BEGIN:DAYLIGHT
TZOFFSETFROM:-0500
TZOFFSETTO:-0400
TZNAME:EDT
DTSTART:20190310T070000
END:DAYLIGHT
BEGIN:STANDARD
TZOFFSETFROM:-0400
TZOFFSETTO:-0500
TZNAME:EST
DTSTART:20191103T060000
END:STANDARD
BEGIN:DAYLIGHT
TZOFFSETFROM:-0500
TZOFFSETTO:-0400
TZNAME:EDT
DTSTART:20200308T070000
END:DAYLIGHT
BEGIN:STANDARD
TZOFFSETFROM:-0400
TZOFFSETTO:-0500
TZNAME:EST
DTSTART:20201101T060000
END:STANDARD
END:VTIMEZONE
BEGIN:VEVENT
DTSTART;VALUE=DATE:20190722
DTEND;VALUE=DATE:20190726
DTSTAMP:20260425T142017
CREATED:20190628T174653Z
LAST-MODIFIED:20190628T174653Z
UID:10007109-1563753600-1564099199@newsuat.fordham.edu
SUMMARY:The International Conference on Cyber Security (ICCS) 2019
DESCRIPTION:Insider threats. International cyber prosecution. Protecting the critical infrastructure. Red team experience. Blockchain and distributed ledger technology. Cyber risks to the election system. International investments in a cyber world. Smartphones and attacks on microprocessors. Cloud security. These are just a few of the challenges that will be addressed at the eighth International Conference on Cyber Security (ICCS). \nHeld every 18 months\, ICCS 2019 marks the 10th year this forum for professionals\, practitioners\, and leaders convenes to improve the detection\, mitigation\, and prevention of emerging cyber threats\, including cyber attacks and cyber exploitations. The conference will sell out\, so register early! \n#ICCS2019\n#ICCSNY
URL:https://newsuat.fordham.edu/event/the-international-conference-on-cyber-security-iccs-2019/
LOCATION:Law School\, Second Floor\, 150 West 62nd Street\, New York\, NY\, 10023\, United States
CATEGORIES:Conferences and Symposia,Lectures,Networking and Career
ATTACH;FMTTYPE=image/jpeg:https://newsuat.fordham.edu/wp-content/uploads/2019/06/2019-06-28-1.jpg
END:VEVENT
END:VCALENDAR