BEGIN:VCALENDAR
VERSION:2.0
PRODID:-//Fordham Now - ECPv6.15.20//NONSGML v1.0//EN
CALSCALE:GREGORIAN
METHOD:PUBLISH
X-ORIGINAL-URL:https://newsuat.fordham.edu
X-WR-CALDESC:Events for Fordham Now
REFRESH-INTERVAL;VALUE=DURATION:PT1H
X-Robots-Tag:noindex
X-PUBLISHED-TTL:PT1H
BEGIN:VTIMEZONE
TZID:America/New_York
BEGIN:DAYLIGHT
TZOFFSETFROM:-0500
TZOFFSETTO:-0400
TZNAME:EDT
DTSTART:20220313T070000
END:DAYLIGHT
BEGIN:STANDARD
TZOFFSETFROM:-0400
TZOFFSETTO:-0500
TZNAME:EST
DTSTART:20221106T060000
END:STANDARD
BEGIN:DAYLIGHT
TZOFFSETFROM:-0500
TZOFFSETTO:-0400
TZNAME:EDT
DTSTART:20230312T070000
END:DAYLIGHT
BEGIN:STANDARD
TZOFFSETFROM:-0400
TZOFFSETTO:-0500
TZNAME:EST
DTSTART:20231105T060000
END:STANDARD
BEGIN:DAYLIGHT
TZOFFSETFROM:-0500
TZOFFSETTO:-0400
TZNAME:EDT
DTSTART:20240310T070000
END:DAYLIGHT
BEGIN:STANDARD
TZOFFSETFROM:-0400
TZOFFSETTO:-0500
TZNAME:EST
DTSTART:20241103T060000
END:STANDARD
END:VTIMEZONE
BEGIN:VEVENT
DTSTART;TZID=America/New_York:20230122T140000
DTEND;TZID=America/New_York:20230122T160000
DTSTAMP:20260420T012150
CREATED:20230113T153815Z
LAST-MODIFIED:20230113T153815Z
UID:10004938-1674396000-1674403200@newsuat.fordham.edu
SUMMARY:Tour of Walsh Family Library Exhibits: “Confronting Hate: Antisemitism\, Racism\, and the Resistance”  and “The Remnants of Jewish Life in the Bronx”
DESCRIPTION:Join us for a guided tour of the exhibits currently on view in the Walsh Family Library: “Confronting Hate: Antisemitism\, Racism\, and the Resistance\,” curated by Westenley Alcenat\, Lesley East FCRH ’24\, and Magda Teter; and “The Remnants of Jewish Life in The Bronx\,” curated by Reyna Stovall FCLC’25\, which accompanies an exhibit of photographs by Julian Voloj curated by Ray Felix. \nA light lunch will be served. Please register yourself and all guests. Visitors who are not affiliated with Fordham will have to show proof of vaccination to enter campus. \nPlease email jewishstudies@fordham.edu if you have any questions.
URL:https://newsuat.fordham.edu/event/tour-of-walsh-family-library-exhibits-confronting-hate-antisemitism-racism-and-the-resistance-and-the-remnants-of-jewish-life-in-the-bronx/
LOCATION:O’Hare Special Collections Room\, Walsh Library\, 441 East Fordham Road\, Bronx\, NY\, 10458\, United States
CATEGORIES:Cultural,Lectures
ORGANIZER;CN="Magda Teter":MAILTO:jewishstudies@fordham.edu
GEO:40.8612275;-73.8892354
X-APPLE-STRUCTURED-LOCATION;VALUE=URI;X-ADDRESS=O’Hare Special Collections Room Walsh Library 441 East Fordham Road Bronx NY 10458 United States;X-APPLE-RADIUS=500;X-TITLE=441 East Fordham Road:geo:-73.8892354,40.8612275
END:VEVENT
BEGIN:VEVENT
DTSTART;TZID=America/New_York:20230126T173000
DTEND;TZID=America/New_York:20230126T200000
DTSTAMP:20260420T012150
CREATED:20221208T032138Z
LAST-MODIFIED:20221208T032138Z
UID:10004900-1674754200-1674763200@newsuat.fordham.edu
SUMMARY:Remembering: Talking About the Holocaust in the 21st Century
DESCRIPTION:Fordham University and the Under-Told Stories Project of the University of St. Thomas in Minnesota\, in partnership with the Museum of Jewish Heritage in New York\, invite you to a special observance of International Holocaust Remembrance Day. \nRecent surveys have shown steadily diminishing public awareness of the Holocaust amid a rise in disinformation and revisionism. This panel of leading thinkers will discuss how media\, educators\, religious institutions\, and governments can fight Holocaust denial and deepen understanding of the genocide. What is the role of allies? \nThe discussion will begin with a screening of Fred de Sam Lazaro’s 2022 PBS NewsHour segment on the children’s book Nicky & Vera: A Quiet Hero of the Holocaust and the Children He Rescued. Written and illustrated by Peter Sís\, it tells the story of Nicholas Winton\, the “British Schindler\,” who helped 669 children escape Czechoslovakia just before Nazi occupation. \nThe panelists will delve into the conditions that allowed the ripening and spread of antisemitism in the years leading up to the Holocaust\, and they will bring home the relevance of those circumstances today. \nModerators \n\nFred de Sam Lazaro\, correspondent/director\, The Under-Told Stories Project\nPeter Osnos\, founder\, PublicAffairs Books\n\nPanelists \n\nJudy Woodruff\, anchor\, PBS NewsHour\nMagda Teter\, Shvidler Chair in Judaic Studies\, Fordham University\nJames Loeffler\, Jay Berkowitz Professor of Jewish History\, University of Virginia\nLinda Kinstler\, author\, Come to This Court and Cry: How the Holocaust Ends\n\nSpecial Guest: Eva Paddock\, Educator and One of “Winton’s Children” Rescued from Czechoslovakia on the Eve of World War II \nA reception will follow the discussion at 7 p.m.
URL:https://newsuat.fordham.edu/event/remembering-talking-about-the-holocaust-in-the-21st-century/
LOCATION:McNally Amphitheatre\, 140 West 62nd Street\, New York\, NY\, 10023\, United States
CATEGORIES:Cultural,Lectures,Receptions
GEO:40.7713958;-73.9844894
X-APPLE-STRUCTURED-LOCATION;VALUE=URI;X-ADDRESS=McNally Amphitheatre 140 West 62nd Street New York NY 10023 United States;X-APPLE-RADIUS=500;X-TITLE=140 West 62nd Street:geo:-73.9844894,40.7713958
END:VEVENT
END:VCALENDAR