BEGIN:VCALENDAR
VERSION:2.0
PRODID:-//Fordham Now - ECPv6.15.20//NONSGML v1.0//EN
CALSCALE:GREGORIAN
METHOD:PUBLISH
X-ORIGINAL-URL:https://newsuat.fordham.edu
X-WR-CALDESC:Events for Fordham Now
REFRESH-INTERVAL;VALUE=DURATION:PT1H
X-Robots-Tag:noindex
X-PUBLISHED-TTL:PT1H
BEGIN:VTIMEZONE
TZID:America/New_York
BEGIN:DAYLIGHT
TZOFFSETFROM:-0500
TZOFFSETTO:-0400
TZNAME:EDT
DTSTART:20210314T070000
END:DAYLIGHT
BEGIN:STANDARD
TZOFFSETFROM:-0400
TZOFFSETTO:-0500
TZNAME:EST
DTSTART:20211107T060000
END:STANDARD
BEGIN:DAYLIGHT
TZOFFSETFROM:-0500
TZOFFSETTO:-0400
TZNAME:EDT
DTSTART:20220313T070000
END:DAYLIGHT
BEGIN:STANDARD
TZOFFSETFROM:-0400
TZOFFSETTO:-0500
TZNAME:EST
DTSTART:20221106T060000
END:STANDARD
BEGIN:DAYLIGHT
TZOFFSETFROM:-0500
TZOFFSETTO:-0400
TZNAME:EDT
DTSTART:20230312T070000
END:DAYLIGHT
BEGIN:STANDARD
TZOFFSETFROM:-0400
TZOFFSETTO:-0500
TZNAME:EST
DTSTART:20231105T060000
END:STANDARD
END:VTIMEZONE
BEGIN:VEVENT
DTSTART;TZID=America/New_York:20221102T193000
DTEND;TZID=America/New_York:20221102T203000
DTSTAMP:20260422T050109
CREATED:20220808T161154Z
LAST-MODIFIED:20220808T161154Z
UID:10004786-1667417400-1667421000@newsuat.fordham.edu
SUMMARY:Forever Fordham Alumni Book Club: The Complicities
DESCRIPTION:We invite you to join us for the next Fordham Alumni Book Club! We will be reading The Complicities by Stacey D’Erasmo\, associate professor of English at Fordham University.
URL:https://newsuat.fordham.edu/event/forever-fordham-alumni-book-club-the-complicities/2022-11-02/
LOCATION:NY
CATEGORIES:Arts at Fordham,Cultural
END:VEVENT
BEGIN:VEVENT
DTSTART;TZID=America/New_York:20221114T190000
DTEND;TZID=America/New_York:20221114T220000
DTSTAMP:20260422T050109
CREATED:20221107T211602Z
LAST-MODIFIED:20221107T211602Z
UID:10004883-1668452400-1668463200@newsuat.fordham.edu
SUMMARY:Film Screening: Good Night Oppy
DESCRIPTION:Award-winning director Ryan White (The Keepers\, Serena\, The Case Against 8) will join Fordham’s Center on Religion and Culture’s David Gibson for a screening and a discussion of White’s acclaimed new documentary: Good Night Oppy. \nGood Night Oppy tells the true story of Opportunity\, a rover sent to Mars for a 90-day mission that ended up surviving for 15 years. The film follows Opportunity’s groundbreaking journey on Mars and the remarkable bond forged between the robot and her humans millions of miles away. \nThe film raises powerful issues about our relationship with machines and our place in the universe\, and it may point to the ways that science and religion—and a shared sense of wonder—can find common ground. \nReserve a ticket using the password OPPYFORD.
URL:https://newsuat.fordham.edu/event/film-screening-good-night-oppy/
LOCATION:McNally Amphitheatre\, 140 West 62nd Street\, New York\, NY\, 10023\, United States
CATEGORIES:Cultural
GEO:40.7713958;-73.9844894
X-APPLE-STRUCTURED-LOCATION;VALUE=URI;X-ADDRESS=McNally Amphitheatre 140 West 62nd Street New York NY 10023 United States;X-APPLE-RADIUS=500;X-TITLE=140 West 62nd Street:geo:-73.9844894,40.7713958
END:VEVENT
BEGIN:VEVENT
DTSTART;TZID=America/New_York:20221116T180000
DTEND;TZID=America/New_York:20221116T230000
DTSTAMP:20260422T050109
CREATED:20221020T162653Z
LAST-MODIFIED:20221020T162653Z
UID:10004852-1668621600-1668639600@newsuat.fordham.edu
SUMMARY:A Night with The New York Philharmonic at Lincoln Center
DESCRIPTION:Join us to celebrate the much-anticipated reopening of David Geffen Hall at Lincoln Center\, and enjoy the sounds of “Earth\, Sea\, and Sky” performed by the New York Philharmonic in its newly renovated home.
URL:https://newsuat.fordham.edu/event/a-night-with-the-new-york-philharmonic-at-lincoln-center/
LOCATION:David Geffen Hall\, 10 Lincoln Center Plaza\, New York\, NY\, 10023\, United States
CATEGORIES:Cultural,Social
GEO:40.7725472;-73.9831159
X-APPLE-STRUCTURED-LOCATION;VALUE=URI;X-ADDRESS=David Geffen Hall 10 Lincoln Center Plaza New York NY 10023 United States;X-APPLE-RADIUS=500;X-TITLE=10 Lincoln Center Plaza:geo:-73.9831159,40.7725472
END:VEVENT
BEGIN:VEVENT
DTSTART;TZID=America/New_York:20221117T120000
DTEND;TZID=America/New_York:20221117T124500
DTSTAMP:20260422T050109
CREATED:20221020T163023Z
LAST-MODIFIED:20221020T163023Z
UID:10004853-1668686400-1668689100@newsuat.fordham.edu
SUMMARY:Virtual Tour of the Vatican Observatory
DESCRIPTION:Step inside the Vatican Observatory in Rome—one of the oldest active astronomical observatories in the world\, with its roots going back to 1582. \nJoin us for a special (virtual) trip to Italy to tour the space and its meteorite collection (one of the world’s largest) with the director\, former Fordham faculty member Guy Consolmagno\, S.J.\, and alumnus Christopher Kennedy\, FCRH ’12. Participants will learn about the inner workings of the telescope and will have a chance to delve deeper into the long-standing connection between Jesuits and astronomy.
URL:https://newsuat.fordham.edu/event/virtual-tour-of-the-vatican-observatory/
LOCATION:Online Webinar
CATEGORIES:Cultural,Tours
END:VEVENT
END:VCALENDAR