BEGIN:VCALENDAR
VERSION:2.0
PRODID:-//Fordham Now - ECPv6.15.20//NONSGML v1.0//EN
CALSCALE:GREGORIAN
METHOD:PUBLISH
X-WR-CALNAME:Fordham Now
X-ORIGINAL-URL:https://newsuat.fordham.edu
X-WR-CALDESC:Events for Fordham Now
REFRESH-INTERVAL;VALUE=DURATION:PT1H
X-Robots-Tag:noindex
X-PUBLISHED-TTL:PT1H
BEGIN:VTIMEZONE
TZID:America/New_York
BEGIN:DAYLIGHT
TZOFFSETFROM:-0500
TZOFFSETTO:-0400
TZNAME:EDT
DTSTART:20210314T070000
END:DAYLIGHT
BEGIN:STANDARD
TZOFFSETFROM:-0400
TZOFFSETTO:-0500
TZNAME:EST
DTSTART:20211107T060000
END:STANDARD
BEGIN:DAYLIGHT
TZOFFSETFROM:-0500
TZOFFSETTO:-0400
TZNAME:EDT
DTSTART:20220313T070000
END:DAYLIGHT
BEGIN:STANDARD
TZOFFSETFROM:-0400
TZOFFSETTO:-0500
TZNAME:EST
DTSTART:20221106T060000
END:STANDARD
BEGIN:DAYLIGHT
TZOFFSETFROM:-0500
TZOFFSETTO:-0400
TZNAME:EDT
DTSTART:20230312T070000
END:DAYLIGHT
BEGIN:STANDARD
TZOFFSETFROM:-0400
TZOFFSETTO:-0500
TZNAME:EST
DTSTART:20231105T060000
END:STANDARD
END:VTIMEZONE
BEGIN:VEVENT
DTSTART;TZID=America/New_York:20220709T120000
DTEND;TZID=America/New_York:20220709T170000
DTSTAMP:20260422T164737
CREATED:20220519T193038Z
LAST-MODIFIED:20220519T193038Z
UID:10004748-1657368000-1657386000@newsuat.fordham.edu
SUMMARY:New York City Football Club vs. New England Revolution Game with Fordham Alumni
DESCRIPTION:Join alumni and fellow young alumni on a trip to Yankee Stadium to see the New York City Football Club take on New England Revolution. Watch the game\, grab some food\, and connect with fellow Rams. \nAll seats are in section 105. \nAll registrants will receive a reminder email one week prior to the event with additional event details.
URL:https://newsuat.fordham.edu/event/new-york-city-football-club-vs-new-england-revolution-game-with-fordham-alumni/
LOCATION:Yankee Stadium
CATEGORIES:Cultural,Social
ORGANIZER;CN="Office of Alumni Relations":MAILTO:alumnioffice@fordham.edu
GEO:40.8288189;-73.9265691
END:VEVENT
BEGIN:VEVENT
DTSTART;TZID=America/New_York:20220716T130000
DTEND;TZID=America/New_York:20220716T150000
DTSTAMP:20260422T164737
CREATED:20220622T142628Z
LAST-MODIFIED:20220622T142628Z
UID:10004764-1657976400-1657983600@newsuat.fordham.edu
SUMMARY:Alumni Chapter of Hudson Valley: 2022 Frances Lehman Loeb Art Center Tour
DESCRIPTION:Join fellow Rams for an afternoon visit to the historic Vassar College campus for a tour of the Art Center by one of its docents. \nThere is no cost to attend this event. Please meet at 12:45 p.m. at the entrance to the Art Center\, directly inside the Raymond Avenue Gate entrance. Parking can be found at any open site within the campus. \nFollowing the tour\, our group will meet for a casual\, late lunch. Details are forthcoming.
URL:https://newsuat.fordham.edu/event/alumni-chapter-of-hudson-valley-2022-frances-lehman-loeb-art-center-tour/
LOCATION:Frances Lehman Loeb Art Center\, 124 Raymond Avenue\, Poughkeepsie\, NY\, 12604\, United States
CATEGORIES:Cultural,Social
ORGANIZER;CN="Alumni Chapter of the Hudson Valley":MAILTO:hudsonvalleyfordhamchapter@gmail.com
END:VEVENT
END:VCALENDAR