BEGIN:VCALENDAR
VERSION:2.0
PRODID:-//Fordham Now - ECPv6.15.20//NONSGML v1.0//EN
CALSCALE:GREGORIAN
METHOD:PUBLISH
X-ORIGINAL-URL:https://newsuat.fordham.edu
X-WR-CALDESC:Events for Fordham Now
REFRESH-INTERVAL;VALUE=DURATION:PT1H
X-Robots-Tag:noindex
X-PUBLISHED-TTL:PT1H
BEGIN:VTIMEZONE
TZID:America/New_York
BEGIN:DAYLIGHT
TZOFFSETFROM:-0500
TZOFFSETTO:-0400
TZNAME:EDT
DTSTART:20200308T070000
END:DAYLIGHT
BEGIN:STANDARD
TZOFFSETFROM:-0400
TZOFFSETTO:-0500
TZNAME:EST
DTSTART:20201101T060000
END:STANDARD
BEGIN:DAYLIGHT
TZOFFSETFROM:-0500
TZOFFSETTO:-0400
TZNAME:EDT
DTSTART:20210314T070000
END:DAYLIGHT
BEGIN:STANDARD
TZOFFSETFROM:-0400
TZOFFSETTO:-0500
TZNAME:EST
DTSTART:20211107T060000
END:STANDARD
BEGIN:DAYLIGHT
TZOFFSETFROM:-0500
TZOFFSETTO:-0400
TZNAME:EDT
DTSTART:20220313T070000
END:DAYLIGHT
BEGIN:STANDARD
TZOFFSETFROM:-0400
TZOFFSETTO:-0500
TZNAME:EST
DTSTART:20221106T060000
END:STANDARD
END:VTIMEZONE
BEGIN:VEVENT
DTSTART;TZID=America/New_York:20211109T180000
DTEND;TZID=America/New_York:20211109T190000
DTSTAMP:20260423T112907
CREATED:20211022T205436Z
LAST-MODIFIED:20211022T205436Z
UID:10004487-1636480800-1636484400@newsuat.fordham.edu
SUMMARY:Alumni Chapter of Washington\, D.C.: Thanksgiving Virtual Cooking Demo
DESCRIPTION:The Fordham Alumni Chapter of D.C.’s Zoom chef extraordinaire\, Mike Mele\, FCRH ’74\, is back with a special virtual\, Thanksgiving-themed cooking demonstration! \nAll alumni chapters\, families\, and friends are welcome to join us as we learn how to prepare for the holiday and cook new recipes in the process. \nThe Zoom link will be shared in the registration confirmation email. We hope to see you online!
URL:https://newsuat.fordham.edu/event/alumni-chapter-of-washington-d-c-thanksgiving-virtual-cooking-demo/
LOCATION:Zoom
CATEGORIES:Cultural,Social
ORGANIZER;CN="Alumni Chapter of Washington%2C D.C.":MAILTO:fordham.club.dc@gmail.com
END:VEVENT
BEGIN:VEVENT
DTSTART;TZID=America/New_York:20211111T180000
DTEND;TZID=America/New_York:20211111T190000
DTSTAMP:20260423T112907
CREATED:20211025T185856Z
LAST-MODIFIED:20211025T185856Z
UID:10004488-1636653600-1636657200@newsuat.fordham.edu
SUMMARY:WWII & NYC: The Big Apple Goes to War
DESCRIPTION:Join us on Veteran’s Day for a virtual presentation with the New-York Historical Society\, titled WWII & NYC: The Big Apple Goes to War. \nNew Yorkers did not suffer the devastation experienced by citizens of London\, Moscow\, Berlin\, or Tokyo during World War II. But New York City was a center of activity and contributed disproportionately to the final victory. New York produced everything from battleships and brassieres to periscopes and penicillin\, and more than 3 million troops and more than 63 million tons of supplies passed through New York Harbor en route to the battlefield. In this interactive\, virtual presentation\, hear little-known stories\, such as how a group of German saboteurs landed on Long Island only to take the LIRR in the wrong direction\, and why a portion of the FDR Drive is built atop rubble from Bristol\, England. \nThe cost of this event is $10 per person. Space is limited for this unique experience.
URL:https://newsuat.fordham.edu/event/wwii-nyc-the-big-apple-goes-to-war/
LOCATION:Zoom
CATEGORIES:Cultural
ORGANIZER;CN="Colleen Merolle":MAILTO:cmerolle@fordham.edu
END:VEVENT
BEGIN:VEVENT
DTSTART;TZID=America/New_York:20211125T190000
DTEND;TZID=America/New_York:20211125T210000
DTSTAMP:20260423T112907
CREATED:20211102T162839Z
LAST-MODIFIED:20211102T162839Z
UID:10004501-1637866800-1637874000@newsuat.fordham.edu
SUMMARY:Alumni Chapter of Germany: Thanksgiving Meets Bavaria
DESCRIPTION:Join the Alumni Chapter of Germany for a Thanksgiving dinner in the heart of Munich. We’d love for you to join us as we kick-off the festive season with Fordham alumni and friends here in Germany!
URL:https://newsuat.fordham.edu/event/alumni-chapter-of-germany-thanksgiving-meets-bavaria/
LOCATION:Spatenhaus an der Oper\, Residenzstraße 12\, München\, 80333\, Germany
CATEGORIES:Cultural,Receptions,Social
END:VEVENT
END:VCALENDAR