BEGIN:VCALENDAR
VERSION:2.0
PRODID:-//Fordham Now - ECPv6.15.20//NONSGML v1.0//EN
CALSCALE:GREGORIAN
METHOD:PUBLISH
X-ORIGINAL-URL:https://newsuat.fordham.edu
X-WR-CALDESC:Events for Fordham Now
REFRESH-INTERVAL;VALUE=DURATION:PT1H
X-Robots-Tag:noindex
X-PUBLISHED-TTL:PT1H
BEGIN:VTIMEZONE
TZID:America/New_York
BEGIN:DAYLIGHT
TZOFFSETFROM:-0500
TZOFFSETTO:-0400
TZNAME:EDT
DTSTART:20190310T070000
END:DAYLIGHT
BEGIN:STANDARD
TZOFFSETFROM:-0400
TZOFFSETTO:-0500
TZNAME:EST
DTSTART:20191103T060000
END:STANDARD
BEGIN:DAYLIGHT
TZOFFSETFROM:-0500
TZOFFSETTO:-0400
TZNAME:EDT
DTSTART:20200308T070000
END:DAYLIGHT
BEGIN:STANDARD
TZOFFSETFROM:-0400
TZOFFSETTO:-0500
TZNAME:EST
DTSTART:20201101T060000
END:STANDARD
BEGIN:DAYLIGHT
TZOFFSETFROM:-0500
TZOFFSETTO:-0400
TZNAME:EDT
DTSTART:20210314T070000
END:DAYLIGHT
BEGIN:STANDARD
TZOFFSETFROM:-0400
TZOFFSETTO:-0500
TZNAME:EST
DTSTART:20211107T060000
END:STANDARD
END:VTIMEZONE
BEGIN:VEVENT
DTSTART;TZID=America/New_York:20200922T180000
DTEND;TZID=America/New_York:20200922T193000
DTSTAMP:20260424T112132
CREATED:20200821T192802Z
LAST-MODIFIED:20200821T192802Z
UID:10004046-1600797600-1600803000@newsuat.fordham.edu
SUMMARY:SOLD OUT: Tenement Museum Virtual Tour and Q&A
DESCRIPTION:The Tenement Museum’s private virtual events offer a chance to “visit” recreated apartments from anywhere in the world. During a live\, online interactive event\, Tenement Museum educators will take you into the apartment of the Rogarshevsky family. The Jewish-American Rogarshevksy family lived in 97 Orchard Street in 1911\, and their story explores how they balanced work\, tradition\, and culture in the Lower East Side. \nThere will be opportunities to interact and ask questions through chat\, with a Q&A and discussion featuring history professor Dr. Daniel Soyer.
URL:https://newsuat.fordham.edu/event/tenement-museum-virtual-tour-and-qa/
LOCATION:Zoom
CATEGORIES:Cultural
ORGANIZER;CN="Colleen Merolle":MAILTO:cmerolle@fordham.edu
END:VEVENT
END:VCALENDAR