BEGIN:VCALENDAR
VERSION:2.0
PRODID:-//Fordham Now - ECPv6.15.20//NONSGML v1.0//EN
CALSCALE:GREGORIAN
METHOD:PUBLISH
X-ORIGINAL-URL:https://newsuat.fordham.edu
X-WR-CALDESC:Events for Fordham Now
REFRESH-INTERVAL;VALUE=DURATION:PT1H
X-Robots-Tag:noindex
X-PUBLISHED-TTL:PT1H
BEGIN:VTIMEZONE
TZID:America/New_York
BEGIN:DAYLIGHT
TZOFFSETFROM:-0500
TZOFFSETTO:-0400
TZNAME:EDT
DTSTART:20190310T070000
END:DAYLIGHT
BEGIN:STANDARD
TZOFFSETFROM:-0400
TZOFFSETTO:-0500
TZNAME:EST
DTSTART:20191103T060000
END:STANDARD
BEGIN:DAYLIGHT
TZOFFSETFROM:-0500
TZOFFSETTO:-0400
TZNAME:EDT
DTSTART:20200308T070000
END:DAYLIGHT
BEGIN:STANDARD
TZOFFSETFROM:-0400
TZOFFSETTO:-0500
TZNAME:EST
DTSTART:20201101T060000
END:STANDARD
BEGIN:DAYLIGHT
TZOFFSETFROM:-0500
TZOFFSETTO:-0400
TZNAME:EDT
DTSTART:20210314T070000
END:DAYLIGHT
BEGIN:STANDARD
TZOFFSETFROM:-0400
TZOFFSETTO:-0500
TZNAME:EST
DTSTART:20211107T060000
END:STANDARD
END:VTIMEZONE
BEGIN:VEVENT
DTSTART;TZID=America/New_York:20200419T110000
DTEND;TZID=America/New_York:20200419T143000
DTSTAMP:20260424T200811
CREATED:20200109T204027Z
LAST-MODIFIED:20200109T204027Z
UID:10003843-1587294000-1587306600@newsuat.fordham.edu
SUMMARY:POSTPONED: Explore the Cloisters
DESCRIPTION:Patrick Hornbeck\, Ph.D.\, chair of Fordham’s Department of Theology\, will lead a very special tour of the Met Cloisters\, America’s only museum dedicated exclusively to the art and architecture of the Middle Ages. Including a museum and gardens within a single complex\, the Cloisters picturesquely overlooks the Hudson River in Fort Tryon Park in northern Manhattan and derives its name from the portions of five medieval cloisters incorporated into a modern museum structure. Designed to evoke the architecture of the later Middle Ages\, the Met Cloisters creates an integrated and harmonious context in which visitors can experience the rich tradition of medieval artistic production\, including metalwork\, painting\, sculpture\, and textiles. \nAfter the tour we will eat lunch at a nearby restaurant\, location TBD. \nProfessor Hornbeck will share his expertise with us throughout the day. \nThe cost of this event is $70 per person and includes both the tour and lunch. \nA reminder email with additional information will be sent one week prior to the event.
URL:https://newsuat.fordham.edu/event/explore-the-cloisters/
LOCATION:The Met Cloisters\, 99 Margaret Corbin Drive\, New York\, NY\, 10040\, United States
CATEGORIES:Cultural
ORGANIZER;CN="Office of Alumni Relations":MAILTO:alumnioffice@fordham.edu
END:VEVENT
END:VCALENDAR