BEGIN:VCALENDAR
VERSION:2.0
PRODID:-//Fordham Now - ECPv6.15.20//NONSGML v1.0//EN
CALSCALE:GREGORIAN
METHOD:PUBLISH
X-WR-CALNAME:Fordham Now
X-ORIGINAL-URL:https://newsuat.fordham.edu
X-WR-CALDESC:Events for Fordham Now
REFRESH-INTERVAL;VALUE=DURATION:PT1H
X-Robots-Tag:noindex
X-PUBLISHED-TTL:PT1H
BEGIN:VTIMEZONE
TZID:America/New_York
BEGIN:DAYLIGHT
TZOFFSETFROM:-0500
TZOFFSETTO:-0400
TZNAME:EDT
DTSTART:20180311T070000
END:DAYLIGHT
BEGIN:STANDARD
TZOFFSETFROM:-0400
TZOFFSETTO:-0500
TZNAME:EST
DTSTART:20181104T060000
END:STANDARD
BEGIN:DAYLIGHT
TZOFFSETFROM:-0500
TZOFFSETTO:-0400
TZNAME:EDT
DTSTART:20190310T070000
END:DAYLIGHT
BEGIN:STANDARD
TZOFFSETFROM:-0400
TZOFFSETTO:-0500
TZNAME:EST
DTSTART:20191103T060000
END:STANDARD
BEGIN:DAYLIGHT
TZOFFSETFROM:-0500
TZOFFSETTO:-0400
TZNAME:EDT
DTSTART:20200308T070000
END:DAYLIGHT
BEGIN:STANDARD
TZOFFSETFROM:-0400
TZOFFSETTO:-0500
TZNAME:EST
DTSTART:20201101T060000
END:STANDARD
END:VTIMEZONE
BEGIN:VEVENT
DTSTART;TZID=America/New_York:20190209T121500
DTEND;TZID=America/New_York:20190209T153000
DTSTAMP:20260425T192120
CREATED:20181207T141214Z
LAST-MODIFIED:20181207T141214Z
UID:10006734-1549714500-1549726200@newsuat.fordham.edu
SUMMARY:Tour of the Louis Armstrong House Museum
DESCRIPTION:Join us for a tour exploring how Louis Armstrong lived! He was one of the most recognizable entertainers in the world when he chose the working-class neighborhood of Corona\, Queens\, to be his home in 1943. “And you take this neighborhood we live in\,” Louis said in 1964. “We’re right out here with the rest of the colored folk and the Puerto Ricans and Italians and the Hebrew cats. We don’t need to move out in the suburbs to some big mansion with lots of servants and yardmen and things.” \nThe Louis Armstrong House Museum sustains and promotes the cultural\, historical\, and humanitarian legacy of Louis Armstrong by preserving and interpreting Armstrong’s house and grounds\, collecting and sharing archival materials that document Armstrong’s life and legacy\, and presenting public programs such as exhibits\, concerts\, lectures\, and film screenings. The museum seeks to educate and inspire people of all ages\, origins\, and locations. \nPlease note: The entire ground floor (which includes the Welcome Center\, Museum Store\, exhibit area\, and restroom) of the museum is wheelchair-accessible. The historic house tour requires the ability to climb two sets of steep stairs and to stand for 40 minutes. Visitors that are unable to take the tour receive a virtual tour instead. \nAfter the tour\, we’ll eat lunch at a nearby restaurant. This is a wonderful opportunity to meet some of your fellow alumni! \nThis event costs $60 per person\, which includes the tour and lunch. \nAn email reminder with meeting details will be sent to all registrants one week prior to the event. Please reach out if you have any questions\, and we hope to see you there!
URL:https://newsuat.fordham.edu/event/tour-of-the-louis-armstrong-house-museum/
LOCATION:The Louis Armstrong House Museum\, 34-56 107th Street\, Queens\, NY\, 11368\, United States
CATEGORIES:Cultural,Social,Tours
ATTACH;FMTTYPE=image/jpeg:https://newsuat.fordham.edu/wp-content/uploads/2018/12/Louis-740x560.jpeg
ORGANIZER;CN="Shannon Quinn":MAILTO:hirrel@fordham.edu
END:VEVENT
BEGIN:VEVENT
DTSTART;TZID=America/New_York:20190221T200000
DTEND;TZID=America/New_York:20190221T220000
DTSTAMP:20260425T192120
CREATED:20190125T230339Z
LAST-MODIFIED:20190125T230339Z
UID:10006869-1550779200-1550786400@newsuat.fordham.edu
SUMMARY:The Mimes and Mummers presents Into the Woods
DESCRIPTION:The Mimes and Mummers is proud to present its spring musical\, Stephen Sondheim’s Into the Woods.
URL:https://newsuat.fordham.edu/event/the-mimes-and-mummers-presents-into-the-woods/
LOCATION:Collins Auditorium\, Rose Hill Campus 441 E Fordham Rd\, Bronx\, NY\, 10458\, United States
CATEGORIES:Arts at Fordham,Cultural
ORGANIZER;CN="Michaela Shank":MAILTO:mshank@fordham.edu
GEO:40.8619545;-73.8855064
X-APPLE-STRUCTURED-LOCATION;VALUE=URI;X-ADDRESS=Collins Auditorium Rose Hill Campus 441 E Fordham Rd Bronx NY 10458 United States;X-APPLE-RADIUS=500;X-TITLE=Rose Hill Campus 441 E Fordham Rd:geo:-73.8855064,40.8619545
END:VEVENT
BEGIN:VEVENT
DTSTART;TZID=America/New_York:20190223T180000
DTEND;TZID=America/New_York:20190223T180000
DTSTAMP:20260425T192120
CREATED:20190122T144346Z
LAST-MODIFIED:20190122T144346Z
UID:10006861-1550944800-1550944800@newsuat.fordham.edu
SUMMARY:Alumni Chapter of Westchester: Night at the Westchester Broadway Theatre
DESCRIPTION:Join fellow alumni in Westchester for Ain’t Misbehavin’! We’ve reserved a luxury box for attendees. There are only 10 tickets available for this event—which includes appetizers\, dinner\, and the show—so don’t wait to register! \nWinner of the 1978 Tony Award for Best Musical\, Ain’t Misbehavin’ tells the story of Thomas “Fats” Waller and his rise to international fame during the Golden Age of the Cotton Club and swing music. Experience the heart and soul of Harlem\, where the onset of swing joined ranks with the rhythms of ragtime and the passions of jazz\, creating an explosive musical movement.
URL:https://newsuat.fordham.edu/event/alumni-chapter-of-westchester-night-at-the-westchester-broadway-theater/
LOCATION:Westchester Broadway Theatre\, 1 Broadway Plaza\, Elmsford\, NY\, 10523\, United States
CATEGORIES:Cultural,Social
ORGANIZER;CN="Alumni Chapter of Westchester":MAILTO:fordhamalumniwestchester@gmail.com
END:VEVENT
END:VCALENDAR