BEGIN:VCALENDAR
VERSION:2.0
PRODID:-//Fordham Now - ECPv6.15.20//NONSGML v1.0//EN
CALSCALE:GREGORIAN
METHOD:PUBLISH
X-ORIGINAL-URL:https://newsuat.fordham.edu
X-WR-CALDESC:Events for Fordham Now
REFRESH-INTERVAL;VALUE=DURATION:PT1H
X-Robots-Tag:noindex
X-PUBLISHED-TTL:PT1H
BEGIN:VTIMEZONE
TZID:America/New_York
BEGIN:DAYLIGHT
TZOFFSETFROM:-0500
TZOFFSETTO:-0400
TZNAME:EDT
DTSTART:20170312T070000
END:DAYLIGHT
BEGIN:STANDARD
TZOFFSETFROM:-0400
TZOFFSETTO:-0500
TZNAME:EST
DTSTART:20171105T060000
END:STANDARD
BEGIN:DAYLIGHT
TZOFFSETFROM:-0500
TZOFFSETTO:-0400
TZNAME:EDT
DTSTART:20180311T070000
END:DAYLIGHT
BEGIN:STANDARD
TZOFFSETFROM:-0400
TZOFFSETTO:-0500
TZNAME:EST
DTSTART:20181104T060000
END:STANDARD
BEGIN:DAYLIGHT
TZOFFSETFROM:-0500
TZOFFSETTO:-0400
TZNAME:EDT
DTSTART:20190310T070000
END:DAYLIGHT
BEGIN:STANDARD
TZOFFSETFROM:-0400
TZOFFSETTO:-0500
TZNAME:EST
DTSTART:20191103T060000
END:STANDARD
END:VTIMEZONE
BEGIN:VEVENT
DTSTART;TZID=America/New_York:20181220T170000
DTEND;TZID=America/New_York:20181220T213000
DTSTAMP:20260425T224948
CREATED:20180817T124352Z
LAST-MODIFIED:20180817T124352Z
UID:10006522-1545325200-1545341400@newsuat.fordham.edu
SUMMARY:SOLD OUT: Home Alone at the New York Philharmonic
DESCRIPTION:Don’t miss this holiday blockbuster as the Philharmonic performs John Williams’ score live! What a wonderful way to celebrate the Christmas season. \nWe’ll meet for a pre-show dinner at 5 p.m. at a restaurant close to the theater. This is a great opportunity to meet some of your fellow alumni! We’ll also have a special guest speaker who will share their expertise about the main event. \nTickets are $160 per person and include both dinner and the show. Our tickets are in the Orchestra section (mid-way down the right side) and will be handed out during dinner. \nThe restaurant and guest speaker are TBA. This information will be emailed to all registrants one week before the show.
URL:https://newsuat.fordham.edu/event/home-alone-at-the-new-york-philharmonic/
LOCATION:The New York Philharmonic\, 10 Lincoln Center\, David Geffen Hall\, Lincoln Center for the Performing Arts\, New York\, NY\, 10023\, United States
CATEGORIES:Cultural,Social
ATTACH;FMTTYPE=image/jpeg:https://newsuat.fordham.edu/wp-content/uploads/2018/08/holiday-home-alone-kevin-1.jpg
ORGANIZER;CN="Shannon Quinn":MAILTO:hirrel@fordham.edu
END:VEVENT
END:VCALENDAR