BEGIN:VCALENDAR
VERSION:2.0
PRODID:-//Fordham Now - ECPv6.15.20//NONSGML v1.0//EN
CALSCALE:GREGORIAN
METHOD:PUBLISH
X-WR-CALNAME:Fordham Now
X-ORIGINAL-URL:https://newsuat.fordham.edu
X-WR-CALDESC:Events for Fordham Now
REFRESH-INTERVAL;VALUE=DURATION:PT1H
X-Robots-Tag:noindex
X-PUBLISHED-TTL:PT1H
BEGIN:VTIMEZONE
TZID:America/New_York
BEGIN:DAYLIGHT
TZOFFSETFROM:-0500
TZOFFSETTO:-0400
TZNAME:EDT
DTSTART:20170312T070000
END:DAYLIGHT
BEGIN:STANDARD
TZOFFSETFROM:-0400
TZOFFSETTO:-0500
TZNAME:EST
DTSTART:20171105T060000
END:STANDARD
BEGIN:DAYLIGHT
TZOFFSETFROM:-0500
TZOFFSETTO:-0400
TZNAME:EDT
DTSTART:20180311T070000
END:DAYLIGHT
BEGIN:STANDARD
TZOFFSETFROM:-0400
TZOFFSETTO:-0500
TZNAME:EST
DTSTART:20181104T060000
END:STANDARD
BEGIN:DAYLIGHT
TZOFFSETFROM:-0500
TZOFFSETTO:-0400
TZNAME:EDT
DTSTART:20190310T070000
END:DAYLIGHT
BEGIN:STANDARD
TZOFFSETFROM:-0400
TZOFFSETTO:-0500
TZNAME:EST
DTSTART:20191103T060000
END:STANDARD
END:VTIMEZONE
BEGIN:VEVENT
DTSTART;TZID=America/New_York:20181108T110000
DTEND;TZID=America/New_York:20181108T140000
DTSTAMP:20260426T002946
CREATED:20180815T182210Z
LAST-MODIFIED:20180815T182210Z
UID:10006520-1541674800-1541685600@newsuat.fordham.edu
SUMMARY:New-York Historical Society Tour: "Black Citizenship in the Age of Jim Crow"
DESCRIPTION:Join us for a much-anticipated new exhibit at the New-York Historical Society\, “Black Citizenship in the Age of Jim Crow.” This exhibit explores the struggle for full citizenship and racial equality that unfolded in the 50 years after the Civil War. Leading our tour will be Assistant Curator Lily Wong\, who co-curated the exhibit. \nOpening to mark the 150th anniversary of the ratification of the 14th Amendment\, the exhibition is organized\nchronologically from the end of the Civil War to the end of World War I and highlights the central role played by\nAfrican Americans in advocating for their rights. It also examines the depth and breadth of opposition to black advancement. Art\, artifacts\, photographs\, and media will help visitors explore these transformative decades in American history and understand their continuing relevance today. \nAfter the tour we’ll eat lunch at Storico\, a restaurant located at the museum. \nJoining us for this event is Fordham’s own Sarah Celentano\, Ph.D.\, GSAS ’07. Celentano is the chairman’s council manager for the Department of Development at the New-York Historical Society. She will share her expertise with us throughout the day. \nThis event costs $65 per person\, which includes the tour and lunch. \nAn email reminder with meeting details will be sent to all registrants one week prior to the event. Please reach out if you have any questions. We hope to see you there!
URL:https://newsuat.fordham.edu/event/new-york-historical-society-tour-black-citizenship-in-the-age-of-jim-crow/
LOCATION:The New-York Historical Society\, 170 Central Park West\, New York\, NY\, 10024\, United States
CATEGORIES:Cultural,Tours
ATTACH;FMTTYPE=image/png:https://newsuat.fordham.edu/wp-content/uploads/2018/08/960x230-iMods-Banner-3.png
ORGANIZER;CN="Shannon Quinn":MAILTO:hirrel@fordham.edu
END:VEVENT
END:VCALENDAR