BEGIN:VCALENDAR
VERSION:2.0
PRODID:-//Fordham Now - ECPv6.15.20//NONSGML v1.0//EN
CALSCALE:GREGORIAN
METHOD:PUBLISH
X-ORIGINAL-URL:https://newsuat.fordham.edu
X-WR-CALDESC:Events for Fordham Now
REFRESH-INTERVAL;VALUE=DURATION:PT1H
X-Robots-Tag:noindex
X-PUBLISHED-TTL:PT1H
BEGIN:VTIMEZONE
TZID:America/New_York
BEGIN:DAYLIGHT
TZOFFSETFROM:-0500
TZOFFSETTO:-0400
TZNAME:EDT
DTSTART:20220313T070000
END:DAYLIGHT
BEGIN:STANDARD
TZOFFSETFROM:-0400
TZOFFSETTO:-0500
TZNAME:EST
DTSTART:20221106T060000
END:STANDARD
BEGIN:DAYLIGHT
TZOFFSETFROM:-0500
TZOFFSETTO:-0400
TZNAME:EDT
DTSTART:20230312T070000
END:DAYLIGHT
BEGIN:STANDARD
TZOFFSETFROM:-0400
TZOFFSETTO:-0500
TZNAME:EST
DTSTART:20231105T060000
END:STANDARD
BEGIN:DAYLIGHT
TZOFFSETFROM:-0500
TZOFFSETTO:-0400
TZNAME:EDT
DTSTART:20240310T070000
END:DAYLIGHT
BEGIN:STANDARD
TZOFFSETFROM:-0400
TZOFFSETTO:-0500
TZNAME:EST
DTSTART:20241103T060000
END:STANDARD
END:VTIMEZONE
BEGIN:VEVENT
DTSTART;TZID=America/New_York:20230912T090000
DTEND;TZID=America/New_York:20230912T170000
DTSTAMP:20260421T150803
CREATED:20230905T180708Z
LAST-MODIFIED:20230905T180708Z
UID:10005186-1694509200-1694538000@newsuat.fordham.edu
SUMMARY:Fordham Veteran Mental Health Summit
DESCRIPTION:Join us for an impactful event focused on veterans’ mental health. This in-person summit is a unique opportunity to connect with fellow veterans\, mental health professionals\, and organizations dedicated to supporting our heroes. At the Veterans Mental Health Summit\, you’ll gain valuable insights through engaging and informative discussions covering a variety of mental health topics\, as well as inspiring keynote speeches by: \n\nDr. Tamara Campbell\, executive director\, VHA office of Mental Health and Suicide Prevention\, Department of Veterans Affairs\nTodd Duso\, COO\, Bob Woodruff Foundation\,\nTina Atherall\, CEO\, PsychArmor\n\nLearn about the latest advancements in mental health treatments\, strategies for coping with PTSD and other challenges\, and resources available to veterans. Take part in interactive breakout sessions to share your experiences\, ask questions\, and connect with experts in the field. Whether you’re a veteran yourself\, a family member\, or a caregiver\, this summit offers a safe and inclusive space to learn\, heal\, and find support. Join us at the Veterans Mental Health Summit and help us make a difference in the lives of our veterans. \nFor more information\, please contact Captain Kristina Diaz\, assistant professor of military science\, Fordham University Army ROTC\, at kdiaz54@fordham.edu.
URL:https://newsuat.fordham.edu/event/fordham-veteran-mental-health-summit/
LOCATION:McNally Amphitheatre\, 140 West 62nd Street\, New York\, NY\, 10023\, United States
CATEGORIES:Conferences and Symposia,Wellness
ATTACH;FMTTYPE=image/jpeg:https://newsuat.fordham.edu/wp-content/uploads/2023/09/vets_mhs2023_2.jpg
GEO:40.7713958;-73.9844894
X-APPLE-STRUCTURED-LOCATION;VALUE=URI;X-ADDRESS=McNally Amphitheatre 140 West 62nd Street New York NY 10023 United States;X-APPLE-RADIUS=500;X-TITLE=140 West 62nd Street:geo:-73.9844894,40.7713958
END:VEVENT
BEGIN:VEVENT
DTSTART;TZID=America/New_York:20230914T120000
DTEND;TZID=America/New_York:20230914T150000
DTSTAMP:20260421T150803
CREATED:20230720T202350Z
LAST-MODIFIED:20230720T202350Z
UID:10005149-1694692800-1694703600@newsuat.fordham.edu
SUMMARY:2023 Interfaith Prayer and Picnic with the President
DESCRIPTION:Celebrate the beauty of Fordham’s diversity with an interfaith prayer and picnic with President Tania Tetlow. Bring a blanket and meet new people!
URL:https://newsuat.fordham.edu/event/interfaith-prayer-and-picnic-with-the-president/
LOCATION:Lowenstein Plaza\, 113 West 60th Street\, New York\, NY\, 10023\, United States
CATEGORIES:Conferences and Symposia,Cultural
ORGANIZER;CN="Campus Ministry":MAILTO:cm@fordham.edu
GEO:40.7708109;-73.9851512
X-APPLE-STRUCTURED-LOCATION;VALUE=URI;X-ADDRESS=Lowenstein Plaza 113 West 60th Street New York NY 10023 United States;X-APPLE-RADIUS=500;X-TITLE=113 West 60th Street:geo:-73.9851512,40.7708109
END:VEVENT
BEGIN:VEVENT
DTSTART;TZID=America/New_York:20230926T103000
DTEND;TZID=America/New_York:20230926T130000
DTSTAMP:20260421T150803
CREATED:20230915T151004Z
LAST-MODIFIED:20230915T151004Z
UID:10005211-1695724200-1695733200@newsuat.fordham.edu
SUMMARY:The Third Digital Health Symposium at United Nations General Assembly 78
DESCRIPTION:Fordham University and the Global Healthcare Innovation Management Center of the Gabelli School of Business\, in partnership with the United Nations Digital Health Task Force\, are pleased to invite you to a United Nations-sponsored event. \nThe Digital Health Innovation Divide will bring together global health leaders in a unique role-play simulation that looks at what happens when promising digital health technologies are faced with competing public policy and private-sector interests. See how our panelists handle complex ethical\, business\, and health equity and access issues regarding a hypothetical\, at-home\, patient monitoring device that can revolutionize early cancer prevention and treatment. While the innovation could lead to faster\, better\, and cheaper global health outcomes\, find out what may be the obstacles to achieving these desirable goals. \nConvener\nJames Hastings\, J.D.\, counsel\, Rothwell Figg \nModerator\nChinmayi Sharma\, J.D.\, associate professor of law\, Fordham University School of Law \nPanelists (to date) \n\nCarl Baranowski\, J.D.\, vice president and chief legal officer\, University of Texas at Tyler\nJenny Colgate\, J.D.\, partner\, Rothwell Figg\nHannah Cooper\, CEO and co-founder\, Cooper/Smith\nJanet Freilich\, J.D.\, professor\, Fordham University School of Law\nMichael Harvey\, information and privacy commissioner\, Office of the Information and Privacy Commissioner for Newfoundland and Labrador\, Canada\nAlejandro Lopez Osornio\, M.D.\, senior implementation support specialist\, SNOMED International; senior consultant in digital health\, CIIPS\nFalguni Sen\, Ph.D.\, director\, global healthcare innovation management center\, Fordham University\nDarshana Zaveri\, founder and managing partner\, Catalyst Health Ventures
URL:https://newsuat.fordham.edu/event/the-third-digital-health-symposium-at-united-nations-general-assembly-78/
LOCATION:Costantino Room\, Fordham Law School\, 150 West 62nd Street\, New York\, NY\, 10023\, United States
CATEGORIES:Conferences and Symposia
ORGANIZER;CN="Global Healthcare Innovation Management Center":MAILTO:fsen@fordham.edu
GEO:40.7715478;-73.9849293
X-APPLE-STRUCTURED-LOCATION;VALUE=URI;X-ADDRESS=Costantino Room Fordham Law School 150 West 62nd Street New York NY 10023 United States;X-APPLE-RADIUS=500;X-TITLE=Fordham Law School\, 150 West 62nd Street:geo:-73.9849293,40.7715478
END:VEVENT
END:VCALENDAR