BEGIN:VCALENDAR
VERSION:2.0
PRODID:-//Fordham Now - ECPv6.15.20//NONSGML v1.0//EN
CALSCALE:GREGORIAN
METHOD:PUBLISH
X-WR-CALNAME:Fordham Now
X-ORIGINAL-URL:https://newsuat.fordham.edu
X-WR-CALDESC:Events for Fordham Now
REFRESH-INTERVAL;VALUE=DURATION:PT1H
X-Robots-Tag:noindex
X-PUBLISHED-TTL:PT1H
BEGIN:VTIMEZONE
TZID:America/New_York
BEGIN:DAYLIGHT
TZOFFSETFROM:-0500
TZOFFSETTO:-0400
TZNAME:EDT
DTSTART:20220313T070000
END:DAYLIGHT
BEGIN:STANDARD
TZOFFSETFROM:-0400
TZOFFSETTO:-0500
TZNAME:EST
DTSTART:20221106T060000
END:STANDARD
BEGIN:DAYLIGHT
TZOFFSETFROM:-0500
TZOFFSETTO:-0400
TZNAME:EDT
DTSTART:20230312T070000
END:DAYLIGHT
BEGIN:STANDARD
TZOFFSETFROM:-0400
TZOFFSETTO:-0500
TZNAME:EST
DTSTART:20231105T060000
END:STANDARD
BEGIN:DAYLIGHT
TZOFFSETFROM:-0500
TZOFFSETTO:-0400
TZNAME:EDT
DTSTART:20240310T070000
END:DAYLIGHT
BEGIN:STANDARD
TZOFFSETFROM:-0400
TZOFFSETTO:-0500
TZNAME:EST
DTSTART:20241103T060000
END:STANDARD
END:VTIMEZONE
BEGIN:VEVENT
DTSTART;TZID=America/New_York:20230215T180000
DTEND;TZID=America/New_York:20230215T210000
DTSTAMP:20260422T041947
CREATED:20230119T170848Z
LAST-MODIFIED:20230119T170848Z
UID:10004948-1676484000-1676494800@newsuat.fordham.edu
SUMMARY:2023 James R. Dumpson Symposium: Leading for Change—How to Create Sustainable Impact in Children and Family Services
DESCRIPTION:It is more important than ever to share practices with emerging leaders in social services and education fields\, as leaders and students need to understand the practical application of theories and policies. This symposium will address the re-occurring themes of leadership development\, collaboration with communities\, and the importance of diverse teams to bring about systemic change\, large-scale reform\, and reimagining the human service system. \nThis event will include two panel discussions\, followed by a reception for attendees. \nPanel 1: The Power of Partnerships \nPanelists \n\nLinda Gibbs\, principal\, Bloomberg Philanthropy\nGerard McCaffery\, former president and CEO\, MercyFirst\nRonald Richter\, CEO\, JCCA\nFred Wulczyn\, director\, Center for State Child Welfare Data\, University of Chicago\nModerator: Shirley Gatenio Gabel\, professor and Mary Ann Quaranta Endowed Chair\, Fordham Graduate School of Social Service\n\nPanel 2: Confronting Challenges \nPanelists \n\nJess Dannhauser\, NYC ACS commissioner\nBenita Miller\, executive director\, Powerful Families\, Powerful Communities\nRaysa Rodriquez\, chief program and policy officer\, FPWA\nWillie Tolliver\, professor\, Silberman School of Social Work at Hunter College\nModerator: Jennifer Jones Austin\, president and CEO\, FPWA\n\nThe event will feature closing remarks from Anne Williams-Isom\, NYC Deputy Mayor of Health and Human Services.
URL:https://newsuat.fordham.edu/event/2023-james-r-dumpson-symposium-leading-for-change-how-to-create-sustainable-impact-in-children-and-family-services/
LOCATION:McNally Amphitheatre\, 140 West 62nd Street\, New York\, NY\, 10023\, United States
CATEGORIES:Conferences and Symposia,Receptions
GEO:40.7713958;-73.9844894
X-APPLE-STRUCTURED-LOCATION;VALUE=URI;X-ADDRESS=McNally Amphitheatre 140 West 62nd Street New York NY 10023 United States;X-APPLE-RADIUS=500;X-TITLE=140 West 62nd Street:geo:-73.9844894,40.7713958
END:VEVENT
END:VCALENDAR