BEGIN:VCALENDAR
VERSION:2.0
PRODID:-//Fordham Now - ECPv6.15.20//NONSGML v1.0//EN
CALSCALE:GREGORIAN
METHOD:PUBLISH
X-ORIGINAL-URL:https://newsuat.fordham.edu
X-WR-CALDESC:Events for Fordham Now
REFRESH-INTERVAL;VALUE=DURATION:PT1H
X-Robots-Tag:noindex
X-PUBLISHED-TTL:PT1H
BEGIN:VTIMEZONE
TZID:America/New_York
BEGIN:DAYLIGHT
TZOFFSETFROM:-0500
TZOFFSETTO:-0400
TZNAME:EDT
DTSTART:20210314T070000
END:DAYLIGHT
BEGIN:STANDARD
TZOFFSETFROM:-0400
TZOFFSETTO:-0500
TZNAME:EST
DTSTART:20211107T060000
END:STANDARD
BEGIN:DAYLIGHT
TZOFFSETFROM:-0500
TZOFFSETTO:-0400
TZNAME:EDT
DTSTART:20220313T070000
END:DAYLIGHT
BEGIN:STANDARD
TZOFFSETFROM:-0400
TZOFFSETTO:-0500
TZNAME:EST
DTSTART:20221106T060000
END:STANDARD
BEGIN:DAYLIGHT
TZOFFSETFROM:-0500
TZOFFSETTO:-0400
TZNAME:EDT
DTSTART:20230312T070000
END:DAYLIGHT
BEGIN:STANDARD
TZOFFSETFROM:-0400
TZOFFSETTO:-0500
TZNAME:EST
DTSTART:20231105T060000
END:STANDARD
END:VTIMEZONE
BEGIN:VEVENT
DTSTART;TZID=America/New_York:20220315T120000
DTEND;TZID=America/New_York:20220315T140000
DTSTAMP:20260423T012941
CREATED:20220224T190936Z
LAST-MODIFIED:20220224T190936Z
UID:10004663-1647345600-1647352800@newsuat.fordham.edu
SUMMARY:38th Annual Social Work Day at the United Nations
DESCRIPTION:This year’s theme for Social Work Day at the U.N. is “Moving Toward Food Security for All: The Role of Social Work.” \nPanelists \n\nSeki Richemont\, specialist\, nutrition and social inclusion\, International Fund for Agricultural Development\nRobin Sakina Mama\, Ph.D.\, dean\, School of Social Work at Monmouth University\, New Jersey\nHilary N. Weaver\, professor and associate dean for diversity\, equity\, and inclusion\, School of Social Work\, SUNY at Buffalo\, New York\n\nThis event is co-hosted with Rutgers University School of Social Work and Monmouth University School of Social Work and co-sponsored with the International Council on Social Welfare\, the International Federation of Social Workers\, and the International Association of Schools of Social Work.
URL:https://newsuat.fordham.edu/event/38th-annual-social-work-day-at-the-united-nations/
LOCATION:Zoom
CATEGORIES:Conferences and Symposia
END:VEVENT
BEGIN:VEVENT
DTSTART;TZID=America/New_York:20220318T170000
DTEND;TZID=America/New_York:20220318T190000
DTSTAMP:20260423T012941
CREATED:20220303T182557Z
LAST-MODIFIED:20220303T182557Z
UID:10004670-1647622800-1647630000@newsuat.fordham.edu
SUMMARY:The Many Faces of Resilience: Girls and Women of All Ages Leading the Fight Against Climate Change
DESCRIPTION:Please join the Fordham Institute for Women and Girls as we celebrate the accomplishment and leadership of women and girls. As the threat of climate change has grown\, women leaders have risen to the challenge and launched numerous new initiatives to help reduce our environmental impact. Featuring an overview of the science of climate change and speakers from across the globe\, the event will\, we hope\, will leave you feeling inspired\, informed\, and ready to join these fearless female leaders in standing up for our planet.
URL:https://newsuat.fordham.edu/event/the-many-faces-of-resilience-girls-and-women-of-all-ages-leading-the-fight-against-climate-change/
LOCATION:Zoom
CATEGORIES:Conferences and Symposia
END:VEVENT
END:VCALENDAR