BEGIN:VCALENDAR
VERSION:2.0
PRODID:-//Fordham Now - ECPv6.15.20//NONSGML v1.0//EN
CALSCALE:GREGORIAN
METHOD:PUBLISH
X-ORIGINAL-URL:https://newsuat.fordham.edu
X-WR-CALDESC:Events for Fordham Now
REFRESH-INTERVAL;VALUE=DURATION:PT1H
X-Robots-Tag:noindex
X-PUBLISHED-TTL:PT1H
BEGIN:VTIMEZONE
TZID:America/New_York
BEGIN:DAYLIGHT
TZOFFSETFROM:-0500
TZOFFSETTO:-0400
TZNAME:EDT
DTSTART:20210314T070000
END:DAYLIGHT
BEGIN:STANDARD
TZOFFSETFROM:-0400
TZOFFSETTO:-0500
TZNAME:EST
DTSTART:20211107T060000
END:STANDARD
BEGIN:DAYLIGHT
TZOFFSETFROM:-0500
TZOFFSETTO:-0400
TZNAME:EDT
DTSTART:20220313T070000
END:DAYLIGHT
BEGIN:STANDARD
TZOFFSETFROM:-0400
TZOFFSETTO:-0500
TZNAME:EST
DTSTART:20221106T060000
END:STANDARD
BEGIN:DAYLIGHT
TZOFFSETFROM:-0500
TZOFFSETTO:-0400
TZNAME:EDT
DTSTART:20230312T070000
END:DAYLIGHT
BEGIN:STANDARD
TZOFFSETFROM:-0400
TZOFFSETTO:-0500
TZNAME:EST
DTSTART:20231105T060000
END:STANDARD
END:VTIMEZONE
BEGIN:VEVENT
DTSTART;TZID=America/New_York:20220209T140000
DTEND;TZID=America/New_York:20220209T163000
DTSTAMP:20260423T031828
CREATED:20220127T224920Z
LAST-MODIFIED:20220127T224920Z
UID:10004621-1644415200-1644424200@newsuat.fordham.edu
SUMMARY:Meaningful Customer Interactions: How to Appeal to the Feel
DESCRIPTION:Join Fordham University’s Center for Positive Marketing and the ANA Educational Foundation (AEF) to hear from top minds in brand activation and sonic and experiential marketing. Learn how brands are using innovative experiential and sensory marketing activations to drive growth after more than a year of physical distancing. Hear actionable takeaways and insightful case studies on how top brands are driving innovation. \nAgenda \n2–2:05 p.m.: Opening Remarks from Marcia Soling\, vice president and content manager\, AEF\, and Dawn Lerman\, Ph.D.\, professor of marketing and executive director\, Center for Positive Marketing \n2:05 p.m.–2:40 p.m.: “When Then Meets Now” Rebranding of Warner Bros.’ Cherished Classic Movie Network\, TCM | Dexter Fedor vice president and head of marketing and creative\, Turner Classic Movies TCM Warner Bros. Entertainment\nThe world’s greatest media network of classic films is anything but classic. The repositioning and rebranding of Turner Classic Movies\, TCM was necessary\, but what happens when your viewers didn’t ask for it? Get an inside look at what it took to turn a network around in 12 months\, top to bottom\, including a virtual film festival. We’ll cover strategy and experiential to conflict over new host chairs for Ben Mankiewicz’s set. A true Hollywood story. \n2:40 p.m.–3:15 p.m.: Stimulating Sensorial Experience Marketing That Drives Growth | Santhi Ramesh\, chief marketing officers\, The Hershey Company\nDo you enjoy the sound of breaking open a KitKat or the aroma of coconut wafting from Almond Joy? Do you love opening the bright orange wrapper of Reese’s during a football game or twiddling Twizzlers with your fingers? You are not alone; consumers look\, hear\, touch\, and smell before they taste chocolate and candy. Ramesh will share how her teams around the world have leveraged all five senses to engage with consumers and drive household penetration. \n3:15 p.m.–3:50 p.m.: Building a Sonic DNA: Capturing the Hearts and Minds of the Consumer | Nicola Grant\nsenior vice president of consumer marketing for North America\, Mastercard\nMastercard has pioneered multisensory marketing by crafting a brand identity that engages consumers across the five senses. Advertising jingles and tunes has always created strong brand associations. However\, in today’s hyper-connected world with the explosion of smart speakers and voice-only devices\, a 30-second melody is only the beginning when it comes to developing a comprehensive\, sonic brand architecture. Building universal awareness that is recognizable in all environments and that triggers a positive\, relevant\, and emotional response requires a much deeper strategy. Hear how Mastercard created—and continues to amplify and extend—the equivalent of a visual brand logo and design system in the audio space. \n3:50 p.m.–4:25 p.m.: Hot Wheels Legends | Jennifer Kobashi\, global franchise marketing and partnerships\, Hot Wheels\, Mattel\nLearn how Hot Wheels/Mattel is creating holistic and innovative consumer experiences and communities around the world in part by utilizing experiential and influencer marketing efforts. \n4:25 p.m.–4:30 p.m.: Closing Remarks from Dawn Lerman
URL:https://newsuat.fordham.edu/event/meaningful-customer-interactions-how-to-appeal-to-the-feel/
LOCATION:Zoom
CATEGORIES:Conferences and Symposia
ORGANIZER;CN="Center for Positive Marketing":MAILTO:positivemktg@fordham.edu
END:VEVENT
BEGIN:VEVENT
DTSTART;TZID=America/New_York:20220215T170000
DTEND;TZID=America/New_York:20220215T181500
DTSTAMP:20260423T031828
CREATED:20220120T222037Z
LAST-MODIFIED:20220120T222037Z
UID:10004614-1644944400-1644948900@newsuat.fordham.edu
SUMMARY:NFTs: Welcome to the Metaverse
DESCRIPTION:Join us as we bring together leaders in the NFT (non-fungible token) market to discuss the current explosion and future opportunities within this crypto segment. NFTs are a family of crypto assets that hold ownership of unique data linked to a blockchain (e.g.\, Ethereum). They are typically packaged as digital collectibles\, works of art\, music\, video game items\, real estate of virtual reality platforms\, and concert tickets. With the NFT market exceeding $27 billion\, our panelists will discuss those factors that separate this highly profitable digital market from the rest\, including: \n\nWhat drives the popularity of NFTs\nWhat gives an NFT value\nHow brands are leveraging NFTs (best use cases)\nThe relationship between NFTs\, cryptocurrencies\, blockchain\, and the metaverse\nThe difference between an NFT and a securitized NFT\n\nThe panel discussion will be moderated by Michael Maloney\, adjunct professor at Fordham Law\, and will include an introduction by Ronny Yakov\, chairman and CEO of OLB Group. The panel discussion will be followed by an audience Q&A. \nPanelists include: \n\nMichael Amar\, co-founder\, Paris Blockchain Week Summit and Paris NFT Day;\nBenjamin Cole\, Loschert Chair in Entrepreneurship\, Gabelli School of Business;\nDevika Kornbacher\, partner\, Vinson & Elkins LLP; and\nJames C. Row\, founder and managing partner\, Entoro Capital LLC.\n\nThis program is sponsored by OLB Group and presented in partnership with the Fordham University Gabelli School of Business. \nRegistration is required.
URL:https://newsuat.fordham.edu/event/nfts-welcome-to-the-metaverse/
LOCATION:Virtual
CATEGORIES:Conferences and Symposia,Lectures
ATTACH;FMTTYPE=image/jpeg:https://newsuat.fordham.edu/wp-content/uploads/2022/01/NFT-event-Fordham-graphic-retina-e1642717210435.jpeg
ORGANIZER;CN="Gabelli School of Business":MAILTO:gsbevents@fordham.edu
END:VEVENT
END:VCALENDAR