BEGIN:VCALENDAR
VERSION:2.0
PRODID:-//Fordham Now - ECPv6.15.20//NONSGML v1.0//EN
CALSCALE:GREGORIAN
METHOD:PUBLISH
X-ORIGINAL-URL:https://newsuat.fordham.edu
X-WR-CALDESC:Events for Fordham Now
REFRESH-INTERVAL;VALUE=DURATION:PT1H
X-Robots-Tag:noindex
X-PUBLISHED-TTL:PT1H
BEGIN:VTIMEZONE
TZID:America/New_York
BEGIN:DAYLIGHT
TZOFFSETFROM:-0500
TZOFFSETTO:-0400
TZNAME:EDT
DTSTART:20200308T070000
END:DAYLIGHT
BEGIN:STANDARD
TZOFFSETFROM:-0400
TZOFFSETTO:-0500
TZNAME:EST
DTSTART:20201101T060000
END:STANDARD
BEGIN:DAYLIGHT
TZOFFSETFROM:-0500
TZOFFSETTO:-0400
TZNAME:EDT
DTSTART:20210314T070000
END:DAYLIGHT
BEGIN:STANDARD
TZOFFSETFROM:-0400
TZOFFSETTO:-0500
TZNAME:EST
DTSTART:20211107T060000
END:STANDARD
BEGIN:DAYLIGHT
TZOFFSETFROM:-0500
TZOFFSETTO:-0400
TZNAME:EDT
DTSTART:20220313T070000
END:DAYLIGHT
BEGIN:STANDARD
TZOFFSETFROM:-0400
TZOFFSETTO:-0500
TZNAME:EST
DTSTART:20221106T060000
END:STANDARD
END:VTIMEZONE
BEGIN:VEVENT
DTSTART;TZID=America/New_York:20211005T110000
DTEND;TZID=America/New_York:20211005T120000
DTSTAMP:20260423T110233
CREATED:20210928T153934Z
LAST-MODIFIED:20210928T153934Z
UID:10004447-1633431600-1633435200@newsuat.fordham.edu
SUMMARY:The Economy of Communion As Stakeholder Capitalism: Exploring Religion’s Evolving Influence on Business—Session 1
DESCRIPTION:In 2019\, the Business Roundtable redefined the purpose of a corporation to promote “an economy that serves all Americans.” In 2020\, the New York Times endorsed this redefinition of corporate purpose fifty years after Milton Friedman’s editorial and amid protests for recognizing and including all. This year the Fordham University School of Law’s Institute on Religion\, Law\, and Lawyer’s Work and Tanenbaum Center for Interreligious Understanding invite you to explore how business can accomplish these humanistic goals. The Economy of Communion (EoC) is an economic model created within the Catholic tradition positing that business exists for the benefit of all people who make up a workplace\, workforce\, and marketplace. Religion has long influenced the norms and practices in which business is conducted\, iconically with the Weberian “work ethic” informing capitalism. This conference will explore the continuing evolution of its relationship with business from a religiously diverse lens over four one-hour sessions each Tuesday in October. There will also be two Thursday sessions for reflection and networking. \nSession I: The Business Purpose Question As the Question of Purpose \nSpeakers \n\nJeffrey D. Sachs is a university professor and director of the Center for Sustainable Development at Columbia University. He is president of the United Nations Sustainable Development Solutions Network and chair of the Lancet COVID-19 Commission.\nLuigino Bruni is an economics professor at Lumsa University in Rome. He is a consultant to the Dicastery for Laity\, Family\, and Life; president of the School of Civil Economy (SEC); editor-in-chief of International Review of Economics (IREC); and director of the Civil Economy Sciences at Lumsa in Rome doctoral program.
URL:https://newsuat.fordham.edu/event/the-economy-of-communion-as-stakeholder-capitalism-exploring-religions-evolving-influence-on-business-session-1/
LOCATION:Zoom
CATEGORIES:Conferences and Symposia
ORGANIZER;CN="Institute on Religion%2C Law%2C and Lawyer's Work":MAILTO:lawreligion@law.fordham.edu
END:VEVENT
BEGIN:VEVENT
DTSTART;TZID=America/New_York:20211007T153000
DTEND;TZID=America/New_York:20211007T170000
DTSTAMP:20260423T110233
CREATED:20210927T154756Z
LAST-MODIFIED:20210927T154756Z
UID:10004442-1633620600-1633626000@newsuat.fordham.edu
SUMMARY:Political Discourse in a Polarized Age
DESCRIPTION:Join us for an in-person panel discussion with: \n\nGeorge Stephanopoulos\, ABC News\nKristen Soltis Anderson\, founding partner\, Echelon Insights\nRoshni Nedungadi\, founding partner\, HIT Strategies\nRobert Talisse\, philosophy professor\, Vanderbilt University\n\nModerated by Monika McDermott\, political science professor\, Fordham\, the panel will discuss how polarization has influenced public and political discourse in America\, and what\, if anything\, might be done about it.
URL:https://newsuat.fordham.edu/event/political-discourse-in-a-polarized-age/
LOCATION:Costantino Room\, Fordham Law School\, 150 West 62nd Street\, New York\, NY\, 10023\, United States
CATEGORIES:Conferences and Symposia,Lectures
ORGANIZER;CN="Monika McDermott":MAILTO:mmcdermott@fordham.edu
GEO:40.7715478;-73.9849293
X-APPLE-STRUCTURED-LOCATION;VALUE=URI;X-ADDRESS=Costantino Room Fordham Law School 150 West 62nd Street New York NY 10023 United States;X-APPLE-RADIUS=500;X-TITLE=Fordham Law School\, 150 West 62nd Street:geo:-73.9849293,40.7715478
END:VEVENT
BEGIN:VEVENT
DTSTART;TZID=America/New_York:20211012T110000
DTEND;TZID=America/New_York:20211012T120000
DTSTAMP:20260423T110233
CREATED:20210928T150021Z
LAST-MODIFIED:20210928T150021Z
UID:10004448-1634036400-1634040000@newsuat.fordham.edu
SUMMARY:The Economy of Communion As Stakeholder Capitalism: Exploring Religion's Evolving Influence on Business—Session 2
DESCRIPTION:In 2019\, the business roundtable redefined the purpose of a corporation to promote “an economy that serves all Americans.” In 2020\, the New York Times endorsed this redefinition of corporate purpose 50 years after Milton Friedman’s editorial and amid protests for recognizing and including all. This year\, Fordham Law’s Institute on Religion\, Law\, and Lawyer’s Work\, along with Tanenbaum Center for Interreligious Understanding\, invite you to explore how business can accomplish these humanistic goals. \nThe economy of communion (EoC) is an economic model created within the Catholic tradition positing that business exists for the benefit of all people who make up a workplace\, workforce\, and marketplace. Religion has long influenced the norms and practices in which business is conducted\, iconically with the Weberian “work ethic” informing capitalism. This conference will explore the continuing evolution of its relationship with business from a religiously diverse lens over four one-hour sessions each Tuesday in October. There will also be two Thursday sessions for reflection and networking. \nSession II: Practicing Inclusion in the Contemporary Workspace \nA space for small business and middle-management practitioners of diversity and inclusion to share their experiences. \nSpeakers \n\nJohn Mundell is the president of Mundell & Associates\, founded in 1995 to provide professional earth and environmental consulting services to industry\, municipalities\, governmental agencies\, engineering firms\, and the legal community. As part of his involvement in the EoC\, Mundell currently serves on the International EoC Commission and the North American EoC Advisory Board\, which help coordinate the activities and development of the EoC at both global and national levels.\nPeter Trent has five-plus years in the IT field of network communications. He started from New York City Transit as an intern and is now a full-time employee for Netpro communications\, a full-service IT consulting company based in New York City.\nYusra Alshanqityi studied law at King Abdul Aziz University in Saudi Arabia and completed her master of laws degree program with a dual concentration in international law and justice and international dispute resolution. Years later\, after interning at the African Services Committee\, a nonprofit based in Harlem\, New York\, Alshanqityi worked on immigration and asylum cases and decided to seek an S.J.D. at Fordham Law. Alshanqityi’s doctoral research produced scholarship and proposals on labor law and labor rights for laborers to reform the sponsorship system in her native Saudi Arabia.
URL:https://newsuat.fordham.edu/event/the-economy-of-communion-as-stakeholder-capitalism-exploring-religions-evolving-influence-on-business-session-2/
LOCATION:Zoom
CATEGORIES:Conferences and Symposia
ATTACH;FMTTYPE=image/jpeg:https://newsuat.fordham.edu/wp-content/uploads/2021/09/WhatsApp-Image-2021-09-21-at-2.10.59-PM-1-e1632840940268.jpeg
ORGANIZER;CN="Institute on Religion%2C Law%2C and Lawyer's Work":MAILTO:lawreligion@law.fordham.edu
END:VEVENT
BEGIN:VEVENT
DTSTART;TZID=America/New_York:20211019T190000
DTEND;TZID=America/New_York:20211019T200000
DTSTAMP:20260423T110233
CREATED:20210928T155621Z
LAST-MODIFIED:20210928T155621Z
UID:10004449-1634670000-1634673600@newsuat.fordham.edu
SUMMARY:The Economy of Communion As Stakeholder Capitalism: Exploring Religion’s Evolving Influence on Business—Session 3
DESCRIPTION:In 2019\, the Business Roundtable redefined the purpose of a corporation to promote “an economy that serves all Americans.” In 2020\, the New York Times endorsed this redefinition of corporate purpose fifty years after Milton Friedman’s editorial and amid protests for recognizing and including all. This year the Fordham University School of Law’s Institute on Religion\, Law\, and Lawyer’s Work and Tanenbaum Center for Interreligious Understanding invite you to explore how business can accomplish these humanistic goals. The Economy of Communion (EoC) is an economic model created within the Catholic tradition positing that business exists for the benefit of all people who make up a workplace\, workforce\, and marketplace. Religion has long influenced the norms and practices in which business is conducted\, iconically with the Weberian “work ethic” informing capitalism. This conference will explore the continuing evolution of its relationship with business from a religiously diverse lens over four one-hour sessions each Tuesday in October. There will also be two Thursday sessions for reflection and networking. \nSession III: The Nuts and Bolts—EoC Business Operations and Governance \nOn How Such Businesses Function Like Businesses: Making Money and Codifying Social Purpose in Articles of Organization\, Bylaws\, and Other Governance Structures \nSpeakers \n\nKent Greenfield is an internationally recognized scholar of constitutional law and corporate governance and a law professor and Dean’s Distinguished Scholar at Boston College Law School. A graduate of Brown University and the University of Chicago Law School\, Greenfield is the author of three books\, including Corporations Are People Too (And They Should Act Like It) (Yale University Press). He is also the principal author of the two U.S. Supreme Court volumes of Moore’s Federal Practice.\nLawrence Chong serves as the group CEO of Consulus\, a global innovation-by-design firm serving leaders\, companies\, and cities in their transformation to shape a better world. Consulus is an economy of communion enterprise; founded in Singapore in 2004\, it’s now present in 16 cities from the Americas to Asia and Europe. Chong serves as the Distinguished Fellow for Global Economy at the Washington Institute for Business\, Government\, and Society. He teaches a leadership course about holistic leadership at Paul H. O’Neill School of Public and Environmental Affairs. He is the co-convenor of the Economy of Communion Asia Pacific. Active in interreligious dialogue\, he was appointed by Pope Francis in 2020 to serve as consultor on the Pontifical Council for Interreligious Dialogue.\nAndrew Gustafson is a Christian philosopher\, and professor of business ethics and society at the Heider College of Business at Creighton University in Omaha\, Nebraska\, where he has taught undergraduate and graduate courses on business ethics and business and faith since 2005. He has a strong interest in how business can contribute to the common good\, which is demonstrated in his publications on utilitarianism\, CST\, and business\, as well as works on the economy of communion. He learns a lot practically from his work as an entrepreneur\, restoring buildings and renting them out\, with help from local neighbors in need of work and community.\n\nModerator \nGregory E. Louis\, associate professor of Law\, City University of New York
URL:https://newsuat.fordham.edu/event/the-economy-of-communion-as-stakeholder-capitalism-exploring-religions-evolving-influence-on-business-session-3/
LOCATION:Zoom
CATEGORIES:Conferences and Symposia
ATTACH;FMTTYPE=image/jpeg:https://newsuat.fordham.edu/wp-content/uploads/2021/09/WhatsApp-Image-2021-09-21-at-2.10.59-PM-1-e1632840940268.jpeg
ORGANIZER;CN="Institute on Religion%2C Law%2C and Lawyer's Work":MAILTO:lawreligion@law.fordham.edu
END:VEVENT
BEGIN:VEVENT
DTSTART;TZID=America/New_York:20211020T100000
DTEND;TZID=America/New_York:20211020T150000
DTSTAMP:20260423T110233
CREATED:20210903T153012Z
LAST-MODIFIED:20210903T153012Z
UID:10004402-1634724000-1634742000@newsuat.fordham.edu
SUMMARY:2021 Fordham Women's Summit: Philanthropy | Empowerment | Change
DESCRIPTION:The Fordham Women’s Summit is a unique opportunity for Fordham alumnae\, faculty\, and friends to discuss and celebrate their achievements as leaders\, activists\, and philanthropists\, as well as attend professional and personal development sessions. \nThis year’s summit centers around the importance of compassionate and collaborative leadership. The panel discussions will examine how women can cultivate these skills to thrive in a transformed world and help their workplaces\, families\, and communities rebuild and renew through philanthropic endeavors and beyond. \nA Virtual Experience\nGiven the ongoing effects of COVID-19\, we are hosting the summit in a virtual setting for another year. We are excited for the opportunity to once again engage hundreds of members of the Fordham community from all over the world.
URL:https://newsuat.fordham.edu/event/2021-fordham-womens-summit-philanthropy-empowerment-change/
LOCATION:Virtual
CATEGORIES:Conferences and Symposia,Lectures,Networking and Career,Social
ATTACH;FMTTYPE=image/png:https://newsuat.fordham.edu/wp-content/uploads/2021/09/Women_s_Summit_Logo___SM.png
END:VEVENT
BEGIN:VEVENT
DTSTART;TZID=America/New_York:20211026T190000
DTEND;TZID=America/New_York:20211026T200000
DTSTAMP:20260423T110233
CREATED:20210928T153024Z
LAST-MODIFIED:20210928T153024Z
UID:10004450-1635274800-1635278400@newsuat.fordham.edu
SUMMARY:The Economy of Communion As Stakeholder Capitalism: Exploring Religion's Evolving Influence on Business—Session 4
DESCRIPTION:In 2019\, the Business Roundtable redefined the purpose of a corporation to promote “an economy that serves all Americans.” In 2020\, the New York Times endorsed this redefinition of corporate purpose fifty years after Milton Friedman’s editorial and amid protests for recognizing and including all. This year the Fordham University School of Law’s Institute on Religion\, Law\, and Lawyer’s Work and Tanenbaum Center for Interreligious Understanding invite you to explore how business can accomplish these humanistic goals. The Economy of Communion (EoC) is an economic model created within the Catholic tradition positing that business exists for the benefit of all people who make up a workplace\, workforce\, and marketplace. Religion has long influenced the norms and practices in which business is conducted\, iconically with the Weberian “work ethic” informing capitalism. This conference will explore the continuing evolution of its relationship with business from a religiously diverse lens over four one-hour sessions each Tuesday in October. There will also be two Thursday sessions for reflection and networking. \nSession IV: The Every Day of Communion \nExploration by and for ERG leaders and chief diversity officers of the application of the EoC in their work. \nSpeakers \n\nDenise Breaux Soignet is the director of the Tyson Center for Faith-Friendly Workplaces and an associate professor of management in the Walton College of Business at the University of Arkansas. She earned a Ph.D. in organizational behavior and human resources management from Florida State University and is a certified professional for the Society for Human Resource Management.\nSadaf Parvaiz has more than 20 years of experience in the private sector as an inclusion and diversity industry leader. She works at GHD as the first-ever global enterprise inclusion and diversity leader. Parvaiz is leading the D&I strategy across GHD with more than 200 offices globally. Parvaiz and her team were responsible for ensuring all EY talent and business processes are designed from a D&I lens.\nTeresa Ganzon took over an ailing family rural bank\, Bangko Kabayan\, in the ‘70s and\, together with her husband\, Francis\, turned it around to not only become a viable\, relevant financial institution but a regional private development bank\, today serving the needs of micro\, small and medium enterprises in the Philippine countryside. Their inspiration and guide have been the economy of communion\, which they tried to integrate into current management practices through the past 40 years. Retiring in 2018 from active management\, Ganzon is a current member of the board of directors of Bangko Kabayan and heads the BK Foundation\, which serves as the social arm of Bangko Kabayan today. She is also a co-convenor in the EOC Asia Pacific network.\nWael Metwally has served as the global co-Lead of the Interfaith EBRG since 2018. His passion revolves around supporting employees from diverse religious\, spiritual\, and cultural backgrounds to bring their whole selves to work. Over the years\, Metwally supported the expansion of the interfaith organization within Merck & MSD across the globe\, mentoring many D&I leaders.
URL:https://newsuat.fordham.edu/event/the-economy-of-communion-as-stakeholder-capitalism-exploring-religions-evolving-influence-on-business-session-4/
LOCATION:Zoom
CATEGORIES:Conferences and Symposia
ATTACH;FMTTYPE=image/jpeg:https://newsuat.fordham.edu/wp-content/uploads/2021/09/WhatsApp-Image-2021-09-21-at-2.10.59-PM-1-e1632840940268.jpeg
ORGANIZER;CN="Institute on Religion%2C Law%2C and Lawyer's Work":MAILTO:lawreligion@law.fordham.edu
END:VEVENT
END:VCALENDAR