BEGIN:VCALENDAR
VERSION:2.0
PRODID:-//Fordham Now - ECPv6.15.20//NONSGML v1.0//EN
CALSCALE:GREGORIAN
METHOD:PUBLISH
X-WR-CALNAME:Fordham Now
X-ORIGINAL-URL:https://newsuat.fordham.edu
X-WR-CALDESC:Events for Fordham Now
REFRESH-INTERVAL;VALUE=DURATION:PT1H
X-Robots-Tag:noindex
X-PUBLISHED-TTL:PT1H
BEGIN:VTIMEZONE
TZID:America/New_York
BEGIN:DAYLIGHT
TZOFFSETFROM:-0500
TZOFFSETTO:-0400
TZNAME:EDT
DTSTART:20200308T070000
END:DAYLIGHT
BEGIN:STANDARD
TZOFFSETFROM:-0400
TZOFFSETTO:-0500
TZNAME:EST
DTSTART:20201101T060000
END:STANDARD
BEGIN:DAYLIGHT
TZOFFSETFROM:-0500
TZOFFSETTO:-0400
TZNAME:EDT
DTSTART:20210314T070000
END:DAYLIGHT
BEGIN:STANDARD
TZOFFSETFROM:-0400
TZOFFSETTO:-0500
TZNAME:EST
DTSTART:20211107T060000
END:STANDARD
BEGIN:DAYLIGHT
TZOFFSETFROM:-0500
TZOFFSETTO:-0400
TZNAME:EDT
DTSTART:20220313T070000
END:DAYLIGHT
BEGIN:STANDARD
TZOFFSETFROM:-0400
TZOFFSETTO:-0500
TZNAME:EST
DTSTART:20221106T060000
END:STANDARD
END:VTIMEZONE
BEGIN:VEVENT
DTSTART;TZID=America/New_York:20210206T150000
DTEND;TZID=America/New_York:20210206T170000
DTSTAMP:20260424T012119
CREATED:20200819T154108Z
LAST-MODIFIED:20200819T154108Z
UID:10004045-1612623600-1612630800@newsuat.fordham.edu
SUMMARY:RESCHEDULED: The Ram's Den: Third-Annual Business Plan Competition
DESCRIPTION:Join us on Feb. 6\, 2021 for the Business Plan Competition and watch seven early-stage ventures with a Fordham student or graduate among their founders compete for the chance to win their share of $40\,000. You’ll also have the chance take advantage of the opportunity to network with potential investors\, mentors\, and advisers. \nWinners will be chosen by a panel of judges drawn from the venture capital and startup communities. \nThe application deadline closed on Sept. 18\, but interested parties are encouraged to register to watch and participate in the day. \nPlease note this event was rescheduled from December 5\, 2020 to February 6\, 2021.
URL:https://newsuat.fordham.edu/event/the-rams-den-third-annual-business-plan-competition/
LOCATION:Zoom
CATEGORIES:Conferences and Symposia
ATTACH;FMTTYPE=image/jpeg:https://newsuat.fordham.edu/wp-content/uploads/2020/08/rams-den-3.jpg
ORGANIZER;CN="Fordham Foundry":MAILTO:fordhamfoundry@fordham.edu
END:VEVENT
BEGIN:VEVENT
DTSTART;TZID=America/New_York:20210218T180000
DTEND;TZID=America/New_York:20210218T193000
DTSTAMP:20260424T012119
CREATED:20210107T215229Z
LAST-MODIFIED:20210107T215229Z
UID:10004162-1613671200-1613676600@newsuat.fordham.edu
SUMMARY:Black History Month Webinar: Black Lives Matter and the American Political Landscape
DESCRIPTION:Please join us for a Black History Month webinar moderated by Laurie Lambert\, an associate professor of African and African American studies at Fordham. \nPanelists \n\nChristina Greer\, associate professor of political science\nMichele Prettyman\, associate professor of communication and media studies\nCatherine Powell\, professor of law
URL:https://newsuat.fordham.edu/event/black-history-month-webinar-black-lives-matter-and-the-american-political-landscape/
LOCATION:Zoom
CATEGORIES:Conferences and Symposia,Lectures
ORGANIZER;CN="Department of African and African-American Studies":MAILTO:aaas@fordham.edu
END:VEVENT
BEGIN:VEVENT
DTSTART;TZID=America/New_York:20210225T120000
DTEND;TZID=America/New_York:20210225T130000
DTSTAMP:20260424T012119
CREATED:20210217T154857Z
LAST-MODIFIED:20210217T154857Z
UID:10004235-1614254400-1614258000@newsuat.fordham.edu
SUMMARY:Native American Communities and the Clerical Sexual Abuse Crisis
DESCRIPTION:In the spring semester\, the Taking Responsibility: Jesuit Institutions Confront the Causes and Legacy of Clergy Sexual Abuse initiative at Fordham University will host a series of online dialogues to examine the clerical sexual abuse crisis in the United States in multiple under-studied communities. These dialogues will bring together scholars\, journalists\, ministers\, and community members to raise questions and highlight issues that may help us better understand how sexual abuse has been experienced in historically marginalized Catholic communities. Each moderated conversation will be followed by a period for audience questions and comments.
URL:https://newsuat.fordham.edu/event/native-american-communities-and-the-clerical-sexual-abuse-crisis/
LOCATION:Online Webinar
CATEGORIES:Conferences and Symposia,Lectures
ORGANIZER;CN="Taking Responsibility%3A Jesuit Educational Institutions Confront the Causes and Legacy of Clergy Sexual Abuse":MAILTO:takingresponsibility@fordham.edu
END:VEVENT
END:VCALENDAR