BEGIN:VCALENDAR
VERSION:2.0
PRODID:-//Fordham Now - ECPv6.15.20//NONSGML v1.0//EN
CALSCALE:GREGORIAN
METHOD:PUBLISH
X-WR-CALNAME:Fordham Now
X-ORIGINAL-URL:https://newsuat.fordham.edu
X-WR-CALDESC:Events for Fordham Now
REFRESH-INTERVAL;VALUE=DURATION:PT1H
X-Robots-Tag:noindex
X-PUBLISHED-TTL:PT1H
BEGIN:VTIMEZONE
TZID:America/New_York
BEGIN:DAYLIGHT
TZOFFSETFROM:-0500
TZOFFSETTO:-0400
TZNAME:EDT
DTSTART:20190310T070000
END:DAYLIGHT
BEGIN:STANDARD
TZOFFSETFROM:-0400
TZOFFSETTO:-0500
TZNAME:EST
DTSTART:20191103T060000
END:STANDARD
BEGIN:DAYLIGHT
TZOFFSETFROM:-0500
TZOFFSETTO:-0400
TZNAME:EDT
DTSTART:20200308T070000
END:DAYLIGHT
BEGIN:STANDARD
TZOFFSETFROM:-0400
TZOFFSETTO:-0500
TZNAME:EST
DTSTART:20201101T060000
END:STANDARD
BEGIN:DAYLIGHT
TZOFFSETFROM:-0500
TZOFFSETTO:-0400
TZNAME:EDT
DTSTART:20210314T070000
END:DAYLIGHT
BEGIN:STANDARD
TZOFFSETFROM:-0400
TZOFFSETTO:-0500
TZNAME:EST
DTSTART:20211107T060000
END:STANDARD
END:VTIMEZONE
BEGIN:VEVENT
DTSTART;TZID=America/New_York:20201209T120000
DTEND;TZID=America/New_York:20201209T131500
DTSTAMP:20260424T042736
CREATED:20201111T143259Z
LAST-MODIFIED:20201111T143259Z
UID:10004140-1607515200-1607519700@newsuat.fordham.edu
SUMMARY:Assessing Telemental Health: What Works Best for Traumatized Children and Families?
DESCRIPTION:Join us for a discussion and assessment of telemental health and the implications it has for traumatized children and families. This event will feature a panel of speakers\, including Regan Stewart\, Ph.D.\, assistant professor\, Medical University of South Carolina; Allen Lipscomb\, Ph.D.\, associate professor\, California State University\, Northridge; and Melinda Konigsberg\, Ph.D.\, senior vice president of mental health and medical services\, Little Flower Children and Family Services of NYC. \nThe panel will be moderated by Shirley Gatenio Gabel\, Ph.D.\, Quaranta Chair on Social Justice for Children at Fordham’s Graduate School of Social Service.
URL:https://newsuat.fordham.edu/event/assessing-telemental-health-what-works-best-for-traumatized-children-and-families/
LOCATION:Zoom
CATEGORIES:Conferences and Symposia,Lectures
END:VEVENT
END:VCALENDAR