BEGIN:VCALENDAR
VERSION:2.0
PRODID:-//Fordham Now - ECPv6.15.20//NONSGML v1.0//EN
CALSCALE:GREGORIAN
METHOD:PUBLISH
X-ORIGINAL-URL:https://newsuat.fordham.edu
X-WR-CALDESC:Events for Fordham Now
REFRESH-INTERVAL;VALUE=DURATION:PT1H
X-Robots-Tag:noindex
X-PUBLISHED-TTL:PT1H
BEGIN:VTIMEZONE
TZID:America/New_York
BEGIN:DAYLIGHT
TZOFFSETFROM:-0500
TZOFFSETTO:-0400
TZNAME:EDT
DTSTART:20250309T070000
END:DAYLIGHT
BEGIN:STANDARD
TZOFFSETFROM:-0400
TZOFFSETTO:-0500
TZNAME:EST
DTSTART:20251102T060000
END:STANDARD
BEGIN:DAYLIGHT
TZOFFSETFROM:-0500
TZOFFSETTO:-0400
TZNAME:EDT
DTSTART:20260308T070000
END:DAYLIGHT
BEGIN:STANDARD
TZOFFSETFROM:-0400
TZOFFSETTO:-0500
TZNAME:EST
DTSTART:20261101T060000
END:STANDARD
BEGIN:DAYLIGHT
TZOFFSETFROM:-0500
TZOFFSETTO:-0400
TZNAME:EDT
DTSTART:20270314T070000
END:DAYLIGHT
BEGIN:STANDARD
TZOFFSETFROM:-0400
TZOFFSETTO:-0500
TZNAME:EST
DTSTART:20271107T060000
END:STANDARD
END:VTIMEZONE
BEGIN:VEVENT
DTSTART;TZID=America/New_York:20260319T180000
DTEND;TZID=America/New_York:20260319T190000
DTSTAMP:20260419T080023
CREATED:20251204T144633Z
LAST-MODIFIED:20251204T144633Z
UID:10013892-1773943200-1773946800@newsuat.fordham.edu
SUMMARY:Pope Leo XIV: Assessing His First Year as Pontiff
DESCRIPTION:A panel of experts and friends of Pope Leo will discuss Robert Prevost’s life before he became pope\, why he was elected\, what this first year showed us\, and what his papacy will mean for the Catholic Church\, and for the world. \nThe Rev. Arthur Purcaro\, OSA\, is a Bronx native and Augustinian priest who got to know Robert Prevost\, a fellow Augustinian\, when they both worked as missionaries in Peru starting in the 1980s. \nEmilce Cuda is an Argentine-born theologian and political scientist who serves as secretary of the Vatican’s Pontifical Commission for Latin America\, which was headed by Cardinal Prevost before he was elected pope. \nMichael Sean Winters is a columnist for National Catholic Reporter who covered the 2025 conclave in Rome and is one of the most knowledgeable commentators on Catholicism in the United States. \nDavid Gibson\, director of the Center on Religion and Culture\, will moderate the discussion and questions from the audience. \nThis lecture is made possible by the Russo Family Foundation in memory of Wanda and Robert Russo Sr.\, M.D.\, FCRH ’39.
URL:https://newsuat.fordham.edu/event/pope-leo-xiv-assessing-his-first-year-as-pontiff/
LOCATION:Duane Library\, Tognino Hall\, 2nd Floor\, 441 East Fordham Road\, Bronx\, NY\, 10458\, United States
CATEGORIES:Catholic Life,Cultural,Lectures
ATTACH;FMTTYPE=image/jpeg:https://newsuat.fordham.edu/wp-content/uploads/2025/12/1-AP-Leo-1-scaled.jpg
GEO:40.861203;-73.8892181
X-APPLE-STRUCTURED-LOCATION;VALUE=URI;X-ADDRESS=Duane Library Tognino Hall 2nd Floor 441 East Fordham Road Bronx NY 10458 United States;X-APPLE-RADIUS=500;X-TITLE=441 East Fordham Road:geo:-73.8892181,40.861203
END:VEVENT
END:VCALENDAR