BEGIN:VCALENDAR
VERSION:2.0
PRODID:-//Fordham Now - ECPv6.15.20//NONSGML v1.0//EN
CALSCALE:GREGORIAN
METHOD:PUBLISH
X-WR-CALNAME:Fordham Now
X-ORIGINAL-URL:https://newsuat.fordham.edu
X-WR-CALDESC:Events for Fordham Now
REFRESH-INTERVAL;VALUE=DURATION:PT1H
X-Robots-Tag:noindex
X-PUBLISHED-TTL:PT1H
BEGIN:VTIMEZONE
TZID:America/New_York
BEGIN:DAYLIGHT
TZOFFSETFROM:-0500
TZOFFSETTO:-0400
TZNAME:EDT
DTSTART:20220313T070000
END:DAYLIGHT
BEGIN:STANDARD
TZOFFSETFROM:-0400
TZOFFSETTO:-0500
TZNAME:EST
DTSTART:20221106T060000
END:STANDARD
BEGIN:DAYLIGHT
TZOFFSETFROM:-0500
TZOFFSETTO:-0400
TZNAME:EDT
DTSTART:20230312T070000
END:DAYLIGHT
BEGIN:STANDARD
TZOFFSETFROM:-0400
TZOFFSETTO:-0500
TZNAME:EST
DTSTART:20231105T060000
END:STANDARD
BEGIN:DAYLIGHT
TZOFFSETFROM:-0500
TZOFFSETTO:-0400
TZNAME:EDT
DTSTART:20240310T070000
END:DAYLIGHT
BEGIN:STANDARD
TZOFFSETFROM:-0400
TZOFFSETTO:-0500
TZNAME:EST
DTSTART:20241103T060000
END:STANDARD
END:VTIMEZONE
BEGIN:VEVENT
DTSTART;TZID=America/New_York:20230810T173000
DTEND;TZID=America/New_York:20230810T220000
DTSTAMP:20260419T160203
CREATED:20230515T183825Z
LAST-MODIFIED:20230515T183825Z
UID:10005122-1691688600-1691704800@newsuat.fordham.edu
SUMMARY:Alumni Chapter of Philadelphia: 2023 Phillies Game Outing
DESCRIPTION:Join the Alumni Chapter of Philadelphia as the Philadelphia Phillies host the Washington Nationals. Friends and family are welcome to join us. Seats are located in section 412 for $26 each. All tickets are electronic and will be forwarded via the MLB Ballpark app. \nThe game starts at 6:40 p.m. For those interested in meeting before the game\, Fordham folks will be at Pass and Stow (inside the stadium by the third base gate) at 5:30 p.m. There will be a selection of pre-game snacks provided by the alumni office. \nSpace is limited\, and registrations will be honored on a first-come\, first-served basis. We have just 25 tickets reserved for our group\, so register before they sell out! RSVP by August 10. \nPlease consider making a gift of $25 or more to support Cura Personalis | For Every Fordham Student.
URL:https://newsuat.fordham.edu/event/alumni-chapter-of-philadelphia-2023-phillies-game-outing/
LOCATION:Citizens Bank Park\, 1 Citizens Bank Way\, Philadelphia\, PA\, 19148\, United States
CATEGORIES:Athletics,Social
ORGANIZER;CN="Andrew Fallon":MAILTO:andrew.t.fallon@gmail.com
END:VEVENT
BEGIN:VEVENT
DTSTART;TZID=America/New_York:20230812T190000
DTEND;TZID=America/New_York:20230812T220000
DTSTAMP:20260419T160203
CREATED:20230608T161348Z
LAST-MODIFIED:20230608T161348Z
UID:10005137-1691866800-1691877600@newsuat.fordham.edu
SUMMARY:Alumni Chapter of Charlotte: 2023 Knights Baseball Outing
DESCRIPTION:Join the Alumni Chapter of Charlotte as the Charlotte Knights host the Gwinnett Stripers. Friends and family are welcome to join us. Seats are located on the first base side of the field in section 105 for $22 each. \nSpace is limited\, and registrations will be honored on a first-come\, first-served basis. We have just 30 tickets reserved for our group\, so register before they sell out! RSVP by August 10. \nPlease note: All tickets are electronic and will be forwarded to the email used by the primary registrant. \nPlease consider making a gift of $25 or more to support Cura Personalis | For Every Fordham Student.
URL:https://newsuat.fordham.edu/event/alumni-chapter-of-charlotte-2023-knights-baseball-outing/
LOCATION:Truist Field\, 324 Mint Street\, Charlotte\, North Carolina\, 28202\, United States
CATEGORIES:Athletics,Social
END:VEVENT
END:VCALENDAR